BEGIN:VCALENDAR
VERSION:2.0
PRODID:-//Revival Event Venue - Toronto's Premiere Boutique Event Space - ECPv6.15.20//NONSGML v1.0//EN
CALSCALE:GREGORIAN
METHOD:PUBLISH
X-ORIGINAL-URL:https://www.revivaleventvenue.ca
X-WR-CALDESC:Events for Revival Event Venue - Toronto's Premiere Boutique Event Space
REFRESH-INTERVAL;VALUE=DURATION:PT1H
X-Robots-Tag:noindex
X-PUBLISHED-TTL:PT1H
BEGIN:VTIMEZONE
TZID:America/Toronto
BEGIN:DAYLIGHT
TZOFFSETFROM:-0500
TZOFFSETTO:-0400
TZNAME:EDT
DTSTART:20230312T070000
END:DAYLIGHT
BEGIN:STANDARD
TZOFFSETFROM:-0400
TZOFFSETTO:-0500
TZNAME:EST
DTSTART:20231105T060000
END:STANDARD
BEGIN:DAYLIGHT
TZOFFSETFROM:-0500
TZOFFSETTO:-0400
TZNAME:EDT
DTSTART:20240310T070000
END:DAYLIGHT
BEGIN:STANDARD
TZOFFSETFROM:-0400
TZOFFSETTO:-0500
TZNAME:EST
DTSTART:20241103T060000
END:STANDARD
BEGIN:DAYLIGHT
TZOFFSETFROM:-0500
TZOFFSETTO:-0400
TZNAME:EDT
DTSTART:20250309T070000
END:DAYLIGHT
BEGIN:STANDARD
TZOFFSETFROM:-0400
TZOFFSETTO:-0500
TZNAME:EST
DTSTART:20251102T060000
END:STANDARD
END:VTIMEZONE
BEGIN:VEVENT
DTSTART;TZID=America/Toronto:20240715T220000
DTEND;TZID=America/Toronto:20240716T020000
DTSTAMP:20260425T102953
CREATED:20240629T032045Z
LAST-MODIFIED:20240629T032045Z
UID:5614-1721080800-1721095200@www.revivaleventvenue.ca
SUMMARY:Halfa YYZ featuring Pekodjinn
DESCRIPTION:Legendary Tunisian-Swiss DJ\, powerhouse producer\, beatmaker\, and composer-is performing in the GTA for the very first time. \nRaw maghrebian electronic afrohouse groovy music. Energetic dj sets and deep productions between batida\, maghrebian melodies\, heavy 808’s and baile funk.\n“Pekodjinn has made himself one of the most influential producers in the Geneva subculture scene. Injecting his Tunisian heritage into the rap culture he grew in being a graffiti artist\, he’s delivering a futuristic mix where darbukas meet trap influences\, traditional chants melt in batida and percussions are distorted by dub effects. A unique sound where the youth of the continent and the youth of diaspora liberate themselves of colonialism\, imperialism\, and exoticism to build up a conscious sound to fight back the Western influences.If you want to know how’s the guy sounds live\, just check his latest DJ Set for Boiler Room\, heavy tunes\, heavy vibe… a newcomer to keep an eye on.” – bio. \n \n31RDG · 31RDG01
URL:https://www.revivaleventvenue.ca/event/halfa-yyz-featuring-pekodjinn/
LOCATION:Revival Event Venue\, 783 College Street\, Toronto\, Ontario\, M6G 1C5\, Canada
ATTACH;FMTTYPE=image/jpeg:https://www.revivaleventvenue.ca/wp-content/uploads/2024/06/Pekodjinn2-July15.jpg
END:VEVENT
END:VCALENDAR