BEGIN:VCALENDAR
VERSION:2.0
PRODID:-//Revival Event Venue - Toronto's Premiere Boutique Event Space - ECPv6.15.20//NONSGML v1.0//EN
CALSCALE:GREGORIAN
METHOD:PUBLISH
X-WR-CALNAME:Revival Event Venue - Toronto's Premiere Boutique Event Space
X-ORIGINAL-URL:https://www.revivaleventvenue.ca
X-WR-CALDESC:Events for Revival Event Venue - Toronto's Premiere Boutique Event Space
REFRESH-INTERVAL;VALUE=DURATION:PT1H
X-Robots-Tag:noindex
X-PUBLISHED-TTL:PT1H
BEGIN:VTIMEZONE
TZID:America/Toronto
BEGIN:DAYLIGHT
TZOFFSETFROM:-0500
TZOFFSETTO:-0400
TZNAME:EDT
DTSTART:20230312T070000
END:DAYLIGHT
BEGIN:STANDARD
TZOFFSETFROM:-0400
TZOFFSETTO:-0500
TZNAME:EST
DTSTART:20231105T060000
END:STANDARD
BEGIN:DAYLIGHT
TZOFFSETFROM:-0500
TZOFFSETTO:-0400
TZNAME:EDT
DTSTART:20240310T070000
END:DAYLIGHT
BEGIN:STANDARD
TZOFFSETFROM:-0400
TZOFFSETTO:-0500
TZNAME:EST
DTSTART:20241103T060000
END:STANDARD
BEGIN:DAYLIGHT
TZOFFSETFROM:-0500
TZOFFSETTO:-0400
TZNAME:EDT
DTSTART:20250309T070000
END:DAYLIGHT
BEGIN:STANDARD
TZOFFSETFROM:-0400
TZOFFSETTO:-0500
TZNAME:EST
DTSTART:20251102T060000
END:STANDARD
END:VTIMEZONE
BEGIN:VEVENT
DTSTART;TZID=America/Toronto:20240615T210000
DTEND;TZID=America/Toronto:20240616T020000
DTSTAMP:20260425T202422
CREATED:20240513T184407Z
LAST-MODIFIED:20240513T184407Z
UID:5540-1718485200-1718503200@www.revivaleventvenue.ca
SUMMARY:Serata - The Afterparty
DESCRIPTION:We’re happy to return to Revival on College Street for one of the most exciting festivals during Italian Heritage Month\, The Taste of Little Italy! On June 15th\, come down for the day to enjoy the street festival\, then join us at our SERATA AFTERPARTY from 9pm – late. \nWhat’s Included with Your Ticket: \nYour Serata ticket is entry to a night that defies expectations. We’re bringing Italy back to the heart of Little Italy! \n☕ ZAZA Espresso Lounge: As the night unfolds\, enjoy a signature late night espresso coupled with a selection of complimentary dolci\, brought to you by ZAZA Espresso Bar. Perfect for keeping your energy high as you dance the night away. \n📸 Photo Booth + Interactive Installations: Step in\, strike a pose\, and take home a snapshot of your favourite Serata memories with our photo booth experience. Plus\, immerse yourself in our interactive art installation\, where you can leave your mark on a collaborative\, dynamic art piece. \n🎶 All-Italian DJ Set: Get ready to dance to a brand new Italian music set by DJ Pulsar\, featuring timeless classics to the latest chart-topping hits. Let the music transport you to the lively nighclubs of Italy where the party never stops. \n🌟 NOTA BENE: \n\nMust be of legal drinking age to attend. Valid government ID will be checked at the door.\nLimited tickets available! Secure your spot for a night of Italian indulgence\, great music\, and an unforgettable atmosphere!\nArrive early as complimentary treats are offered on a first-come\, first-served basis.
URL:https://www.revivaleventvenue.ca/event/serata-the-afterparty/
LOCATION:Revival Event Venue\, 783 College Street\, Toronto\, Ontario\, M6G 1C5\, Canada
ATTACH;FMTTYPE=image/png:https://www.revivaleventvenue.ca/wp-content/uploads/2024/05/Serata-June15.png
END:VEVENT
END:VCALENDAR