BEGIN:VCALENDAR
VERSION:2.0
PRODID:-//Revival Event Venue - Toronto's Premiere Boutique Event Space - ECPv6.15.20//NONSGML v1.0//EN
CALSCALE:GREGORIAN
METHOD:PUBLISH
X-ORIGINAL-URL:https://www.revivaleventvenue.ca
X-WR-CALDESC:Events for Revival Event Venue - Toronto's Premiere Boutique Event Space
REFRESH-INTERVAL;VALUE=DURATION:PT1H
X-Robots-Tag:noindex
X-PUBLISHED-TTL:PT1H
BEGIN:VTIMEZONE
TZID:America/Toronto
BEGIN:DAYLIGHT
TZOFFSETFROM:-0500
TZOFFSETTO:-0400
TZNAME:EDT
DTSTART:20240310T070000
END:DAYLIGHT
BEGIN:STANDARD
TZOFFSETFROM:-0400
TZOFFSETTO:-0500
TZNAME:EST
DTSTART:20241103T060000
END:STANDARD
BEGIN:DAYLIGHT
TZOFFSETFROM:-0500
TZOFFSETTO:-0400
TZNAME:EDT
DTSTART:20250309T070000
END:DAYLIGHT
BEGIN:STANDARD
TZOFFSETFROM:-0400
TZOFFSETTO:-0500
TZNAME:EST
DTSTART:20251102T060000
END:STANDARD
BEGIN:DAYLIGHT
TZOFFSETFROM:-0500
TZOFFSETTO:-0400
TZNAME:EDT
DTSTART:20260308T070000
END:DAYLIGHT
BEGIN:STANDARD
TZOFFSETFROM:-0400
TZOFFSETTO:-0500
TZNAME:EST
DTSTART:20261101T060000
END:STANDARD
END:VTIMEZONE
BEGIN:VEVENT
DTSTART;TZID=America/Toronto:20251127T180000
DTEND;TZID=America/Toronto:20251127T233000
DTSTAMP:20260424T104125
CREATED:20251124T203422Z
LAST-MODIFIED:20251124T203451Z
UID:6319-1764266400-1764286200@www.revivaleventvenue.ca
SUMMARY:Legacy in Bloom – Complimentary Industry Access
DESCRIPTION:Overview\n\n\n\n\n\nExclusive Tickets for Toronto’s Event\, Hospitality & Tourism Professionals\n\n\n\n✨ A Night of Purpose\, Creativity & Industry Connection\nToronto’s event professionals know better than anyone: the most powerful events are the ones that change lives. \nLegacy in Bloom is a celebration of 25 years of Aangen’s community impact — and an inside look at how a small-but-mighty nonprofit has quietly transformed the lives of thousands across the city. \nThis link offers complimentary access for event planners\, tourism professionals\, cultural producers\, and hospitality leaders who want to experience a night where impact\, creativity\, and connection collide. \n❤️ Why Aangen Matters — and Why We’re Celebrating 25 Years\nAangen isn’t a traditional nonprofit.\nIt’s a social enterprise built on a simple belief:\nWhen you nourish people with dignity\, you change everything. \nOver 25 years\, Aangen has: \n\nProvided over 3.1 million meals to families facing food insecurity\nCreated more than 1\,000 paying jobs for people overcoming barriers\nDiverted over 992 tons of food waste from landfills\nOffset over 1\,042 tons of CO2 emissions\nBuilt a circular economy where 100% of donated funds go directly to people\, because all admin costs are covered through their own revenue-generating social enterprises\n\nThis gala is a celebration of that legacy — and a spotlight on the next generation of community support\, sustainability\, and dignity-centered impact. \nEvent professionals know the power of community.\nLegacy in Bloom shows what happens when an entire city builds one together. \n🌟 Why Event & Tourism Professionals Should Attend\n1. Real Impact\, Real Stories\nGet inspired by frontline insights from leaders in: \n\nsocial enterprise\ncommunity food systems\njob creation\nsustainability\nnewcomer support\nyouth empowerment\nfinancial legacy + giving\n\nThese stories are powerful content for anyone who designs experiences\, tells stories\, or shapes community engagement. \n2. Network with Industry + Purpose-Driven Leaders\nMeet entrepreneurs\, donors\, cultural partners\, corporate leaders\, and hospitality professionals who care about more than business-as-usual. \nThese are high-quality relationships and potential collaborators for future projects. \n3. A New Event Format to Borrow From\nExperience a fresh approach to inclusive\, mission-driven events: \n\n“Kitchen Table Chat” conversations\nRotating experiential zones\nImmersive food + art activations\nEmotional storytelling moments\nA blend of gala + festival energy\nLive DJ + late-night punk set\n\nPerfect inspiration for planners\, producers\, and creators. \n4. Support Meaningful\, Local Impact\nBy attending\, you’re helping amplify Aangen’s work — feeding families\, employing people facing barriers\, and reducing waste — all through sustainable\, community-driven solutions. \n🎶 Evening Lineup\n\nOpening Remarks: Councillor Alejandra Bravo & MPP Alexa Gilmour\nHosted by: Kimberly Carroll — TV personality & leadership coach\nKitchen Table Chat: Real conversations on legacy\, generosity & community\nLive Entertainment:\nDJ Marl6ve\nSuper Not Okay – Punk Band (10:30 PM–Midnight)\nFood & Experiences:\nGourmet vegan food\, signature cocktails\, art activations\, networking spaces\n\n🎟️ Ticket Details\nThis complimentary ticket link is exclusively for: \n\nevent planners & producers\ntourism & hospitality professionals\nvenue partners & suppliers\narts & culture creators\ncommunity connectors\n\nRegular tickets are $125 — your ticket is free thanks to our industry sponsor. \nPlease register to confirm your spot.\nYour name will be added to the guest list for express check-in. \n✨ Join us for a night that honors 25 years of community impact — and inspires the next generation of Toronto events.
URL:https://www.revivaleventvenue.ca/event/legacy-in-bloom-complimentary-industry-access/
LOCATION:Revival Event Venue\, 783 College Street\, Toronto\, Ontario\, M6G 1C5\, Canada
ATTACH;FMTTYPE=image/jpeg:https://www.revivaleventvenue.ca/wp-content/uploads/2025/11/LegacyInBloom-Nov27.jpg
ORGANIZER;CN="Aangen":MAILTO:info@aangen.com
END:VEVENT
END:VCALENDAR