BEGIN:VCALENDAR
VERSION:2.0
PRODID:-//Revival Event Venue - Toronto's Premiere Boutique Event Space - ECPv6.15.20//NONSGML v1.0//EN
CALSCALE:GREGORIAN
METHOD:PUBLISH
X-ORIGINAL-URL:https://www.revivaleventvenue.ca
X-WR-CALDESC:Events for Revival Event Venue - Toronto's Premiere Boutique Event Space
REFRESH-INTERVAL;VALUE=DURATION:PT1H
X-Robots-Tag:noindex
X-PUBLISHED-TTL:PT1H
BEGIN:VTIMEZONE
TZID:America/Toronto
BEGIN:DAYLIGHT
TZOFFSETFROM:-0500
TZOFFSETTO:-0400
TZNAME:EDT
DTSTART:20230312T070000
END:DAYLIGHT
BEGIN:STANDARD
TZOFFSETFROM:-0400
TZOFFSETTO:-0500
TZNAME:EST
DTSTART:20231105T060000
END:STANDARD
BEGIN:DAYLIGHT
TZOFFSETFROM:-0500
TZOFFSETTO:-0400
TZNAME:EDT
DTSTART:20240310T070000
END:DAYLIGHT
BEGIN:STANDARD
TZOFFSETFROM:-0400
TZOFFSETTO:-0500
TZNAME:EST
DTSTART:20241103T060000
END:STANDARD
BEGIN:DAYLIGHT
TZOFFSETFROM:-0500
TZOFFSETTO:-0400
TZNAME:EDT
DTSTART:20250309T070000
END:DAYLIGHT
BEGIN:STANDARD
TZOFFSETFROM:-0400
TZOFFSETTO:-0500
TZNAME:EST
DTSTART:20251102T060000
END:STANDARD
END:VTIMEZONE
BEGIN:VEVENT
DTSTART;TZID=America/Toronto:20240223T220000
DTEND;TZID=America/Toronto:20240224T030000
DTSTAMP:20260425T205947
CREATED:20240207T155824Z
LAST-MODIFIED:20240207T160523Z
UID:5321-1708725600-1708743600@www.revivaleventvenue.ca
SUMMARY:Where People Stay At ~ down in the Stone Lounge
DESCRIPTION:Anniversary Party with sounds by Teray\, HeyHey SK\, La Sappe\, Sudaneeyaa. \nGet your groove on\, down in the Stone Lounge\, from some of the crew who brought us the Gumbo Party. Bringing us beautiful blend of hip hop\, RnB\, soul\, world\, rap\, afrobeats\, deep house and more. \n 
URL:https://www.revivaleventvenue.ca/event/where-people-stay-at-down-in-the-stone-lounge/
LOCATION:The Stone Lounge\, downstairs at Revival\, 783 College Street\, basement\, Toronto\, Canada
ATTACH;FMTTYPE=image/jpeg:https://www.revivaleventvenue.ca/wp-content/uploads/2024/02/WherePeopleStay-Feb23sqr.jpg
END:VEVENT
END:VCALENDAR