BEGIN:VCALENDAR
VERSION:2.0
PRODID:-//Revival Event Venue - Toronto's Premiere Boutique Event Space - ECPv6.15.20//NONSGML v1.0//EN
CALSCALE:GREGORIAN
METHOD:PUBLISH
X-WR-CALNAME:Revival Event Venue - Toronto's Premiere Boutique Event Space
X-ORIGINAL-URL:https://www.revivaleventvenue.ca
X-WR-CALDESC:Events for Revival Event Venue - Toronto's Premiere Boutique Event Space
REFRESH-INTERVAL;VALUE=DURATION:PT1H
X-Robots-Tag:noindex
X-PUBLISHED-TTL:PT1H
BEGIN:VTIMEZONE
TZID:America/Toronto
BEGIN:DAYLIGHT
TZOFFSETFROM:-0500
TZOFFSETTO:-0400
TZNAME:EDT
DTSTART:20240310T070000
END:DAYLIGHT
BEGIN:STANDARD
TZOFFSETFROM:-0400
TZOFFSETTO:-0500
TZNAME:EST
DTSTART:20241103T060000
END:STANDARD
BEGIN:DAYLIGHT
TZOFFSETFROM:-0500
TZOFFSETTO:-0400
TZNAME:EDT
DTSTART:20250309T070000
END:DAYLIGHT
BEGIN:STANDARD
TZOFFSETFROM:-0400
TZOFFSETTO:-0500
TZNAME:EST
DTSTART:20251102T060000
END:STANDARD
BEGIN:DAYLIGHT
TZOFFSETFROM:-0500
TZOFFSETTO:-0400
TZNAME:EDT
DTSTART:20260308T070000
END:DAYLIGHT
BEGIN:STANDARD
TZOFFSETFROM:-0400
TZOFFSETTO:-0500
TZNAME:EST
DTSTART:20261101T060000
END:STANDARD
END:VTIMEZONE
BEGIN:VEVENT
DTSTART;TZID=America/Toronto:20250731T220000
DTEND;TZID=America/Toronto:20250801T030000
DTSTAMP:20260424T045152
CREATED:20250724T185534Z
LAST-MODIFIED:20250724T185534Z
UID:6195-1753999200-1754017200@www.revivaleventvenue.ca
SUMMARY:Soca & Friends
DESCRIPTION:Carnival Thursday enjoy Soca & Friends. \nFeaturing talent:\n\nFlex Got Next\nSelectah Kerry\nMajor Penny\nInt’l Stephen\nJr. Cruiza\nSeleta JB\nCredable\nDJ Cze\nDJ Lewis\nPatrick Hypeman\nLurbz\nJoshua Lucas\nMr Stanfield\nSB Promo\n\n$40 advanced tickets or get a Friends Pack: 4 for $140. \nThis is a 19+ event.
URL:https://www.revivaleventvenue.ca/event/soca-friends-3/
LOCATION:Revival Event Venue\, 783 College Street\, Toronto\, Ontario\, M6G 1C5\, Canada
ATTACH;FMTTYPE=image/jpeg:https://www.revivaleventvenue.ca/wp-content/uploads/2025/07/SocaAndFriends-July31.jpg
ORGANIZER;CN="Flexx Music Live":MAILTO:flexxmusiclive@gmail.com
END:VEVENT
BEGIN:VEVENT
DTSTART;TZID=America/Toronto:20250801T220000
DTEND;TZID=America/Toronto:20250802T020000
DTSTAMP:20260424T045152
CREATED:20250628T014011Z
LAST-MODIFIED:20250801T161627Z
UID:6149-1754085600-1754100000@www.revivaleventvenue.ca
SUMMARY:2000s Party - Caribana Yonge St. Edition
DESCRIPTION:If you Remember Caribana Friday Night on Yonge. St\, This Party’s for You! We’re moving that Vibe and that Era inside REVIVAL Night Club! \n2NICE x KAMAKACCI JUICE x C4L x DJ DK Present… \nThe2000sParty Cariban Yonge St. Edition\, Bringing back the Yonge St. Friday Night Walk VIBE. \nPlaying the Best in 2000s HIP HOP\, R&B\, DANCEHALL\, SOCA & CLUB ANTHEMS \nEarly Bird Tickets available for a Limited Time. This is a 21+ event.
URL:https://www.revivaleventvenue.ca/event/2000s-party-caribana-yonge-st-edition/
LOCATION:Revival Event Venue\, 783 College Street\, Toronto\, Ontario\, M6G 1C5\, Canada
ATTACH;FMTTYPE=image/jpeg:https://www.revivaleventvenue.ca/wp-content/uploads/2025/06/Jadakiss-Aug1.jpg
END:VEVENT
END:VCALENDAR