BEGIN:VCALENDAR
VERSION:2.0
PRODID:-//Revival Event Venue - Toronto's Premiere Boutique Event Space - ECPv6.15.20//NONSGML v1.0//EN
CALSCALE:GREGORIAN
METHOD:PUBLISH
X-WR-CALNAME:Revival Event Venue - Toronto's Premiere Boutique Event Space
X-ORIGINAL-URL:https://www.revivaleventvenue.ca
X-WR-CALDESC:Events for Revival Event Venue - Toronto's Premiere Boutique Event Space
REFRESH-INTERVAL;VALUE=DURATION:PT1H
X-Robots-Tag:noindex
X-PUBLISHED-TTL:PT1H
BEGIN:VTIMEZONE
TZID:America/Toronto
BEGIN:DAYLIGHT
TZOFFSETFROM:-0500
TZOFFSETTO:-0400
TZNAME:EDT
DTSTART:20250309T070000
END:DAYLIGHT
BEGIN:STANDARD
TZOFFSETFROM:-0400
TZOFFSETTO:-0500
TZNAME:EST
DTSTART:20251102T060000
END:STANDARD
BEGIN:DAYLIGHT
TZOFFSETFROM:-0500
TZOFFSETTO:-0400
TZNAME:EDT
DTSTART:20260308T070000
END:DAYLIGHT
BEGIN:STANDARD
TZOFFSETFROM:-0400
TZOFFSETTO:-0500
TZNAME:EST
DTSTART:20261101T060000
END:STANDARD
BEGIN:DAYLIGHT
TZOFFSETFROM:-0500
TZOFFSETTO:-0400
TZNAME:EDT
DTSTART:20270314T070000
END:DAYLIGHT
BEGIN:STANDARD
TZOFFSETFROM:-0400
TZOFFSETTO:-0500
TZNAME:EST
DTSTART:20271107T060000
END:STANDARD
END:VTIMEZONE
BEGIN:VEVENT
DTSTART;TZID=America/Toronto:20260109T220000
DTEND;TZID=America/Toronto:20260110T023000
DTSTAMP:20260423T195531
CREATED:20251124T204827Z
LAST-MODIFIED:20251127T171520Z
UID:6326-1767996000-1768012200@www.revivaleventvenue.ca
SUMMARY:First Fete 2026
DESCRIPTION:⚡ THE FUTURE OF FETE STARTS HERE\nA high-powered celebration to launch the new year with colour\, culture\, and energy.\n\n\n\n\nStep into a glowing world where tropical rhythm meets futuristic energy. \nThis January\, we transform the night into a neon-powered paradise of light\, sound\, movement\, and pure Caribbean heat.\nThe Future of Fete Starts Here. \n✨ What to Expect\n🔊 International DJs\nA high-energy lineup delivering the best in Soca\, Dancehall\, Reggae\, Bouyon\, and Small Island Hits all with a bold futuristic twist. \n🎁 Giveaways + Surprises\nGlow moments\, interactive experiences\, and exclusive giveaways throughout the night. \n🚀 Futuristic Decor\nNeon installations\, UV lighting\, holographic visuals\, digital “wave” projections. A full Island of the Future transformation of the venue. \n🔥 High-Energy Vibes\nFrom start to finish\, expect nonstop movement\, rhythm\, and electric atmosphere. \n👗 Dress Code\nTropical Glow Meets Tomorrow’s Flow\nNeon accents\, holographic fits\, metallic touches\, UV body paint\, LED pieces show up glowing\, futuristic\, and ready to fete. Please note dresscode is NOT mandatory. \n🍾 Bottle Service\nFor bottle service inquiries\, group celebrations\, or special requests\, reach out to us directly through Eventbrite or send a DM to @primemediagrp on Instagram. \n🛡 Safety and Inclusivity\nYour safety and comfort are important to us.\nOur team and the venue enforce a strict zero-tolerance policy to ensure FIRST FETE remains a safe\, respectful\, and inclusive space for everyone. \nIf you ever feel uncomfortable or need help\, please approach any member of our team\, door staff\, or bar staff — we’re here to support you. \n📸 Media Notice\nPhoto and video capture will be taking place throughout the event.\nBy attending\, you acknowledge and consent to the use of your image\, voice\, and likeness for event documentation and future promotional content. \nWe appreciate your cooperation and understanding.
URL:https://www.revivaleventvenue.ca/event/first-fete-2026/
LOCATION:Revival Event Venue\, 783 College Street\, Toronto\, Ontario\, M6G 1C5\, Canada
ATTACH;FMTTYPE=image/jpeg:https://www.revivaleventvenue.ca/wp-content/uploads/2025/11/FirstFete2026-LR-1.jpg
END:VEVENT
END:VCALENDAR