BEGIN:VCALENDAR
VERSION:2.0
PRODID:-//Revival Event Venue - Toronto's Premiere Boutique Event Space - ECPv6.15.20//NONSGML v1.0//EN
CALSCALE:GREGORIAN
METHOD:PUBLISH
X-WR-CALNAME:Revival Event Venue - Toronto's Premiere Boutique Event Space
X-ORIGINAL-URL:https://www.revivaleventvenue.ca
X-WR-CALDESC:Events for Revival Event Venue - Toronto's Premiere Boutique Event Space
REFRESH-INTERVAL;VALUE=DURATION:PT1H
X-Robots-Tag:noindex
X-PUBLISHED-TTL:PT1H
BEGIN:VTIMEZONE
TZID:America/Toronto
BEGIN:DAYLIGHT
TZOFFSETFROM:-0500
TZOFFSETTO:-0400
TZNAME:EDT
DTSTART:20230312T070000
END:DAYLIGHT
BEGIN:STANDARD
TZOFFSETFROM:-0400
TZOFFSETTO:-0500
TZNAME:EST
DTSTART:20231105T060000
END:STANDARD
BEGIN:DAYLIGHT
TZOFFSETFROM:-0500
TZOFFSETTO:-0400
TZNAME:EDT
DTSTART:20240310T070000
END:DAYLIGHT
BEGIN:STANDARD
TZOFFSETFROM:-0400
TZOFFSETTO:-0500
TZNAME:EST
DTSTART:20241103T060000
END:STANDARD
BEGIN:DAYLIGHT
TZOFFSETFROM:-0500
TZOFFSETTO:-0400
TZNAME:EDT
DTSTART:20250309T070000
END:DAYLIGHT
BEGIN:STANDARD
TZOFFSETFROM:-0400
TZOFFSETTO:-0500
TZNAME:EST
DTSTART:20251102T060000
END:STANDARD
END:VTIMEZONE
BEGIN:VEVENT
DTSTART;TZID=America/Toronto:20241024T200000
DTEND;TZID=America/Toronto:20241024T233000
DTSTAMP:20260425T235525
CREATED:20241019T162852Z
LAST-MODIFIED:20241019T162852Z
UID:5764-1729800000-1729812600@www.revivaleventvenue.ca
SUMMARY:Victoria Monet Jaguar II Deluxe Album Release Experience
DESCRIPTION:That slow jam party pop up\nJoin us for a special pop up event celebrating the release of Victoria Monet’s Jaguar II Deluxe Album! \nJoin us for an unforgettable evening celebrating the release of Jaguar II (Deluxe) by Grammy-nominated artist Victoria Monét! This exclusive event will feature interactive R&B Karaoke and exciting R&B Bingo—all using Victoria Monét’s hit songs from her latest album. \nExpect R&B vibes\, and the chance to win amazing prizes\, all while singing along to your favorite tracks. Whether you’re a longtime fan or discovering Victoria’s music for the first time\, this event is the perfect way to immerse yourself in the world of Jaguar II. \nEvent Highlights:\n🎤 R&B Karaoke featuring Victoria Monét’s catalog\n🎶 R&B Bingo with exclusive prizes\n📸 Branded Photo Booth for capturing those iconic moments\n🍹 Drinks and good vibes all night long! \nDon’t miss this special opportunity to celebrate the release of Jaguar II (Deluxe) in style. \nDue to venue size\, tickets are EXTREMELY LIMITED!
URL:https://www.revivaleventvenue.ca/event/victoria-monet-jaguar-ii-deluxe-album-release-experience/
LOCATION:Revival Event Venue\, 783 College Street\, Toronto\, Ontario\, M6G 1C5\, Canada
ATTACH;FMTTYPE=image/jpeg:https://www.revivaleventvenue.ca/wp-content/uploads/2024/10/VictoriaMonet-Oct24LR.jpg
END:VEVENT
END:VCALENDAR