BEGIN:VCALENDAR
VERSION:2.0
PRODID:-//Revival Event Venue - Toronto's Premiere Boutique Event Space - ECPv6.15.20//NONSGML v1.0//EN
CALSCALE:GREGORIAN
METHOD:PUBLISH
X-WR-CALNAME:Revival Event Venue - Toronto's Premiere Boutique Event Space
X-ORIGINAL-URL:https://www.revivaleventvenue.ca
X-WR-CALDESC:Events for Revival Event Venue - Toronto's Premiere Boutique Event Space
REFRESH-INTERVAL;VALUE=DURATION:PT1H
X-Robots-Tag:noindex
X-PUBLISHED-TTL:PT1H
BEGIN:VTIMEZONE
TZID:America/Toronto
BEGIN:DAYLIGHT
TZOFFSETFROM:-0500
TZOFFSETTO:-0400
TZNAME:EDT
DTSTART:20240310T070000
END:DAYLIGHT
BEGIN:STANDARD
TZOFFSETFROM:-0400
TZOFFSETTO:-0500
TZNAME:EST
DTSTART:20241103T060000
END:STANDARD
BEGIN:DAYLIGHT
TZOFFSETFROM:-0500
TZOFFSETTO:-0400
TZNAME:EDT
DTSTART:20250309T070000
END:DAYLIGHT
BEGIN:STANDARD
TZOFFSETFROM:-0400
TZOFFSETTO:-0500
TZNAME:EST
DTSTART:20251102T060000
END:STANDARD
BEGIN:DAYLIGHT
TZOFFSETFROM:-0500
TZOFFSETTO:-0400
TZNAME:EDT
DTSTART:20260308T070000
END:DAYLIGHT
BEGIN:STANDARD
TZOFFSETFROM:-0400
TZOFFSETTO:-0500
TZNAME:EST
DTSTART:20261101T060000
END:STANDARD
END:VTIMEZONE
BEGIN:VEVENT
DTSTART;TZID=America/Toronto:20251025T210000
DTEND;TZID=America/Toronto:20251025T210000
DTSTAMP:20260424T073446
CREATED:20251001T041432Z
LAST-MODIFIED:20251001T041432Z
UID:6274-1761426000-1761426000@www.revivaleventvenue.ca
SUMMARY:Marcio Art By Rio Productions
DESCRIPTION:Se prepare pra uma noite inesquecível de pagode com um dos grandes nomes do samba brasileiro: Marcio Art\, ex-vocalista do Art Popular \n  \nSe prepare pra uma noite inesquecível de pagode com um dos grandes nomes do samba brasileiro: Marcio Art\, ex-vocalista do grupo Art Popular\, vem direto do Brasil pra levantar Toronto no Revival Club! \nGet ready for an unforgettable night of pagode with one of the biggest names in Brazilian samba: Marcio Art\, former lead singer of Art Popular. \nFundado nos anos 80\, o Art Popular se tornou referência no samba/pagode\, com sucessos como Nova Era\, Temporal\, Valeu Demais e muitos outros e Marcio Art fez parte desse marco\, levando sua voz\, seu estilo e sua energia pra fazer história. \nGet ready for an unforgettable night of pagode with one of the biggest names in Brazilian samba: Marcio Art\, former lead singer of the group Art Popular\, comes straight from Brazil to liven up Toronto at Revival Club! \nFounded in the 1980s\, Art Popular became a benchmark in samba/pagode\, with hits like Nova Era\, Temporal\, Valeu Demais\, and many others. Marcio Art was part of this milestone\, bringing his voice\, style\, and energy to make history. \n📅 Data: 25 de outubro\n🕘 Portas abrem às 21h \nVenha reviver clássicos que embalaram gerações\, curtir sambas que falam de amor\, alegria e da vida\, e celebrar a cultura brasileira num ambiente animado\, acolhedor e cheio de ritmo. Um show imperdível pra quem ama cantorias\, rodas de samba e muita emoção. \nConvide os amigos\, traga sua alegria porque a noite será pra se cantar junto\, para sorrir\, dançar e se sentir mais perto da música que pulsa no coração do Brasil. 🇧🇷 \nCome relive classics that have inspired generations\, enjoy sambas that speak of love\, joy\, and life\, and celebrate Brazilian culture in a lively\, welcoming\, and rhythmic environment. A must-see show for those who love singing\, samba circles\, and lots of emotion. \nInvite your friends and bring your joy\, because this night will be about singing along\, smiling\, dancing\, and feeling closer to the music that beats in the heart of Brazil. 🇧🇷
URL:https://www.revivaleventvenue.ca/event/marcio-art-by-rio-productions/
LOCATION:Revival Event Venue\, 783 College Street\, Toronto\, Ontario\, M6G 1C5\, Canada
ATTACH;FMTTYPE=image/jpeg:https://www.revivaleventvenue.ca/wp-content/uploads/2025/10/MarcioArt-Oct25.jpg
END:VEVENT
END:VCALENDAR