BEGIN:VCALENDAR
VERSION:2.0
PRODID:-//Revival Event Venue - Toronto's Premiere Boutique Event Space - ECPv6.15.20//NONSGML v1.0//EN
CALSCALE:GREGORIAN
METHOD:PUBLISH
X-WR-CALNAME:Revival Event Venue - Toronto's Premiere Boutique Event Space
X-ORIGINAL-URL:https://www.revivaleventvenue.ca
X-WR-CALDESC:Events for Revival Event Venue - Toronto's Premiere Boutique Event Space
REFRESH-INTERVAL;VALUE=DURATION:PT1H
X-Robots-Tag:noindex
X-PUBLISHED-TTL:PT1H
BEGIN:VTIMEZONE
TZID:America/Toronto
BEGIN:DAYLIGHT
TZOFFSETFROM:-0500
TZOFFSETTO:-0400
TZNAME:EDT
DTSTART:20240310T070000
END:DAYLIGHT
BEGIN:STANDARD
TZOFFSETFROM:-0400
TZOFFSETTO:-0500
TZNAME:EST
DTSTART:20241103T060000
END:STANDARD
BEGIN:DAYLIGHT
TZOFFSETFROM:-0500
TZOFFSETTO:-0400
TZNAME:EDT
DTSTART:20250309T070000
END:DAYLIGHT
BEGIN:STANDARD
TZOFFSETFROM:-0400
TZOFFSETTO:-0500
TZNAME:EST
DTSTART:20251102T060000
END:STANDARD
BEGIN:DAYLIGHT
TZOFFSETFROM:-0500
TZOFFSETTO:-0400
TZNAME:EDT
DTSTART:20260308T070000
END:DAYLIGHT
BEGIN:STANDARD
TZOFFSETFROM:-0400
TZOFFSETTO:-0500
TZNAME:EST
DTSTART:20261101T060000
END:STANDARD
END:VTIMEZONE
BEGIN:VEVENT
DTSTART;TZID=America/Toronto:20250725T223000
DTEND;TZID=America/Toronto:20250726T020000
DTSTAMP:20260424T124612
CREATED:20250722T215816Z
LAST-MODIFIED:20250722T232342Z
UID:6169-1753482600-1753495200@www.revivaleventvenue.ca
SUMMARY:You Got Served Throwback Party
DESCRIPTION:It’s a 2000’s throwback party\nStep into a time machine and relive the golden eras of Hip-Hop and R&B—the 90s\, 2000s\, and early 2010s! One night. All the hits. Nothing but feel-good vibes and timeless anthems. \n🎶 From Tupac & Biggie to Destiny’s Child\, Usher\, Missy\, Nelly\, and early Drake—this is your soundtrack. The songs that raised us\, the ones you still know word for word. \n🧢 DRESS CODE IN FULL EFFECT: 2000’s THROWBACK! Break out your baggy jeans\, tall tees\, velour tracksuits\, hoop earrings\, snapbacks\, and Air Force 1s. Come dressed to impress—the drip matters. 📸 \n💃🏽 Expect packed dance floors\, sing-along moments\, and straight nostalgia. Whether you’re reliving it or experiencing it for the first time\, this night is for the culture. \nDress code encouraged. Sounds by Sayyzon + Locqdown + Nari + Novo. Hosted by Clark\, JD and friends. \n 
URL:https://www.revivaleventvenue.ca/event/you-got-served-throwback-party/
LOCATION:Revival Event Venue\, 783 College Street\, Toronto\, Ontario\, M6G 1C5\, Canada
ATTACH;FMTTYPE=image/jpeg:https://www.revivaleventvenue.ca/wp-content/uploads/2025/07/YouGotServed-July25.jpg
END:VEVENT
END:VCALENDAR