BEGIN:VCALENDAR
VERSION:2.0
PRODID:-//Revival Event Venue - Toronto's Premiere Boutique Event Space - ECPv6.15.20//NONSGML v1.0//EN
CALSCALE:GREGORIAN
METHOD:PUBLISH
X-WR-CALNAME:Revival Event Venue - Toronto's Premiere Boutique Event Space
X-ORIGINAL-URL:https://www.revivaleventvenue.ca
X-WR-CALDESC:Events for Revival Event Venue - Toronto's Premiere Boutique Event Space
REFRESH-INTERVAL;VALUE=DURATION:PT1H
X-Robots-Tag:noindex
X-PUBLISHED-TTL:PT1H
BEGIN:VTIMEZONE
TZID:America/Toronto
BEGIN:DAYLIGHT
TZOFFSETFROM:-0500
TZOFFSETTO:-0400
TZNAME:EDT
DTSTART:20240310T070000
END:DAYLIGHT
BEGIN:STANDARD
TZOFFSETFROM:-0400
TZOFFSETTO:-0500
TZNAME:EST
DTSTART:20241103T060000
END:STANDARD
BEGIN:DAYLIGHT
TZOFFSETFROM:-0500
TZOFFSETTO:-0400
TZNAME:EDT
DTSTART:20250309T070000
END:DAYLIGHT
BEGIN:STANDARD
TZOFFSETFROM:-0400
TZOFFSETTO:-0500
TZNAME:EST
DTSTART:20251102T060000
END:STANDARD
BEGIN:DAYLIGHT
TZOFFSETFROM:-0500
TZOFFSETTO:-0400
TZNAME:EDT
DTSTART:20260308T070000
END:DAYLIGHT
BEGIN:STANDARD
TZOFFSETFROM:-0400
TZOFFSETTO:-0500
TZNAME:EST
DTSTART:20261101T060000
END:STANDARD
END:VTIMEZONE
BEGIN:VEVENT
DTSTART;TZID=America/Toronto:20250906T210000
DTEND;TZID=America/Toronto:20250907T030000
DTSTAMP:20260424T081043
CREATED:20250817T014049Z
LAST-MODIFIED:20250817T014210Z
UID:6212-1757192400-1757214000@www.revivaleventvenue.ca
SUMMARY:Sajanka
DESCRIPTION:Get ready\, Toronto! 🔥 One of the most electrifying names in the global psytrance scene — SAJANKA— is landing in the 6ix for an unforgettable night of euphoric melodies\, driving basslines\, and psychedelic energy. \nPowered by 3rd Eye Events & Ubermensch Events. \nThis is not just a show — it’s a journey. Known for his unique fusion of oriental vibes and uplifting psytrance\, Sajanka has lit up stages at major festivals all around the world. Now\, he’s bringing that magic to Toronto for a one-night-only experience that will shake your soul and elevate your spirit. \nSupport Lineup  Featuring a carefully curated roster of local and international psytrance DJs to warm up the dancefloor and keep the energy alive all night. \n💫 Immersive Visuals | Powerful Sound | Decor \nWhether you’re a longtime psytrance lover or new to the scene\, this event promises to be a transformative celebration of music\, movement\, and community. \n🎟️ Tickets: Limited Tickets available. Secure yours now before prices go up!\n🔞 19+ Event | Valid ID Required
URL:https://www.revivaleventvenue.ca/event/sajanka/
LOCATION:Revival Event Venue\, 783 College Street\, Toronto\, Ontario\, M6G 1C5\, Canada
ATTACH;FMTTYPE=image/jpeg:https://www.revivaleventvenue.ca/wp-content/uploads/2025/08/Sajanka-Sept6LR.jpg
END:VEVENT
END:VCALENDAR