BEGIN:VCALENDAR
VERSION:2.0
PRODID:-//Revival Event Venue - Toronto's Premiere Boutique Event Space - ECPv6.15.20//NONSGML v1.0//EN
CALSCALE:GREGORIAN
METHOD:PUBLISH
X-ORIGINAL-URL:https://www.revivaleventvenue.ca
X-WR-CALDESC:Events for Revival Event Venue - Toronto's Premiere Boutique Event Space
REFRESH-INTERVAL;VALUE=DURATION:PT1H
X-Robots-Tag:noindex
X-PUBLISHED-TTL:PT1H
BEGIN:VTIMEZONE
TZID:America/Toronto
BEGIN:DAYLIGHT
TZOFFSETFROM:-0500
TZOFFSETTO:-0400
TZNAME:EDT
DTSTART:20240310T070000
END:DAYLIGHT
BEGIN:STANDARD
TZOFFSETFROM:-0400
TZOFFSETTO:-0500
TZNAME:EST
DTSTART:20241103T060000
END:STANDARD
BEGIN:DAYLIGHT
TZOFFSETFROM:-0500
TZOFFSETTO:-0400
TZNAME:EDT
DTSTART:20250309T070000
END:DAYLIGHT
BEGIN:STANDARD
TZOFFSETFROM:-0400
TZOFFSETTO:-0500
TZNAME:EST
DTSTART:20251102T060000
END:STANDARD
BEGIN:DAYLIGHT
TZOFFSETFROM:-0500
TZOFFSETTO:-0400
TZNAME:EDT
DTSTART:20260308T070000
END:DAYLIGHT
BEGIN:STANDARD
TZOFFSETFROM:-0400
TZOFFSETTO:-0500
TZNAME:EST
DTSTART:20261101T060000
END:STANDARD
END:VTIMEZONE
BEGIN:VEVENT
DTSTART;TZID=America/Toronto:20250125T220000
DTEND;TZID=America/Toronto:20250125T220000
DTSTAMP:20260425T120048
CREATED:20241219T054707Z
LAST-MODIFIED:20250120T033010Z
UID:5821-1737842400-1737842400@www.revivaleventvenue.ca
SUMMARY:RENAISSANCE - ALL 90s . ALL Night
DESCRIPTION:Toronto’s Longest Running ALL 90s Party\nMusical soundtrack by JESTER x MISTA JIGGZ x DJ AGILE + introducing MISTAHVINCE \nDoors @ 10:00pm | Tickets are already over 70% sold out. \nFor booth reservations/bottle service\, email david@revivaleventvenue.ca. For group bookings/info.\, email info@browneyesentertainment.com  |  www.browneyesentertainment.com \nLast year’s January Renaissance Party
URL:https://www.revivaleventvenue.ca/event/renaissance-all-90s-all-night-3/
LOCATION:Revival Event Venue\, 783 College Street\, Toronto\, Ontario\, M6G 1C5\, Canada
ATTACH;FMTTYPE=image/jpeg:https://www.revivaleventvenue.ca/wp-content/uploads/2024/12/renaissance-Jan2025-updatedLR.jpg
ORGANIZER;CN="Brown Eyes Entertainment":MAILTO:info@browneyesentertainment.com
END:VEVENT
END:VCALENDAR