BEGIN:VCALENDAR
VERSION:2.0
PRODID:-//Revival Event Venue - Toronto's Premiere Boutique Event Space - ECPv6.15.20//NONSGML v1.0//EN
CALSCALE:GREGORIAN
METHOD:PUBLISH
X-WR-CALNAME:Revival Event Venue - Toronto's Premiere Boutique Event Space
X-ORIGINAL-URL:https://www.revivaleventvenue.ca
X-WR-CALDESC:Events for Revival Event Venue - Toronto's Premiere Boutique Event Space
REFRESH-INTERVAL;VALUE=DURATION:PT1H
X-Robots-Tag:noindex
X-PUBLISHED-TTL:PT1H
BEGIN:VTIMEZONE
TZID:America/Toronto
BEGIN:DAYLIGHT
TZOFFSETFROM:-0500
TZOFFSETTO:-0400
TZNAME:EDT
DTSTART:20230312T070000
END:DAYLIGHT
BEGIN:STANDARD
TZOFFSETFROM:-0400
TZOFFSETTO:-0500
TZNAME:EST
DTSTART:20231105T060000
END:STANDARD
BEGIN:DAYLIGHT
TZOFFSETFROM:-0500
TZOFFSETTO:-0400
TZNAME:EDT
DTSTART:20240310T070000
END:DAYLIGHT
BEGIN:STANDARD
TZOFFSETFROM:-0400
TZOFFSETTO:-0500
TZNAME:EST
DTSTART:20241103T060000
END:STANDARD
BEGIN:DAYLIGHT
TZOFFSETFROM:-0500
TZOFFSETTO:-0400
TZNAME:EDT
DTSTART:20250309T070000
END:DAYLIGHT
BEGIN:STANDARD
TZOFFSETFROM:-0400
TZOFFSETTO:-0500
TZNAME:EST
DTSTART:20251102T060000
END:STANDARD
END:VTIMEZONE
BEGIN:VEVENT
DTSTART;TZID=America/Toronto:20241122T210000
DTEND;TZID=America/Toronto:20241123T020000
DTSTAMP:20260425T115702
CREATED:20240825T051450Z
LAST-MODIFIED:20241003T195101Z
UID:5696-1732309200-1732327200@www.revivaleventvenue.ca
SUMMARY:Pancakes & Booze Art Show
DESCRIPTION:Toronto’s Underground Pop-Up Art Show is BACK on November 22nd\, 2024. \nCome experience one of the largest pop-up art movements to hit North America over the past decade. Celebrating over 10 years of serving FREE PANCAKES and introducing you to some of the nation’s leading emerging artists. \n• Over 75+ local artists exhibiting over 300+ pieces of artwork \n• FREE All-U-Can-Eat Pancakes \n• Live Audio Performances from local DJs and Music Producers \n• Live Body Painting & Art \n• 19+ EVENT \n• 7pm – Midnight. \n• $20 General Admission \n• $25 General Admission (Day of Show – Door) \nFollow us on Instagram @pancakesandbooze #pancakesandbooze \nAre you a local artist looking to exhibit your work? Please visit our website (www.pancakesandbooze.com/submit) to submit your artwork or email us at info@pancakesandbooze.com for further information. \nABOUT The Pancakes & Booze Art Show: \nThe LA based event originated in 2009 and has since popped up more than 500 times in 35+ cities around Europe & North America. \nBatter sizzles\, beer foams\, and canvas lines the walls from ceiling to floor as hundreds\, sometimes thousands\, of revelers indulge in endless pancakes. \nThis is no stuffy wine-and-cheese\, pretentious\, someone-gag-me art event. It’s an innovative reimagining of the art show concept. A welcoming vibe for up-and-coming artists to sell and strut their stuff in a free verse\, anything goes environment. \nInstagram @pancakesandboozeArt \nSubmissions: www.pancakesandbooze.com/submit \nEmail: info@pancakesandbooze.com
URL:https://www.revivaleventvenue.ca/event/pancakes-booze-art-show-november29/
LOCATION:Revival Event Venue\, 783 College Street\, Toronto\, Ontario\, M6G 1C5\, Canada
ATTACH;FMTTYPE=image/jpeg:https://www.revivaleventvenue.ca/wp-content/uploads/2024/08/PancakesBooze-Nov22.jpg
ORGANIZER;CN="The Pancakes & Booze Art Show":MAILTO:info@pancakesandbooze.com
END:VEVENT
END:VCALENDAR