BEGIN:VCALENDAR
VERSION:2.0
PRODID:-//Revival Event Venue - Toronto's Premiere Boutique Event Space - ECPv6.15.20//NONSGML v1.0//EN
CALSCALE:GREGORIAN
METHOD:PUBLISH
X-WR-CALNAME:Revival Event Venue - Toronto's Premiere Boutique Event Space
X-ORIGINAL-URL:https://www.revivaleventvenue.ca
X-WR-CALDESC:Events for Revival Event Venue - Toronto's Premiere Boutique Event Space
REFRESH-INTERVAL;VALUE=DURATION:PT1H
X-Robots-Tag:noindex
X-PUBLISHED-TTL:PT1H
BEGIN:VTIMEZONE
TZID:America/Toronto
BEGIN:DAYLIGHT
TZOFFSETFROM:-0500
TZOFFSETTO:-0400
TZNAME:EDT
DTSTART:20250309T070000
END:DAYLIGHT
BEGIN:STANDARD
TZOFFSETFROM:-0400
TZOFFSETTO:-0500
TZNAME:EST
DTSTART:20251102T060000
END:STANDARD
BEGIN:DAYLIGHT
TZOFFSETFROM:-0500
TZOFFSETTO:-0400
TZNAME:EDT
DTSTART:20260308T070000
END:DAYLIGHT
BEGIN:STANDARD
TZOFFSETFROM:-0400
TZOFFSETTO:-0500
TZNAME:EST
DTSTART:20261101T060000
END:STANDARD
BEGIN:DAYLIGHT
TZOFFSETFROM:-0500
TZOFFSETTO:-0400
TZNAME:EDT
DTSTART:20270314T070000
END:DAYLIGHT
BEGIN:STANDARD
TZOFFSETFROM:-0400
TZOFFSETTO:-0500
TZNAME:EST
DTSTART:20271107T060000
END:STANDARD
END:VTIMEZONE
BEGIN:VEVENT
DTSTART;TZID=America/Toronto:20260501T180000
DTEND;TZID=America/Toronto:20260502T023000
DTSTAMP:20260423T150448
CREATED:20260309T135552Z
LAST-MODIFIED:20260401T014434Z
UID:6455-1777658400-1777689000@www.revivaleventvenue.ca
SUMMARY:The Sinner's Cabaret
DESCRIPTION:A Halfway to Halloween Celebration\nJoin us for a decadent night of drag\, cirque\, magic\, ballet\, and metal as we celebrate Halfway to Halloween in spectacular style. \nDoors: 6:00 PM\nPre-Show Feature : 7:15 PM\nMain Stage Show: 8:30 PM \nStanding Room Only\nArrive early to fully immerse yourself in the experience. Explore our curated Vendor Market\, step inside the mysterious Tarot Reading Room (7pm-9pm)\, and capture the night at our themed. Photo Ops before the main stage ignites. \nHosted by Kami Van Halst\nPerformances by:\nKami Van Halst – Your Heavy Metal Host delivering commanding live performances woven throughout the night.\nChris Mayhew – Spellbinding magic that twists reality and keeps you guessing.\nAnne Alien (Messy Productions) – Fierce\, fearless drag that pushes every boundary.\nSeyonce (Messy Productions) – Glamour\, charisma\, and high-impact drag energy.\nYovska (Messy Productions) – Avant-garde drag artistry pulled from your most delicious nightmares.\nKaleb Atak – A visceral live blood painting performance blending cirque intensity with raw artistic ritual.\nAlice Witchfire – Mesmerizing cirque spectacle wrapped in dark elegance.\nHeavy Metal Ballerina – A striking fusion of classical ballet and raw metal energy. \n🎟 Pay-What-You-Can Admission\nWe believe art should be accessible to all.\nChoose your ticket tier: $10 / $15 / $20\nCome dressed to impress. Embrace the shadows.\nJoin us as we celebrate being Halfway to Halloween — because spooky season never truly sleeps.
URL:https://www.revivaleventvenue.ca/event/the-sinners-cabaret/
LOCATION:Revival Event Venue\, 783 College Street\, Toronto\, Ontario\, M6G 1C5\, Canada
ATTACH;FMTTYPE=image/jpeg:https://www.revivaleventvenue.ca/wp-content/uploads/2026/03/SinnersCabaret-MayLR.jpg
END:VEVENT
END:VCALENDAR