BEGIN:VCALENDAR
VERSION:2.0
PRODID:-//Revival Event Venue - Toronto's Premiere Boutique Event Space - ECPv6.15.20//NONSGML v1.0//EN
CALSCALE:GREGORIAN
METHOD:PUBLISH
X-ORIGINAL-URL:https://www.revivaleventvenue.ca
X-WR-CALDESC:Events for Revival Event Venue - Toronto's Premiere Boutique Event Space
REFRESH-INTERVAL;VALUE=DURATION:PT1H
X-Robots-Tag:noindex
X-PUBLISHED-TTL:PT1H
BEGIN:VTIMEZONE
TZID:America/Toronto
BEGIN:DAYLIGHT
TZOFFSETFROM:-0500
TZOFFSETTO:-0400
TZNAME:EDT
DTSTART:20250309T070000
END:DAYLIGHT
BEGIN:STANDARD
TZOFFSETFROM:-0400
TZOFFSETTO:-0500
TZNAME:EST
DTSTART:20251102T060000
END:STANDARD
BEGIN:DAYLIGHT
TZOFFSETFROM:-0500
TZOFFSETTO:-0400
TZNAME:EDT
DTSTART:20260308T070000
END:DAYLIGHT
BEGIN:STANDARD
TZOFFSETFROM:-0400
TZOFFSETTO:-0500
TZNAME:EST
DTSTART:20261101T060000
END:STANDARD
BEGIN:DAYLIGHT
TZOFFSETFROM:-0500
TZOFFSETTO:-0400
TZNAME:EDT
DTSTART:20270314T070000
END:DAYLIGHT
BEGIN:STANDARD
TZOFFSETFROM:-0400
TZOFFSETTO:-0500
TZNAME:EST
DTSTART:20271107T060000
END:STANDARD
END:VTIMEZONE
BEGIN:VEVENT
DTSTART;TZID=America/Toronto:20260205T200000
DTEND;TZID=America/Toronto:20260205T223000
DTSTAMP:20260423T181346
CREATED:20260107T204317Z
LAST-MODIFIED:20260107T205043Z
UID:6382-1770321600-1770330600@www.revivaleventvenue.ca
SUMMARY:Throbbing Members
DESCRIPTION:A Valentine’s Burlesque Show celebrating Heated Rivalries\, Bro-mantasies\, and Erotic Literature.\n\n\n\nBoylesqueTO\nCanada’s Premiere Boylesque Troupe presents: \nTHROBBING MEMBERS\nDoors open 7 PM\,  Show 8 PM \nA Valentine’s Burlesque Show celebrating Heated Rivalries\, Bro-mantasies\, and Erotic Literature. \nStop being so boring Hollander and come out to the only burlesque show celbrating the hunky heartthrobs of romance novels\, the butts of Canada’s favourite gay hockey players\, and the steamy scenes from the steamy books and media you know and love. \nFrom Jane Austen to Heated Rivalry\, from Wuthering Heights to A court of Thorns and Roses to Bridgerton\, BoylesqueTO is here to bring your bring your bodice ripping fantasies to life! \nSTARRING:\nKuya Atay\nDew Lily\nNewfound Lad\nWrong Note Rusty\nJames & The Giant Pasty\nShagina Twain \nHosted by Balonia Wry
URL:https://www.revivaleventvenue.ca/event/throbbing-members/
LOCATION:Revival Event Venue\, 783 College Street\, Toronto\, Ontario\, M6G 1C5\, Canada
ATTACH;FMTTYPE=image/jpeg:https://www.revivaleventvenue.ca/wp-content/uploads/2026/01/ThrobbingMembers-Feb5.jpg
ORGANIZER;CN="Boylesque TO":MAILTO:boylesque@gmail.com
END:VEVENT
END:VCALENDAR