BEGIN:VCALENDAR
VERSION:2.0
PRODID:-//Revival Event Venue - Toronto's Premiere Boutique Event Space - ECPv6.15.20//NONSGML v1.0//EN
CALSCALE:GREGORIAN
METHOD:PUBLISH
X-WR-CALNAME:Revival Event Venue - Toronto's Premiere Boutique Event Space
X-ORIGINAL-URL:https://www.revivaleventvenue.ca
X-WR-CALDESC:Events for Revival Event Venue - Toronto's Premiere Boutique Event Space
REFRESH-INTERVAL;VALUE=DURATION:PT1H
X-Robots-Tag:noindex
X-PUBLISHED-TTL:PT1H
BEGIN:VTIMEZONE
TZID:America/Toronto
BEGIN:DAYLIGHT
TZOFFSETFROM:-0500
TZOFFSETTO:-0400
TZNAME:EDT
DTSTART:20250309T070000
END:DAYLIGHT
BEGIN:STANDARD
TZOFFSETFROM:-0400
TZOFFSETTO:-0500
TZNAME:EST
DTSTART:20251102T060000
END:STANDARD
BEGIN:DAYLIGHT
TZOFFSETFROM:-0500
TZOFFSETTO:-0400
TZNAME:EDT
DTSTART:20260308T070000
END:DAYLIGHT
BEGIN:STANDARD
TZOFFSETFROM:-0400
TZOFFSETTO:-0500
TZNAME:EST
DTSTART:20261101T060000
END:STANDARD
BEGIN:DAYLIGHT
TZOFFSETFROM:-0500
TZOFFSETTO:-0400
TZNAME:EDT
DTSTART:20270314T070000
END:DAYLIGHT
BEGIN:STANDARD
TZOFFSETFROM:-0400
TZOFFSETTO:-0500
TZNAME:EST
DTSTART:20271107T060000
END:STANDARD
END:VTIMEZONE
BEGIN:VEVENT
DTSTART;TZID=America/Toronto:20260130T210000
DTEND;TZID=America/Toronto:20260131T023000
DTSTAMP:20260423T200443
CREATED:20260106T225415Z
LAST-MODIFIED:20260106T225415Z
UID:6378-1769806800-1769826600@www.revivaleventvenue.ca
SUMMARY:Mixtape 2.0 - Dance Party
DESCRIPTION:Back by popular demand and incredible feedback\, we’re bringing the Mixtape experience back to Toronto! \nMixtape 2.0 – Dance Party is here with a revamped program designed to keep the energy high\, the dance floor packed\, and the memories unforgettable. \nThis is more than a concert — it’s a premium live music experience\, celebrating the golden era of Greek songwriting from the 1990s and early 2000s. The first Mixtape took us straight back to our teenage and early adult years with pure nostalgia\, and we can’t wait to do it all over again. \n Starring: Stavros Kanichis & Anastasia Kakagianni Music Direction & Maestro: Alexandros Batsoulis \n With our dynamic band: \n\n\nBouzouki: Bobby Tsigakis \n\n\nClarinet: George Milionis \n\n\nElectric Guitar: Achilles Pitsios \n\n\nKeys: Alexandros Batsoulis
URL:https://www.revivaleventvenue.ca/event/mixtape-2-0-dance-party/
LOCATION:Revival Event Venue\, 783 College Street\, Toronto\, Ontario\, M6G 1C5\, Canada
ATTACH;FMTTYPE=image/jpeg:https://www.revivaleventvenue.ca/wp-content/uploads/2026/01/Mixtape2.0-Jan30.jpg
ORGANIZER;CN="Mixtape Team":MAILTO:NorthStageManagement@gmail.com
END:VEVENT
END:VCALENDAR