BEGIN:VCALENDAR
VERSION:2.0
PRODID:-//Revival Event Venue - Toronto's Premiere Boutique Event Space - ECPv6.15.20//NONSGML v1.0//EN
CALSCALE:GREGORIAN
METHOD:PUBLISH
X-WR-CALNAME:Revival Event Venue - Toronto's Premiere Boutique Event Space
X-ORIGINAL-URL:https://www.revivaleventvenue.ca
X-WR-CALDESC:Events for Revival Event Venue - Toronto's Premiere Boutique Event Space
REFRESH-INTERVAL;VALUE=DURATION:PT1H
X-Robots-Tag:noindex
X-PUBLISHED-TTL:PT1H
BEGIN:VTIMEZONE
TZID:America/Toronto
BEGIN:DAYLIGHT
TZOFFSETFROM:-0500
TZOFFSETTO:-0400
TZNAME:EDT
DTSTART:20240310T070000
END:DAYLIGHT
BEGIN:STANDARD
TZOFFSETFROM:-0400
TZOFFSETTO:-0500
TZNAME:EST
DTSTART:20241103T060000
END:STANDARD
BEGIN:DAYLIGHT
TZOFFSETFROM:-0500
TZOFFSETTO:-0400
TZNAME:EDT
DTSTART:20250309T070000
END:DAYLIGHT
BEGIN:STANDARD
TZOFFSETFROM:-0400
TZOFFSETTO:-0500
TZNAME:EST
DTSTART:20251102T060000
END:STANDARD
BEGIN:DAYLIGHT
TZOFFSETFROM:-0500
TZOFFSETTO:-0400
TZNAME:EDT
DTSTART:20260308T070000
END:DAYLIGHT
BEGIN:STANDARD
TZOFFSETFROM:-0400
TZOFFSETTO:-0500
TZNAME:EST
DTSTART:20261101T060000
END:STANDARD
END:VTIMEZONE
BEGIN:VEVENT
DTSTART;TZID=America/Toronto:20250719T210000
DTEND;TZID=America/Toronto:20250719T233000
DTSTAMP:20260424T120811
CREATED:20250626T013148Z
LAST-MODIFIED:20250626T013148Z
UID:6144-1752958800-1752967800@www.revivaleventvenue.ca
SUMMARY:Gran Concierto de Lenier
DESCRIPTION:Gran concierto en Toronto con Lenier en vivo. Una noche inolvidable de música\, emociones y puro sabor cubano.\nAn amazing Toronto concert with Lenier performing live. An unforgettable night of music\, excitement\, and pure Cuban flavour. \nPrepárate para una noche inolvidable con Lenier en Toronto. El exitoso cantautor cubano llega con todos sus éxitos en vivo\, en un concierto lleno de emociones\, buena música y energía latina. Vive junto a él una experiencia única\, donde el romanticismo y el ritmo se apoderarán del escenario. \n¡No te pierdas esta oportunidad de cantar\, bailar y disfrutar como nunca! \nGet ready for an unforgettable night with Lenier in Toronto.\nThe successful Cuban singer-songwriter brings all his hits live\, in a concert filled with emotion\, great music\, and Latin energy. Join him for a unique experience\, where romance and rhythm will take over the stage.\nDon’t miss this opportunity to sing\, dance\, and have fun like never before! \nCon millones de reproducciones y colaboraciones con grandes artistas\, Lenier se ha ganado el corazón del público con su estilo único que mezcla romanticismo\, timba y sonidos contemporáneos. \nEste show en Toronto será una celebración de su carrera\, con un repertorio que incluye sus mayores éxitos y sorpresas especiales para sus fans. ¡Ven a vivir una noche cargada de sentimiento\, orgullo cubano y alegría sin límites! \nWith millions of streams and collaborations with major artists\, Lenier has won the hearts of audiences with his unique style\, which blends romanticism\, timba\, and contemporary sounds. \nThis show in Toronto will be a celebration of his career\, with a repertoire that includes his greatest hits and special surprises for his fans.\nCome experience a night filled with emotion\, Cuban pride\, and boundless joy!
URL:https://www.revivaleventvenue.ca/event/gran-concierto-de-lenier/
LOCATION:Revival Event Venue\, 783 College Street\, Toronto\, Ontario\, M6G 1C5\, Canada
ATTACH;FMTTYPE=image/jpeg:https://www.revivaleventvenue.ca/wp-content/uploads/2025/06/Lenier-July19.jpg
END:VEVENT
END:VCALENDAR