BEGIN:VCALENDAR
VERSION:2.0
PRODID:-//Revival Event Venue - Toronto's Premiere Boutique Event Space - ECPv6.15.20//NONSGML v1.0//EN
CALSCALE:GREGORIAN
METHOD:PUBLISH
X-ORIGINAL-URL:https://www.revivaleventvenue.ca
X-WR-CALDESC:Events for Revival Event Venue - Toronto's Premiere Boutique Event Space
REFRESH-INTERVAL;VALUE=DURATION:PT1H
X-Robots-Tag:noindex
X-PUBLISHED-TTL:PT1H
BEGIN:VTIMEZONE
TZID:America/Toronto
BEGIN:DAYLIGHT
TZOFFSETFROM:-0500
TZOFFSETTO:-0400
TZNAME:EDT
DTSTART:20230312T070000
END:DAYLIGHT
BEGIN:STANDARD
TZOFFSETFROM:-0400
TZOFFSETTO:-0500
TZNAME:EST
DTSTART:20231105T060000
END:STANDARD
BEGIN:DAYLIGHT
TZOFFSETFROM:-0500
TZOFFSETTO:-0400
TZNAME:EDT
DTSTART:20240310T070000
END:DAYLIGHT
BEGIN:STANDARD
TZOFFSETFROM:-0400
TZOFFSETTO:-0500
TZNAME:EST
DTSTART:20241103T060000
END:STANDARD
BEGIN:DAYLIGHT
TZOFFSETFROM:-0500
TZOFFSETTO:-0400
TZNAME:EDT
DTSTART:20250309T070000
END:DAYLIGHT
BEGIN:STANDARD
TZOFFSETFROM:-0400
TZOFFSETTO:-0500
TZNAME:EST
DTSTART:20251102T060000
END:STANDARD
END:VTIMEZONE
BEGIN:VEVENT
DTSTART;TZID=America/Toronto:20241005T220000
DTEND;TZID=America/Toronto:20241006T030000
DTSTAMP:20260425T094513
CREATED:20240926T192202Z
LAST-MODIFIED:20240926T192202Z
UID:5734-1728165600-1728183600@www.revivaleventvenue.ca
SUMMARY:MORD
DESCRIPTION:A World Music Harvest Festival organized by DROM Taberna \n\n\n\n\n\n\n\n\n\n3 floors\, 4 live bands\, 3 DJ sets\, 4AM LAST CALL\, 400 crazy souls 😈\nJoin us in celebrating the beginning of Toronto’s Harvest season and our slow descent into winter darkness. We summon those of you who care to enter the underworld of Drom and co create our own pantheon of demons\, deities and idols. Bring MORD into being. \nDrom has plotted an evening of debaucherous pandemonium with performers from across the world – musicians\, dancers and painters alike. We will take all 3 floors of Revival and fill it to the brim with our usual chaotic energy\, plus all the things our capacity at Drom keeps us from reveling in. Imagine silk dancers hanging from the ceiling\, rope performances\, body painting\, art making and secret rituals. A tarot reader on the balcony\, an arcane riddle to decipher…you get the gist. \nIn order to birth the true underground of Drom Taberna into existence we ask you to come dressed as your divine self. How would you appear as one of the Gods of Drom? \n🎶 MUSICIAN LINE UP 🎶 \n\nDR DRAW\nAFRIQUE LIKE ME\nLAS EMPANADAS ILEGALES\nSURPRISE BAND TBA\n\n🔊 DJS LINE UP 🔊 \n\nYOUNG TEESH\n999_ADJ\nDJ JER\n\n🎪 PERFORMERS & OFFERINGS 🎨 \nAries Son Circus Performance\nUV Body Painting\nMask/ Headdress / Puppet Making \n🦋 DRESS CODE 🦋 \nDark\, colourful tones\, soft f low\, feather\, silk\, and bone\, bring your flower crowns\, your satyr horns\, your fairy wings\, just come adorned. \nCode of Conduct \nParticipate: This space is based in collaboration. The vibe and feel of the evening will become what you make of it. If you bring your authentic\, wild self you will enhance the experience for yourself and others. Let us see you in your divinity. Dress up\, express freely\, interact and dance with your whole body. \nProtect: Drom is a community\, and we care deeply about every member. If you are a stranger to this space\, you will be welcomed with open arms\, but we expect you to act as a part of this group\, and protect all from harm. Take care of yourself and take care of those around you. The well being of every human present is a part of your responsibility. Act like it. \nPresence: Just be with us\, fully. Be bold in your vulnerability. Come with the intention to connect.
URL:https://www.revivaleventvenue.ca/event/mord/
LOCATION:Revival Event Venue\, 783 College Street\, Toronto\, Ontario\, M6G 1C5\, Canada
ATTACH;FMTTYPE=image/jpeg:https://www.revivaleventvenue.ca/wp-content/uploads/2024/09/Mord-Oct5.jpg
ORGANIZER;CN="Drom Taberna":MAILTO:drom.taberna@gmail.com
END:VEVENT
END:VCALENDAR