BEGIN:VCALENDAR
VERSION:2.0
PRODID:-//Revival Event Venue - Toronto's Premiere Boutique Event Space - ECPv6.15.20//NONSGML v1.0//EN
CALSCALE:GREGORIAN
METHOD:PUBLISH
X-WR-CALNAME:Revival Event Venue - Toronto's Premiere Boutique Event Space
X-ORIGINAL-URL:https://www.revivaleventvenue.ca
X-WR-CALDESC:Events for Revival Event Venue - Toronto's Premiere Boutique Event Space
REFRESH-INTERVAL;VALUE=DURATION:PT1H
X-Robots-Tag:noindex
X-PUBLISHED-TTL:PT1H
BEGIN:VTIMEZONE
TZID:America/Toronto
BEGIN:DAYLIGHT
TZOFFSETFROM:-0500
TZOFFSETTO:-0400
TZNAME:EDT
DTSTART:20230312T070000
END:DAYLIGHT
BEGIN:STANDARD
TZOFFSETFROM:-0400
TZOFFSETTO:-0500
TZNAME:EST
DTSTART:20231105T060000
END:STANDARD
BEGIN:DAYLIGHT
TZOFFSETFROM:-0500
TZOFFSETTO:-0400
TZNAME:EDT
DTSTART:20240310T070000
END:DAYLIGHT
BEGIN:STANDARD
TZOFFSETFROM:-0400
TZOFFSETTO:-0500
TZNAME:EST
DTSTART:20241103T060000
END:STANDARD
BEGIN:DAYLIGHT
TZOFFSETFROM:-0500
TZOFFSETTO:-0400
TZNAME:EDT
DTSTART:20250309T070000
END:DAYLIGHT
BEGIN:STANDARD
TZOFFSETFROM:-0400
TZOFFSETTO:-0500
TZNAME:EST
DTSTART:20251102T060000
END:STANDARD
END:VTIMEZONE
BEGIN:VEVENT
DTSTART;TZID=America/Toronto:20240829T190000
DTEND;TZID=America/Toronto:20240829T233000
DTSTAMP:20260425T082456
CREATED:20240603T201018Z
LAST-MODIFIED:20240607T231949Z
UID:5567-1724958000-1724974200@www.revivaleventvenue.ca
SUMMARY:Frank Moyo and Amanda Pascali Live
DESCRIPTION:For the first time\, Frank Moyo and Amanda Pascali performing together in Toronto\, Ontario. \nFrank Moyo is a slow player in a fast world. The Canadian-Italian singer-songwriter and guitarist serenades like a busking bard of the 21st century. His latest releases “Alla Nostra” and “Toronto to Milano” have already cultivated a reputation for Moyo in his hometown. But describing the singer as a suave\, smooth and sultry voice with soft hands on the strings is too simple. Discussing feeling with the artist is more candid. “I want people to imagine they are on a beach in Italy listening to my music\,” he says. But while one track might take you to the beach\, “another might take you into a car going 180 mph.” \nGrowing up in Toronto Moyo first learned chords as a child\, picking up what he could from family\, friends and later the live shows he could get into. It wasn’t long until his bandmates and him were sneaking into their own performances. With a taste that meanders from Motown to James Brown and Isaac Hayes to Italian icons like Lucio Dalla and Toto Cutugno\, Moyo’s sound is hard to pin down. The folk-informed rhythms that Moyo employs on tracks like “Boys of Major” mingle with pop sensibilities and the laws of ancient attraction that seem as rooted in Greek mythology as they do Johnny Cash’s “Folsom Rhythm Blues.” \nAs things speed up in an industry that’s begging to slow down\, Frank Moyo is a voice of reason\, and it sounds good. \nAs the rising voice of America’s most ethnically diverse generation of young people\, 26-year-old Amanda Pascali writes songs that speak to the experience of growing up as a first-generation American. In 2023 her popularity exploded on social media following several viral videos of her song translations. Amanda’s music\, now coined\, Immigrant American Folk delivers a powerful narrative on being\, “too foreign for here\, too foreign for home\, and never enough for both.” \nThe internationally acclaimed\, bilingual singer/songwriter and 2021 Houston Chronicle “Musician of the Year\,” was born in Queens\, New York\, and is based between Houston\, Texas and Palermo\, Sicily. Amanda has released music and performed internationally\, from the John F. Kennedy Center in Washington D.C. to the European Union Parliament in Brussels and across the globe. Her latest work\, To Sing and Recount\, is a project to translate and revitalize the Sicilian folk songs endorsed by the US State Department and the Italian Ministry of Foreign Affairs. \nBlending folk/Americana influences with southern Italian and Latin rhythms Pascali’s songs are powerful tales of America told through the eyes of immigrants and those who have always felt like the “other”.  With a father who was thrown out of his home country for rebelling against the government and an immigrant mother who built a career from scratch in 1980s Brooklyn\, Amanda was driven from a young age to be a messenger of her family’s stories and diaspora.
URL:https://www.revivaleventvenue.ca/event/frank-moyo-and-amanda-pascali-live/
LOCATION:Revival Event Venue\, 783 College Street\, Toronto\, Ontario\, M6G 1C5\, Canada
ATTACH;FMTTYPE=image/jpeg:https://www.revivaleventvenue.ca/wp-content/uploads/2024/06/FrankMoyoAmandaPascali-Aug29.jpg
END:VEVENT
END:VCALENDAR