BEGIN:VCALENDAR
VERSION:2.0
PRODID:-//Revival Event Venue - Toronto's Premiere Boutique Event Space - ECPv6.15.20//NONSGML v1.0//EN
CALSCALE:GREGORIAN
METHOD:PUBLISH
X-WR-CALNAME:Revival Event Venue - Toronto's Premiere Boutique Event Space
X-ORIGINAL-URL:https://www.revivaleventvenue.ca
X-WR-CALDESC:Events for Revival Event Venue - Toronto's Premiere Boutique Event Space
REFRESH-INTERVAL;VALUE=DURATION:PT1H
X-Robots-Tag:noindex
X-PUBLISHED-TTL:PT1H
BEGIN:VTIMEZONE
TZID:America/Toronto
BEGIN:DAYLIGHT
TZOFFSETFROM:-0500
TZOFFSETTO:-0400
TZNAME:EDT
DTSTART:20240310T070000
END:DAYLIGHT
BEGIN:STANDARD
TZOFFSETFROM:-0400
TZOFFSETTO:-0500
TZNAME:EST
DTSTART:20241103T060000
END:STANDARD
BEGIN:DAYLIGHT
TZOFFSETFROM:-0500
TZOFFSETTO:-0400
TZNAME:EDT
DTSTART:20250309T070000
END:DAYLIGHT
BEGIN:STANDARD
TZOFFSETFROM:-0400
TZOFFSETTO:-0500
TZNAME:EST
DTSTART:20251102T060000
END:STANDARD
BEGIN:DAYLIGHT
TZOFFSETFROM:-0500
TZOFFSETTO:-0400
TZNAME:EDT
DTSTART:20260308T070000
END:DAYLIGHT
BEGIN:STANDARD
TZOFFSETFROM:-0400
TZOFFSETTO:-0500
TZNAME:EST
DTSTART:20261101T060000
END:STANDARD
END:VTIMEZONE
BEGIN:VEVENT
DTSTART;TZID=America/Toronto:20250921T190000
DTEND;TZID=America/Toronto:20250921T220000
DTSTAMP:20260424T032949
CREATED:20250510T205052Z
LAST-MODIFIED:20250510T213808Z
UID:6105-1758481200-1758492000@www.revivaleventvenue.ca
SUMMARY:B-Band live
DESCRIPTION:An evening of genre-bending sound — a fusion of Iranian roots with the raw edge of alternative rock\, grunge and electronic music \nPresented by Small World Music\nJoin us for an evening of genre-bending sound — a fusion of Iranian roots with the raw edge of alternative rock\, grunge\, and electronic music. B-Band is a collaboration between long-time friends formed in Tehran\, Iran\, now performing on the global stage. \nAbout the band\nFormed in Tehran\, Iran in 2009\, B-band is an Iranian Alternative Rock band with lyrics in Farsi\, and music a mixture of Rock\, Grunge and Electronics with a taste of Persian folklore. Scattered around different parts of the world\, B-band is a long-distance collaboration between a group of friends who once lived in Iran and migrated to other countries over the past few years. \nKasra Ebrahimi – Drums\, Mixing\nHamed Hamidzadeh – Bass\nBehzad Khiavchi – Vocals\, Guitars\, Synths\, Lyrics
URL:https://www.revivaleventvenue.ca/event/b-band-live/
LOCATION:Revival Event Venue\, 783 College Street\, Toronto\, Ontario\, M6G 1C5\, Canada
ATTACH;FMTTYPE=image/jpeg:https://www.revivaleventvenue.ca/wp-content/uploads/2025/05/B-band-Sept21.jpg
END:VEVENT
BEGIN:VEVENT
DTSTART;TZID=America/Toronto:20250925T190000
DTEND;TZID=America/Toronto:20250925T223000
DTSTAMP:20260424T032949
CREATED:20250722T223827Z
LAST-MODIFIED:20250723T192526Z
UID:6177-1758826800-1758839400@www.revivaleventvenue.ca
SUMMARY:Vancestock XIV
DESCRIPTION:Vancestock is an annual night of music and charity fundraising. This year our musical guests are Kubla and Sisters & Brothers. \nWe ask that you take a moment to donate to this special charity and musical event and add Thursday\, September 25\, 2025 to your calendars. Visit our donation website to learn more. \nHosted by Vance Cooper.
URL:https://www.revivaleventvenue.ca/event/vancestock-xiv/
LOCATION:Revival Event Venue\, 783 College Street\, Toronto\, Ontario\, M6G 1C5\, Canada
ATTACH;FMTTYPE=image/jpeg:https://www.revivaleventvenue.ca/wp-content/uploads/2025/07/VanstockXIV-Sept25.jpg
END:VEVENT
END:VCALENDAR