BEGIN:VCALENDAR
VERSION:2.0
PRODID:-//Revival Event Venue - Toronto's Premiere Boutique Event Space - ECPv6.15.20//NONSGML v1.0//EN
CALSCALE:GREGORIAN
METHOD:PUBLISH
X-WR-CALNAME:Revival Event Venue - Toronto's Premiere Boutique Event Space
X-ORIGINAL-URL:https://www.revivaleventvenue.ca
X-WR-CALDESC:Events for Revival Event Venue - Toronto's Premiere Boutique Event Space
REFRESH-INTERVAL;VALUE=DURATION:PT1H
X-Robots-Tag:noindex
X-PUBLISHED-TTL:PT1H
BEGIN:VTIMEZONE
TZID:America/Toronto
BEGIN:DAYLIGHT
TZOFFSETFROM:-0500
TZOFFSETTO:-0400
TZNAME:EDT
DTSTART:20240310T070000
END:DAYLIGHT
BEGIN:STANDARD
TZOFFSETFROM:-0400
TZOFFSETTO:-0500
TZNAME:EST
DTSTART:20241103T060000
END:STANDARD
BEGIN:DAYLIGHT
TZOFFSETFROM:-0500
TZOFFSETTO:-0400
TZNAME:EDT
DTSTART:20250309T070000
END:DAYLIGHT
BEGIN:STANDARD
TZOFFSETFROM:-0400
TZOFFSETTO:-0500
TZNAME:EST
DTSTART:20251102T060000
END:STANDARD
BEGIN:DAYLIGHT
TZOFFSETFROM:-0500
TZOFFSETTO:-0400
TZNAME:EDT
DTSTART:20260308T070000
END:DAYLIGHT
BEGIN:STANDARD
TZOFFSETFROM:-0400
TZOFFSETTO:-0500
TZNAME:EST
DTSTART:20261101T060000
END:STANDARD
END:VTIMEZONE
BEGIN:VEVENT
DTSTART;TZID=America/Toronto:20250502T203000
DTEND;TZID=America/Toronto:20250502T233000
DTSTAMP:20260424T091359
CREATED:20250502T053500Z
LAST-MODIFIED:20250502T054046Z
UID:6065-1746217800-1746228600@www.revivaleventvenue.ca
SUMMARY:George Milionis
DESCRIPTION:Join us for an enchanting evening as George Milionis takes the stage with a 9 piece band to perform a captivating selection of music on his clarinet\, showcasing the rich and diverse sounds from across Greece\, the Middle East\, and the Balkans. Through intricate melodies and rhythmic patterns\, this performance highlights the powerful connections between cultures and how music transcends borders\, acting as a universal language that binds us all. \nIt will be testament to the shared histories and intertwining traditions of these regions\, demonstrating how music creates bridges between different ethnic communities. Whether you’re familiar with these musical traditions or experiencing them for the first time\, this performance promises to transport you on a journey through the heart of diverse cultures\, celebrating the unifying power of music. \nClarinet : George Milionis\nDrums : Fotis Mihalarias\nKeyboards : Fatih Yildirim\nPercussions : Mehmet Akyazi\nKanun/Vocals : Tony Ergun Gulbay\nBass : Alihan Inanli\nGuitar : Ozgur Deveci \n** Guest Vocalist : Athina Malli & Stavros Kanichis\n** Guest Saz Baglama : Yannis “Rumi”
URL:https://www.revivaleventvenue.ca/event/george-milionis/
LOCATION:Revival Event Venue\, 783 College Street\, Toronto\, Ontario\, M6G 1C5\, Canada
ATTACH;FMTTYPE=image/jpeg:https://www.revivaleventvenue.ca/wp-content/uploads/2025/05/GeorgeMilionis-May2.jpg
END:VEVENT
BEGIN:VEVENT
DTSTART;TZID=America/Toronto:20250523T190000
DTEND;TZID=America/Toronto:20250524T000000
DTSTAMP:20260424T091359
CREATED:20250503T184404Z
LAST-MODIFIED:20250503T190349Z
UID:6073-1748026800-1748044800@www.revivaleventvenue.ca
SUMMARY:Curly Strings\, The Crosslegs\, Les Rats d’Swompe
DESCRIPTION:Estonian Music Week 2025\nCurly Strings (EST)\nBold bluegrass renovators. Curly Strings is an acoustic four-piece band that draws its inspiration from their own personal heritage in the current Estonian cultural space. Intense and playful ensemble work paired with a sincere presentation of their original music forms the main basis of Curly Strings’ soundscape. The band’s rise in the Estonian music scene in 2013 was a phenomenon unlike any other: a folk music artist became mainstream by collecting national music awards and being the top seller in music stores for more than a year. They bring their unique Baltic take to the acoustic music world in combining the familiar with the unfamiliar\, having catchy heartfelt songwriting side-by-side with folk music aesthetics\, making them an exciting act to look out for. \nThe Crosslegs (EST)\nEnergetic folk rock with an Irish flair. The Crosslegs formed in Tartu in 2016 when a group of childhood friends united to make music together. The five-member ensemble brings together distinct personalities who complement each other both on and off stage. Their sound blends modern folk-rock with Irish influences\, radiating youthful energy\, poetic sensibility\, and romantic spirit – all powered by genuine camaraderie and the pure joy of collective music-making. \nLes Rats d’Swompe (CAN)\nIntroducing people to the sound of the traditional violin\, call and response songs\, and the musicality of the yesteryear. Originally from Northern and Eastern Ontario\, Les Rats d’Swompe are proud French Canadians\, brought together to introduce people to the sound of the traditional violin\, the call and response songs and the musicality of yesteryear. Based in Ottawa\, Les Rats d’Swompe are five plaid lumberjacks who take the stage to fuse elements of rock\, traditional\, pop and punk. These young but experienced musicians are one of the few groups to bring Franco-Ontarian folklore to life. A high energy act that will make you want to sing and dance. \nEstonian Music Week 2025 festival\nThis event is part of the Estonian Music Week (EMW) festival programme running May 22-25. Experience it all with a Festival Pass – 8 concerts from incredible Estonian and Canadians artists. With performances from folktronica to contemporary classical music\, EMW is sure to become your new favourite early-summer music festival.
URL:https://www.revivaleventvenue.ca/event/curly-strings-the-crosslegs-les-rats-dswompe-2/
LOCATION:Revival Event Venue\, 783 College Street\, Toronto\, Ontario\, M6G 1C5\, Canada
ATTACH;FMTTYPE=image/jpeg:https://www.revivaleventvenue.ca/wp-content/uploads/2025/05/curly-strings-the-crosslegs-les-rats-dswompe-estonianMusic-Wk2025-May23.jpg
END:VEVENT
BEGIN:VEVENT
DTSTART;TZID=America/Toronto:20250530T220000
DTEND;TZID=America/Toronto:20250530T220000
DTSTAMP:20260424T091359
CREATED:20250502T052950Z
LAST-MODIFIED:20250502T052950Z
UID:6061-1748642400-1748642400@www.revivaleventvenue.ca
SUMMARY:Razzak Noorani Full Circle Show
DESCRIPTION:Razzak Noorani is a rising Pakistani-Canadian DJ whose mashups have been played by Tiësto and Martin Garrix. Blending progressive house and pop influences\, his emotional\, high-energy sound takes center stage at his first headline show on May 30.
URL:https://www.revivaleventvenue.ca/event/razzak-noorani-full-circle-show/
LOCATION:Revival Event Venue\, 783 College Street\, Toronto\, Ontario\, M6G 1C5\, Canada
ATTACH;FMTTYPE=image/jpeg:https://www.revivaleventvenue.ca/wp-content/uploads/2025/05/RazzakNoorani-May30.jpg
END:VEVENT
END:VCALENDAR