BEGIN:VCALENDAR
VERSION:2.0
PRODID:-//Revival Event Venue - Toronto's Premiere Boutique Event Space - ECPv6.15.20//NONSGML v1.0//EN
CALSCALE:GREGORIAN
METHOD:PUBLISH
X-WR-CALNAME:Revival Event Venue - Toronto's Premiere Boutique Event Space
X-ORIGINAL-URL:https://www.revivaleventvenue.ca
X-WR-CALDESC:Events for Revival Event Venue - Toronto's Premiere Boutique Event Space
REFRESH-INTERVAL;VALUE=DURATION:PT1H
X-Robots-Tag:noindex
X-PUBLISHED-TTL:PT1H
BEGIN:VTIMEZONE
TZID:America/Toronto
BEGIN:DAYLIGHT
TZOFFSETFROM:-0500
TZOFFSETTO:-0400
TZNAME:EDT
DTSTART:20240310T070000
END:DAYLIGHT
BEGIN:STANDARD
TZOFFSETFROM:-0400
TZOFFSETTO:-0500
TZNAME:EST
DTSTART:20241103T060000
END:STANDARD
BEGIN:DAYLIGHT
TZOFFSETFROM:-0500
TZOFFSETTO:-0400
TZNAME:EDT
DTSTART:20250309T070000
END:DAYLIGHT
BEGIN:STANDARD
TZOFFSETFROM:-0400
TZOFFSETTO:-0500
TZNAME:EST
DTSTART:20251102T060000
END:STANDARD
BEGIN:DAYLIGHT
TZOFFSETFROM:-0500
TZOFFSETTO:-0400
TZNAME:EDT
DTSTART:20260308T070000
END:DAYLIGHT
BEGIN:STANDARD
TZOFFSETFROM:-0400
TZOFFSETTO:-0500
TZNAME:EST
DTSTART:20261101T060000
END:STANDARD
END:VTIMEZONE
BEGIN:VEVENT
DTSTART;TZID=America/Toronto:20250516T210000
DTEND;TZID=America/Toronto:20250516T210000
DTSTAMP:20260424T181229
CREATED:20250502T050122Z
LAST-MODIFIED:20250502T050122Z
UID:6052-1747429200-1747429200@www.revivaleventvenue.ca
SUMMARY:Charly & Johayron live onstage
DESCRIPTION:La ciudad que nunca duerme\, Toronto\, se prepara para recibir a dos de los artistas más destacados de la escena musical cubana: Charly y Johayron. El escenario estará listo para recibir a estos dos talentosos cantantes\, que harán que el público se mueva al ritmo de sus canciones más populares. \nEl lugar del concierto\, Revival Event Venue\, es uno de los más emblemáticos de la ciudad\, conocido por su acústica perfecta y su ambiente enérgico. Los fanáticos de Charly y Johayron podrán disfrutar de un espectáculo de alta calidad\, con luces\, sonido y un escenario que hará que se sientan como si estuvieran en el corazón de La Habana. \nThe city that never sleeps\, Toronto\, is preparing to welcome two of the most prominent artists on the Cuban music scene: Charly and Johayron. The stage will be ready to welcome these two talented singers\, who will get the audience moving to the rhythm of their most popular songs. \nFans of Charly and Johayron will be able to enjoy a high-quality show\, with lights\, sound\, and a stage that will make them feel like they are in the heart of Havana. \n@charlyxjohayron
URL:https://www.revivaleventvenue.ca/event/charly-johayron-live-onstage/
LOCATION:Revival Event Venue\, 783 College Street\, Toronto\, Ontario\, M6G 1C5\, Canada
ATTACH;FMTTYPE=image/jpeg:https://www.revivaleventvenue.ca/wp-content/uploads/2025/05/CharlyJohayron-May16.jpg
END:VEVENT
END:VCALENDAR