BEGIN:VCALENDAR
VERSION:2.0
PRODID:-//Revival Event Venue - Toronto's Premiere Boutique Event Space - ECPv6.15.20//NONSGML v1.0//EN
CALSCALE:GREGORIAN
METHOD:PUBLISH
X-WR-CALNAME:Revival Event Venue - Toronto's Premiere Boutique Event Space
X-ORIGINAL-URL:https://www.revivaleventvenue.ca
X-WR-CALDESC:Events for Revival Event Venue - Toronto's Premiere Boutique Event Space
REFRESH-INTERVAL;VALUE=DURATION:PT1H
X-Robots-Tag:noindex
X-PUBLISHED-TTL:PT1H
BEGIN:VTIMEZONE
TZID:America/Toronto
BEGIN:DAYLIGHT
TZOFFSETFROM:-0500
TZOFFSETTO:-0400
TZNAME:EDT
DTSTART:20240310T070000
END:DAYLIGHT
BEGIN:STANDARD
TZOFFSETFROM:-0400
TZOFFSETTO:-0500
TZNAME:EST
DTSTART:20241103T060000
END:STANDARD
BEGIN:DAYLIGHT
TZOFFSETFROM:-0500
TZOFFSETTO:-0400
TZNAME:EDT
DTSTART:20250309T070000
END:DAYLIGHT
BEGIN:STANDARD
TZOFFSETFROM:-0400
TZOFFSETTO:-0500
TZNAME:EST
DTSTART:20251102T060000
END:STANDARD
BEGIN:DAYLIGHT
TZOFFSETFROM:-0500
TZOFFSETTO:-0400
TZNAME:EDT
DTSTART:20260308T070000
END:DAYLIGHT
BEGIN:STANDARD
TZOFFSETFROM:-0400
TZOFFSETTO:-0500
TZNAME:EST
DTSTART:20261101T060000
END:STANDARD
END:VTIMEZONE
BEGIN:VEVENT
DTSTART;TZID=America/Toronto:20250919T213000
DTEND;TZID=America/Toronto:20250920T023000
DTSTAMP:20260424T020413
CREATED:20250805T203156Z
LAST-MODIFIED:20250910T173434Z
UID:6201-1758317400-1758335400@www.revivaleventvenue.ca
SUMMARY:Renaissance - All 90's All Night
DESCRIPTION:Starting From Scratch\, Mista Jiggz\, & Agile\nToronto’s Longest Running ALL 90s Party\nMusical soundtrack by\nSTARTING FROM SCRATCH (Russell Peters’ Official DJ)\nAGILE (Kardinal Offishall’s Official DJ)\nMISTA JIGGZ (Renaissance Resident) \nLimited Early Bird tickets on-sale August 2 at 10am EST.  \nFor booth reservations/bottle service\, email david@revivaleventvenue.ca. For group bookings/info.\, email info@browneyesentertainment.com. \nPlease note: there is NO GUESTLIST for this event. \nwww.browneyesentertainment.com
URL:https://www.revivaleventvenue.ca/event/renaissance-all-90s-all-night-6/
LOCATION:Revival Event Venue\, 783 College Street\, Toronto\, Ontario\, M6G 1C5\, Canada
ATTACH;FMTTYPE=image/jpeg:https://www.revivaleventvenue.ca/wp-content/uploads/2025/08/RENAISSANCE-SEPT2025-LR.jpg
ORGANIZER;CN="Brown Eyes Entertainment":MAILTO:info@browneyesentertainment.com
END:VEVENT
BEGIN:VEVENT
DTSTART;TZID=America/Toronto:20250920T220000
DTEND;TZID=America/Toronto:20250921T020000
DTSTAMP:20260424T020413
CREATED:20250722T141337Z
LAST-MODIFIED:20250722T141337Z
UID:6160-1758405600-1758420000@www.revivaleventvenue.ca
SUMMARY:I love the 90s ~ The Party
DESCRIPTION:Relive your Favorite memories with the most electric 90s dance party experience! \nToronto it’s time to unwind.\nBack by and louder than ever\, we’re bringing back the ultimate 90s dance party. Join us on Saturday September 20th\, 2025 for an electric night full of memories and a ride through the best decade of all time. Alongside the best DJs spinning classic dance and club anthems from the 90s! Wear your best 90s outfit & get ready for a night of positive vibes and the most unforgettable experience. All of our past 90s events have sold out so make sure you grab your tickets and come on down for a night to experience. \nBased out of Toronto\, we are always ready to give you the best party and will make sure you have a night you will never forget with amazing 90s euro\, dance\, house\, trance\, pop & more. \nFeaturing DJs DJ Marky D\, Mauricio Castano\, Davide Ferrara and surprises all night long. \nWe will be sold out. 19+ event.
URL:https://www.revivaleventvenue.ca/event/i-love-the-90s-the-party/
LOCATION:Revival Event Venue\, 783 College Street\, Toronto\, Ontario\, M6G 1C5\, Canada
ATTACH;FMTTYPE=image/jpeg:https://www.revivaleventvenue.ca/wp-content/uploads/2025/07/Ilove90s-Sept20.jpg
ORGANIZER;CN="Euro Nation":MAILTO:info@euronation.ca
END:VEVENT
END:VCALENDAR