BEGIN:VCALENDAR
VERSION:2.0
PRODID:-//Revival Event Venue - Toronto's Premiere Boutique Event Space - ECPv6.15.20//NONSGML v1.0//EN
CALSCALE:GREGORIAN
METHOD:PUBLISH
X-ORIGINAL-URL:https://www.revivaleventvenue.ca
X-WR-CALDESC:Events for Revival Event Venue - Toronto's Premiere Boutique Event Space
REFRESH-INTERVAL;VALUE=DURATION:PT1H
X-Robots-Tag:noindex
X-PUBLISHED-TTL:PT1H
BEGIN:VTIMEZONE
TZID:America/Toronto
BEGIN:DAYLIGHT
TZOFFSETFROM:-0500
TZOFFSETTO:-0400
TZNAME:EDT
DTSTART:20230312T070000
END:DAYLIGHT
BEGIN:STANDARD
TZOFFSETFROM:-0400
TZOFFSETTO:-0500
TZNAME:EST
DTSTART:20231105T060000
END:STANDARD
BEGIN:DAYLIGHT
TZOFFSETFROM:-0500
TZOFFSETTO:-0400
TZNAME:EDT
DTSTART:20240310T070000
END:DAYLIGHT
BEGIN:STANDARD
TZOFFSETFROM:-0400
TZOFFSETTO:-0500
TZNAME:EST
DTSTART:20241103T060000
END:STANDARD
BEGIN:DAYLIGHT
TZOFFSETFROM:-0500
TZOFFSETTO:-0400
TZNAME:EDT
DTSTART:20250309T070000
END:DAYLIGHT
BEGIN:STANDARD
TZOFFSETFROM:-0400
TZOFFSETTO:-0500
TZNAME:EST
DTSTART:20251102T060000
END:STANDARD
END:VTIMEZONE
BEGIN:VEVENT
DTSTART;TZID=America/Toronto:20240426T190000
DTEND;TZID=America/Toronto:20240426T230000
DTSTAMP:20260425T112221
CREATED:20240408T020225Z
LAST-MODIFIED:20240408T040823Z
UID:5450-1714158000-1714172400@www.revivaleventvenue.ca
SUMMARY:DMTV Underground Showcase
DESCRIPTION:This marks our fourth DMTV underground showcase\, where we’re spotlighting some of the finest talents from Toronto. \nWelcome to the fourth official DMTV underground showcase. This evening promises to deliver a high-quality mainstream experience and bring some of the city’s finest underground talent. Join us on Friday\, April 26th for a night that will deliver the best R&B\, Pop\, and melodic Rap artists the city has to offer. \nLineup\n\nRYE. 783\nMisaa\nSlayde\nNick Souza\nLil Esso\n\nHeadliner\n\nKwazii
URL:https://www.revivaleventvenue.ca/event/dmtv-underground-showcase-2/
LOCATION:Revival Event Venue\, 783 College Street\, Toronto\, Ontario\, M6G 1C5\, Canada
ATTACH;FMTTYPE=image/jpeg:https://www.revivaleventvenue.ca/wp-content/uploads/2024/04/SDMTVunderground-April26.jpg
END:VEVENT
END:VCALENDAR