BEGIN:VCALENDAR
VERSION:2.0
PRODID:-//Revival Event Venue - Toronto's Premiere Boutique Event Space - ECPv6.15.20//NONSGML v1.0//EN
CALSCALE:GREGORIAN
METHOD:PUBLISH
X-WR-CALNAME:Revival Event Venue - Toronto's Premiere Boutique Event Space
X-ORIGINAL-URL:https://www.revivaleventvenue.ca
X-WR-CALDESC:Events for Revival Event Venue - Toronto's Premiere Boutique Event Space
REFRESH-INTERVAL;VALUE=DURATION:PT1H
X-Robots-Tag:noindex
X-PUBLISHED-TTL:PT1H
BEGIN:VTIMEZONE
TZID:America/Toronto
BEGIN:DAYLIGHT
TZOFFSETFROM:-0500
TZOFFSETTO:-0400
TZNAME:EDT
DTSTART:20230312T070000
END:DAYLIGHT
BEGIN:STANDARD
TZOFFSETFROM:-0400
TZOFFSETTO:-0500
TZNAME:EST
DTSTART:20231105T060000
END:STANDARD
BEGIN:DAYLIGHT
TZOFFSETFROM:-0500
TZOFFSETTO:-0400
TZNAME:EDT
DTSTART:20240310T070000
END:DAYLIGHT
BEGIN:STANDARD
TZOFFSETFROM:-0400
TZOFFSETTO:-0500
TZNAME:EST
DTSTART:20241103T060000
END:STANDARD
BEGIN:DAYLIGHT
TZOFFSETFROM:-0500
TZOFFSETTO:-0400
TZNAME:EDT
DTSTART:20250309T070000
END:DAYLIGHT
BEGIN:STANDARD
TZOFFSETFROM:-0400
TZOFFSETTO:-0500
TZNAME:EST
DTSTART:20251102T060000
END:STANDARD
END:VTIMEZONE
BEGIN:VEVENT
DTSTART;TZID=America/Toronto:20240113T220000
DTEND;TZID=America/Toronto:20240114T030000
DTSTAMP:20260425T160017
CREATED:20240111T220531Z
LAST-MODIFIED:20240111T220531Z
UID:5267-1705183200-1705201200@www.revivaleventvenue.ca
SUMMARY:Tracksuit Season vol.2 ~ in the Stone Lounge
DESCRIPTION:Celebrating the birthday of Berwinn\nCome celebrate my birthday with me\, Berwinn. Throw on your favourite tracksuit\, have a few drinks and be prepared to turn up all night to the sounds of DJ Superstar @dj_superstarr and DJ D-NYCE @thisisdnyce Spinning the best in Hip hop\, Afrobeats\, Reggae\, Soca\, R&B and Old School. \nDoors open 10pm. Advanced tickets $20.
URL:https://www.revivaleventvenue.ca/event/tracksuit-season-vol-2-in-the-stone-lounge/
LOCATION:The Stone Lounge\, downstairs at Revival\, 783 College Street\, basement\, Toronto\, Canada
ATTACH;FMTTYPE=image/jpeg:https://www.revivaleventvenue.ca/wp-content/uploads/2024/01/TracksuitSeason-Jan13sqr.jpg
END:VEVENT
BEGIN:VEVENT
DTSTART;TZID=America/Toronto:20240113T220000
DTEND;TZID=America/Toronto:20240114T033000
DTSTAMP:20260425T160017
CREATED:20231123T200804Z
LAST-MODIFIED:20231123T200804Z
UID:5201-1705183200-1705203000@www.revivaleventvenue.ca
SUMMARY:This is Me
DESCRIPTION:Come celebrate the birthday of Trinisocafreak aka Carnival Plug and all Capricorns!!! This is going to be a movie! \nThink SLACKNESS MEETS BOOZE & BACCHANAL!\nDealing up the grooves we love in the flaves of hiphop\, reggae\, acrobats\, dancehall\, soca\, and urban. \nDress code ALL BLACK (with a hint of purple)
URL:https://www.revivaleventvenue.ca/event/this-is-me/
LOCATION:Revival Event Venue\, 783 College Street\, Toronto\, Ontario\, M6G 1C5\, Canada
ATTACH;FMTTYPE=image/jpeg:https://www.revivaleventvenue.ca/wp-content/uploads/2023/11/ThisIsMe-Jan13.jpg
END:VEVENT
BEGIN:VEVENT
DTSTART;TZID=America/Toronto:20240119T220000
DTEND;TZID=America/Toronto:20240120T030000
DTSTAMP:20260425T160017
CREATED:20231130T041745Z
LAST-MODIFIED:20231212T222536Z
UID:5211-1705701600-1705719600@www.revivaleventvenue.ca
SUMMARY:Renaissance
DESCRIPTION:All nineties music. All night long. Celebrating the birthday of DJ Thera-P (Sweet Touch Foundation). \nToronto’s longest running all 90s party. \nFeaturing music by Mista Jiggz\, Agile\, Jester\, and Sweet Touch Foundation. \nBrown Eyes Entertainment in association with STF\, ThisIsJester.com\, and DJAgile.com presentation. \nFor booth reservations/bottle service\, email david@revivaleventvenue.ca. For group bookings/info.\, email info@browneyesentertainment.com. \nwww.browneyesentertainment.com
URL:https://www.revivaleventvenue.ca/event/renaissance/
LOCATION:Revival Event Venue\, 783 College Street\, Toronto\, Ontario\, M6G 1C5\, Canada
ATTACH;FMTTYPE=image/jpeg:https://www.revivaleventvenue.ca/wp-content/uploads/2023/11/renaissance-jan19-LR.jpg
ORGANIZER;CN="Brown Eyes Entertainment":MAILTO:info@browneyesentertainment.com
END:VEVENT
BEGIN:VEVENT
DTSTART;TZID=America/Toronto:20240120T220000
DTEND;TZID=America/Toronto:20240121T030000
DTSTAMP:20260425T160017
CREATED:20231222T173809Z
LAST-MODIFIED:20231222T181812Z
UID:5240-1705788000-1705806000@www.revivaleventvenue.ca
SUMMARY:iLIKE - Capricorn and Aquarius Celebration
DESCRIPTION:The ultimate capricorn aquarius celebration party 2024 returns celebrating all capricorns and aquarians. \nCelebrating the birthdays of DJ Jason Chambers and DJ Thera P of Sweet Touch Foundation. \nMusical vibes and energy orchestration: DJ Chambers\, Dr Jay\, Sweet Touch Foundation\, DJ Skitz\, Steenie\, Brenton B \nEVENT INFO | BDAY PACKAGES: \nBRENTON B. | 416.697.7299 | mcbrentonb@gmail.com | @mcbrentonb\nKINETIC | 647.770.0760| kineticcc@hotmail.com | @kinetic365.live\nJASON | get@djjasonchambers.com | @djjasonchambers\nBOTTLE SERVICE: david@revivaleventvenue.ca \nLimited $20 early bird tix now on sale.
URL:https://www.revivaleventvenue.ca/event/ilike-capricorn-and-aquarius-celebration/
LOCATION:Revival Event Venue\, 783 College Street\, Toronto\, Ontario\, M6G 1C5\, Canada
ATTACH;FMTTYPE=image/jpeg:https://www.revivaleventvenue.ca/wp-content/uploads/2023/12/iLike-Jan20banner.jpg
ORGANIZER;CN="DJ Jason Chambers":MAILTO:get@djjasonchambers.com
END:VEVENT
END:VCALENDAR