BEGIN:VCALENDAR
VERSION:2.0
PRODID:-//Revival Event Venue - Toronto's Premiere Boutique Event Space - ECPv6.15.20//NONSGML v1.0//EN
CALSCALE:GREGORIAN
METHOD:PUBLISH
X-ORIGINAL-URL:https://www.revivaleventvenue.ca
X-WR-CALDESC:Events for Revival Event Venue - Toronto's Premiere Boutique Event Space
REFRESH-INTERVAL;VALUE=DURATION:PT1H
X-Robots-Tag:noindex
X-PUBLISHED-TTL:PT1H
BEGIN:VTIMEZONE
TZID:America/Toronto
BEGIN:DAYLIGHT
TZOFFSETFROM:-0500
TZOFFSETTO:-0400
TZNAME:EDT
DTSTART:20240310T070000
END:DAYLIGHT
BEGIN:STANDARD
TZOFFSETFROM:-0400
TZOFFSETTO:-0500
TZNAME:EST
DTSTART:20241103T060000
END:STANDARD
BEGIN:DAYLIGHT
TZOFFSETFROM:-0500
TZOFFSETTO:-0400
TZNAME:EDT
DTSTART:20250309T070000
END:DAYLIGHT
BEGIN:STANDARD
TZOFFSETFROM:-0400
TZOFFSETTO:-0500
TZNAME:EST
DTSTART:20251102T060000
END:STANDARD
BEGIN:DAYLIGHT
TZOFFSETFROM:-0500
TZOFFSETTO:-0400
TZNAME:EDT
DTSTART:20260308T070000
END:DAYLIGHT
BEGIN:STANDARD
TZOFFSETFROM:-0400
TZOFFSETTO:-0500
TZNAME:EST
DTSTART:20261101T060000
END:STANDARD
END:VTIMEZONE
BEGIN:VEVENT
DTSTART;TZID=America/Toronto:20250408T080000
DTEND;TZID=America/Toronto:20250408T170000
DTSTAMP:20260424T124916
CREATED:20250408T205323Z
LAST-MODIFIED:20250408T205323Z
UID:5988-1744099200-1744131600@www.revivaleventvenue.ca
SUMMARY:RENAISSANCE - ALL 90s . ALL Night
DESCRIPTION:with Neil Armstrong\, Agile\, Black Reaction\, & Mista Jiggz\nToronto’s longest running ALL 90s party returns with special guests\, NEIL ARMSTRONG\, & BLACK REACTION! Celebrating the birthday of DJ Agile. \nMusical soundtrack by \nNEIL ARMSTRONG (Jay-Z’s former tour DJ) \nAGILE \nBLACK REACTION \nMISTA JIGGZ \nLimited Early Bird tickets on-sale Thursday\, April 10 @ 12pm \nFor booth reservations/bottle service\, email david@revivaleventvenue.ca. For group bookings/info.\, email info@browneyesentertainment.com. \nNO GUESTLIST \nwww.browneyesentertainment.com
URL:https://www.revivaleventvenue.ca/event/renaissance-all-90s-all-night-4/
LOCATION:Revival Event Venue\, 783 College Street\, Toronto\, Ontario\, M6G 1C5\, Canada
ORGANIZER;CN="Brown Eyes Entertainment":MAILTO:info@browneyesentertainment.com
END:VEVENT
END:VCALENDAR