BEGIN:VCALENDAR
VERSION:2.0
PRODID:-//Revival Event Venue - Toronto's Premiere Boutique Event Space - ECPv6.15.20//NONSGML v1.0//EN
CALSCALE:GREGORIAN
METHOD:PUBLISH
X-WR-CALNAME:Revival Event Venue - Toronto's Premiere Boutique Event Space
X-ORIGINAL-URL:https://www.revivaleventvenue.ca
X-WR-CALDESC:Events for Revival Event Venue - Toronto's Premiere Boutique Event Space
REFRESH-INTERVAL;VALUE=DURATION:PT1H
X-Robots-Tag:noindex
X-PUBLISHED-TTL:PT1H
BEGIN:VTIMEZONE
TZID:America/Toronto
BEGIN:DAYLIGHT
TZOFFSETFROM:-0500
TZOFFSETTO:-0400
TZNAME:EDT
DTSTART:20230312T070000
END:DAYLIGHT
BEGIN:STANDARD
TZOFFSETFROM:-0400
TZOFFSETTO:-0500
TZNAME:EST
DTSTART:20231105T060000
END:STANDARD
BEGIN:DAYLIGHT
TZOFFSETFROM:-0500
TZOFFSETTO:-0400
TZNAME:EDT
DTSTART:20240310T070000
END:DAYLIGHT
BEGIN:STANDARD
TZOFFSETFROM:-0400
TZOFFSETTO:-0500
TZNAME:EST
DTSTART:20241103T060000
END:STANDARD
BEGIN:DAYLIGHT
TZOFFSETFROM:-0500
TZOFFSETTO:-0400
TZNAME:EDT
DTSTART:20250309T070000
END:DAYLIGHT
BEGIN:STANDARD
TZOFFSETFROM:-0400
TZOFFSETTO:-0500
TZNAME:EST
DTSTART:20251102T060000
END:STANDARD
END:VTIMEZONE
BEGIN:VEVENT
DTSTART;TZID=America/Toronto:20241004T203000
DTEND;TZID=America/Toronto:20241005T023000
DTSTAMP:20260425T074702
CREATED:20240825T053556Z
LAST-MODIFIED:20240825T053827Z
UID:5699-1728073800-1728095400@www.revivaleventvenue.ca
SUMMARY:Pulse Dance Showcase - You Got Served
DESCRIPTION:They’re back. The city’s grandest dance showcase\, celebrating talented friends. Join us for a night filled with music\, dancing\, and positive energy. \nPulse was created for more than just this one event. It is designed to give future dancers or anyone with passion to dance the opportunity to shine and really showcase what they can do. We want the dance industry to be seen and appreciated. \nWatch two worlds collide\, the dance and club industry. Some of the best hip hop choreographers from the city showcasing and performing for Toronto’s night life. The main focus for this showcase is to give dancers the opportunity to touch new audiences and show what dance is all about. \nAfter the performance\, dancers and audience will be able to celebrate together with sounds by Nari\, Fella\, Moretimesmili\, Margeaux. \nProceeds from the ticket and merchandise sales will be directly going towards the headlining acts. \n\nPULSE WILL BE PICKING 5 CHOREOGRAPHERS FROM SUBMISSIONS TO BE PART OF OUR OCTOBER SHOW! \nTo Submit you must be 19+\nPlease Email Us the following:\n• Name\n• Contact information ( number\,email )\n• group size (Minimum 5\, Max 15**)\n• Video Footage (Most Recent\, Minimum 1-2 min long) \nPLEASE SUBMIT ALL DETAILS LISTED ABOVE TO BUSINESSWITHPULSE@GMAIL.COM \nSUBMISSIONS DUE AUGUST 30th
URL:https://www.revivaleventvenue.ca/event/pulse-dance-showcase-you-got-served/
LOCATION:Revival Event Venue\, 783 College Street\, Toronto\, Ontario\, M6G 1C5\, Canada
ATTACH;FMTTYPE=image/jpeg:https://www.revivaleventvenue.ca/wp-content/uploads/2024/08/Pulse-YouGotServed-Oct4.jpg
END:VEVENT
END:VCALENDAR