BEGIN:VCALENDAR
VERSION:2.0
PRODID:-//Revival Event Venue - Toronto's Premiere Boutique Event Space - ECPv6.15.20//NONSGML v1.0//EN
CALSCALE:GREGORIAN
METHOD:PUBLISH
X-ORIGINAL-URL:https://www.revivaleventvenue.ca
X-WR-CALDESC:Events for Revival Event Venue - Toronto's Premiere Boutique Event Space
REFRESH-INTERVAL;VALUE=DURATION:PT1H
X-Robots-Tag:noindex
X-PUBLISHED-TTL:PT1H
BEGIN:VTIMEZONE
TZID:America/Toronto
BEGIN:DAYLIGHT
TZOFFSETFROM:-0500
TZOFFSETTO:-0400
TZNAME:EDT
DTSTART:20230312T070000
END:DAYLIGHT
BEGIN:STANDARD
TZOFFSETFROM:-0400
TZOFFSETTO:-0500
TZNAME:EST
DTSTART:20231105T060000
END:STANDARD
BEGIN:DAYLIGHT
TZOFFSETFROM:-0500
TZOFFSETTO:-0400
TZNAME:EDT
DTSTART:20240310T070000
END:DAYLIGHT
BEGIN:STANDARD
TZOFFSETFROM:-0400
TZOFFSETTO:-0500
TZNAME:EST
DTSTART:20241103T060000
END:STANDARD
BEGIN:DAYLIGHT
TZOFFSETFROM:-0500
TZOFFSETTO:-0400
TZNAME:EDT
DTSTART:20250309T070000
END:DAYLIGHT
BEGIN:STANDARD
TZOFFSETFROM:-0400
TZOFFSETTO:-0500
TZNAME:EST
DTSTART:20251102T060000
END:STANDARD
END:VTIMEZONE
BEGIN:VEVENT
DTSTART;TZID=America/Toronto:20240524T200000
DTEND;TZID=America/Toronto:20240622T030000
DTSTAMP:20260425T115935
CREATED:20240429T180307Z
LAST-MODIFIED:20240429T180327Z
UID:5504-1716580800-1719025200@www.revivaleventvenue.ca
SUMMARY:Dance & Mingle\, down in the Stone Lounge
DESCRIPTION:Old School\, Hip-Hop\, R&B\, Dancehall\, Afrobeats\nCome celebrate the 2-Year Anniversary of Dance & Mingle! We’re back with the Old School anthems! Connect. Move. Mingle. Vibe. The famous DJ Sound Curator will have you moving all night\, playing the best in Old School Hip-Hop\, R&B\, Dancehall\, Afro and more…. \nDance & Mingle is the place to share good vibes and free up yourself. This is a judgment free zone\, just come as you are with your best attire. \nThis event is happening in the Stone Lounge – the basement space under Revival’s main floor.
URL:https://www.revivaleventvenue.ca/event/dance-mingle-down-in-the-stone-lounge/
LOCATION:Revival Event Venue\, 783 College Street\, Toronto\, Ontario\, M6G 1C5\, Canada
ATTACH;FMTTYPE=image/jpeg:https://www.revivaleventvenue.ca/wp-content/uploads/2024/04/DanceAndMingle-May24sqr.jpg
END:VEVENT
BEGIN:VEVENT
DTSTART;TZID=America/Toronto:20240621T200000
DTEND;TZID=America/Toronto:20240622T020000
DTSTAMP:20260425T115935
CREATED:20240513T135725Z
LAST-MODIFIED:20240513T151716Z
UID:5535-1719000000-1719021600@www.revivaleventvenue.ca
SUMMARY:Pulse
DESCRIPTION:They’re back. The city’s grandest dance showcase\, celebrating talented friends. Join us for a night filled with music\, dancing\, and positive energy. \nPulse was created for more than just this one event. It is designed to give future dancers or anyone with passion to dance the opportunity to shine and really showcase what they can do. We want the dance industry to be seen and appreciated. \nWatch two worlds collide\, the dance and club industry. Some of the best hip hop choreographers from the city showcasing and performing for Toronto’s night life. The main focus for this showcase is to give dancers the opportunity to touch new audiences and show what dance is all about. \nAfter the performance\, dancers and audience will be able to celebrate together with sounds by Nari\, Fella\, Moretimesmili\, Margeaux. \nProceeds from the ticket and merchandise sales will be directly going towards the headlining acts. \nDoors open 8:00pm. \nShow begins 9:30pm. \nAfterparty 10:30pm.
URL:https://www.revivaleventvenue.ca/event/pulse-2/
LOCATION:Revival Event Venue\, 783 College Street\, Toronto\, Ontario\, M6G 1C5\, Canada
ATTACH;FMTTYPE=image/jpeg:https://www.revivaleventvenue.ca/wp-content/uploads/2024/05/Pulse-June21.jpg
END:VEVENT
END:VCALENDAR