BEGIN:VCALENDAR
VERSION:2.0
PRODID:-//Revival Event Venue - Toronto's Premiere Boutique Event Space - ECPv6.15.20//NONSGML v1.0//EN
CALSCALE:GREGORIAN
METHOD:PUBLISH
X-WR-CALNAME:Revival Event Venue - Toronto's Premiere Boutique Event Space
X-ORIGINAL-URL:https://www.revivaleventvenue.ca
X-WR-CALDESC:Events for Revival Event Venue - Toronto's Premiere Boutique Event Space
REFRESH-INTERVAL;VALUE=DURATION:PT1H
X-Robots-Tag:noindex
X-PUBLISHED-TTL:PT1H
BEGIN:VTIMEZONE
TZID:America/Toronto
BEGIN:DAYLIGHT
TZOFFSETFROM:-0500
TZOFFSETTO:-0400
TZNAME:EDT
DTSTART:20240310T070000
END:DAYLIGHT
BEGIN:STANDARD
TZOFFSETFROM:-0400
TZOFFSETTO:-0500
TZNAME:EST
DTSTART:20241103T060000
END:STANDARD
BEGIN:DAYLIGHT
TZOFFSETFROM:-0500
TZOFFSETTO:-0400
TZNAME:EDT
DTSTART:20250309T070000
END:DAYLIGHT
BEGIN:STANDARD
TZOFFSETFROM:-0400
TZOFFSETTO:-0500
TZNAME:EST
DTSTART:20251102T060000
END:STANDARD
BEGIN:DAYLIGHT
TZOFFSETFROM:-0500
TZOFFSETTO:-0400
TZNAME:EDT
DTSTART:20260308T070000
END:DAYLIGHT
BEGIN:STANDARD
TZOFFSETFROM:-0400
TZOFFSETTO:-0500
TZNAME:EST
DTSTART:20261101T060000
END:STANDARD
END:VTIMEZONE
BEGIN:VEVENT
DTSTART;TZID=America/Toronto:20250502T203000
DTEND;TZID=America/Toronto:20250502T233000
DTSTAMP:20260424T173948
CREATED:20250502T053500Z
LAST-MODIFIED:20250502T054046Z
UID:6065-1746217800-1746228600@www.revivaleventvenue.ca
SUMMARY:George Milionis
DESCRIPTION:Join us for an enchanting evening as George Milionis takes the stage with a 9 piece band to perform a captivating selection of music on his clarinet\, showcasing the rich and diverse sounds from across Greece\, the Middle East\, and the Balkans. Through intricate melodies and rhythmic patterns\, this performance highlights the powerful connections between cultures and how music transcends borders\, acting as a universal language that binds us all. \nIt will be testament to the shared histories and intertwining traditions of these regions\, demonstrating how music creates bridges between different ethnic communities. Whether you’re familiar with these musical traditions or experiencing them for the first time\, this performance promises to transport you on a journey through the heart of diverse cultures\, celebrating the unifying power of music. \nClarinet : George Milionis\nDrums : Fotis Mihalarias\nKeyboards : Fatih Yildirim\nPercussions : Mehmet Akyazi\nKanun/Vocals : Tony Ergun Gulbay\nBass : Alihan Inanli\nGuitar : Ozgur Deveci \n** Guest Vocalist : Athina Malli & Stavros Kanichis\n** Guest Saz Baglama : Yannis “Rumi”
URL:https://www.revivaleventvenue.ca/event/george-milionis/
LOCATION:Revival Event Venue\, 783 College Street\, Toronto\, Ontario\, M6G 1C5\, Canada
ATTACH;FMTTYPE=image/jpeg:https://www.revivaleventvenue.ca/wp-content/uploads/2025/05/GeorgeMilionis-May2.jpg
END:VEVENT
END:VCALENDAR