BEGIN:VCALENDAR
VERSION:2.0
PRODID:-//Revival Event Venue - Toronto's Premiere Boutique Event Space - ECPv6.15.20//NONSGML v1.0//EN
CALSCALE:GREGORIAN
METHOD:PUBLISH
X-WR-CALNAME:Revival Event Venue - Toronto's Premiere Boutique Event Space
X-ORIGINAL-URL:https://www.revivaleventvenue.ca
X-WR-CALDESC:Events for Revival Event Venue - Toronto's Premiere Boutique Event Space
REFRESH-INTERVAL;VALUE=DURATION:PT1H
X-Robots-Tag:noindex
X-PUBLISHED-TTL:PT1H
BEGIN:VTIMEZONE
TZID:America/Toronto
BEGIN:DAYLIGHT
TZOFFSETFROM:-0500
TZOFFSETTO:-0400
TZNAME:EDT
DTSTART:20250309T070000
END:DAYLIGHT
BEGIN:STANDARD
TZOFFSETFROM:-0400
TZOFFSETTO:-0500
TZNAME:EST
DTSTART:20251102T060000
END:STANDARD
BEGIN:DAYLIGHT
TZOFFSETFROM:-0500
TZOFFSETTO:-0400
TZNAME:EDT
DTSTART:20260308T070000
END:DAYLIGHT
BEGIN:STANDARD
TZOFFSETFROM:-0400
TZOFFSETTO:-0500
TZNAME:EST
DTSTART:20261101T060000
END:STANDARD
BEGIN:DAYLIGHT
TZOFFSETFROM:-0500
TZOFFSETTO:-0400
TZNAME:EDT
DTSTART:20270314T070000
END:DAYLIGHT
BEGIN:STANDARD
TZOFFSETFROM:-0400
TZOFFSETTO:-0500
TZNAME:EST
DTSTART:20271107T060000
END:STANDARD
END:VTIMEZONE
BEGIN:VEVENT
DTSTART;TZID=America/Toronto:20260515T210000
DTEND;TZID=America/Toronto:20260516T020000
DTSTAMP:20260423T165358
CREATED:20260403T184442Z
LAST-MODIFIED:20260403T184442Z
UID:6496-1778878800-1778896800@www.revivaleventvenue.ca
SUMMARY:Mixtape 2.0 – Dance Party Encore
DESCRIPTION:Back by popular demand — and because your feedback was clear: don’t wait too long — we’re bringing the Mixtape experience back to Toronto. \nMixtape 2.0 – Dance Party Encore is officially here.  \nAfter an unforgettable first night filled with nostalgia\, high energy\, and a packed dance floor\, we’re returning with the premium live music experience that had everyone asking for more. This is more than a concert — it’s a full-on celebration of the golden era of Greek songwriting from the ’90s and early 2000s.  \nThe songs that shaped our teenage and early adult years… the lyrics we still know by heart… the hits that defined a generation.  \n Starring: Anastasia Kakagianni & Stavros Kanichis\n Music Direction & Maestro: Alexandros Batsoulis \nGet ready for a night designed to keep the energy high\, the dance floor packed\, and the memories unforgettable.  \n Ages: 16+ (valid ID required) \n Tickets are limited and seating is first come\, first served. Join us for the encore you asked for — another unforgettable night of music\, nostalgia\, and nonstop dancing.  Kindly note: All tickets are final sale and non-refundable.
URL:https://www.revivaleventvenue.ca/event/mixtape-2-0-dance-party-encore/
LOCATION:Revival Event Venue\, 783 College Street\, Toronto\, Ontario\, M6G 1C5\, Canada
ATTACH;FMTTYPE=image/jpeg:https://www.revivaleventvenue.ca/wp-content/uploads/2026/04/Mixtap2.0-May15.jpg
ORGANIZER;CN="Mixtape Team":MAILTO:NorthStageManagement@gmail.com
END:VEVENT
END:VCALENDAR