BEGIN:VCALENDAR
VERSION:2.0
PRODID:-//Revival Event Venue - Toronto's Premiere Boutique Event Space - ECPv6.15.20//NONSGML v1.0//EN
CALSCALE:GREGORIAN
METHOD:PUBLISH
X-ORIGINAL-URL:https://www.revivaleventvenue.ca
X-WR-CALDESC:Events for Revival Event Venue - Toronto's Premiere Boutique Event Space
REFRESH-INTERVAL;VALUE=DURATION:PT1H
X-Robots-Tag:noindex
X-PUBLISHED-TTL:PT1H
BEGIN:VTIMEZONE
TZID:America/Toronto
BEGIN:DAYLIGHT
TZOFFSETFROM:-0500
TZOFFSETTO:-0400
TZNAME:EDT
DTSTART:20230312T070000
END:DAYLIGHT
BEGIN:STANDARD
TZOFFSETFROM:-0400
TZOFFSETTO:-0500
TZNAME:EST
DTSTART:20231105T060000
END:STANDARD
BEGIN:DAYLIGHT
TZOFFSETFROM:-0500
TZOFFSETTO:-0400
TZNAME:EDT
DTSTART:20240310T070000
END:DAYLIGHT
BEGIN:STANDARD
TZOFFSETFROM:-0400
TZOFFSETTO:-0500
TZNAME:EST
DTSTART:20241103T060000
END:STANDARD
BEGIN:DAYLIGHT
TZOFFSETFROM:-0500
TZOFFSETTO:-0400
TZNAME:EDT
DTSTART:20250309T070000
END:DAYLIGHT
BEGIN:STANDARD
TZOFFSETFROM:-0400
TZOFFSETTO:-0500
TZNAME:EST
DTSTART:20251102T060000
END:STANDARD
END:VTIMEZONE
BEGIN:VEVENT
DTSTART;TZID=America/Toronto:20241207T213000
DTEND;TZID=America/Toronto:20241208T023000
DTSTAMP:20260425T221246
CREATED:20241025T185651Z
LAST-MODIFIED:20241115T185025Z
UID:5773-1733607000-1733625000@www.revivaleventvenue.ca
SUMMARY:Forever Young - 80s Dance Party with Maestro Fresh Wes
DESCRIPTION:For the first time ever\, Toronto’s hottest 80’s party features a special live performance from legendary Canadian Hip-Hop artist and Canadian Music Hall of Fame inductee\, MAESTRO FRESH WES! Get ready to Let Your Backbone Slide as we celebrate the birthday of the one and only\, Mista Jiggz. \nMusic provided by special guests DJ Riccachet (of Sweet Touch Foundation) and DJ Agile (Kardinal Offishall’s DJ) alongside Forever Young resident\, Mista Jiggz. Hosted by Husein Madhavji and Salima Rawji. \nStrap on your dancing shoes and get your voices ready as we take you on a journey through the 80s\, playing Pop\, New Wave\, RnB\, Rap\, House\, Funk\, Freestyle\, Reggae + more. \nDoors @ 9:30pm. Limited $20 Early Bird tickets on-sale Friday\, November 1st @ 12pm. \nwww.browneyesentertainment.com \nFor booth reservations/bottle service\, email david@revivaleventvenue.ca. For group bookings/info.\, email info@browneyesentertainment.com \nPresented by Brown Eyes Entertainment in association with Sweet Touch Foundation. Supported by NuFunk\, Play De Record\, and Canterbury Crescent Filmworks.
URL:https://www.revivaleventvenue.ca/event/forever-young-80s-dance-party/
LOCATION:Revival Event Venue\, 783 College Street\, Toronto\, Ontario\, M6G 1C5\, Canada
ATTACH;FMTTYPE=image/jpeg:https://www.revivaleventvenue.ca/wp-content/uploads/2024/10/ForeverYoung-Dec7LR-1.jpg
ORGANIZER;CN="Brown Eyes Entertainment":MAILTO:info@browneyesentertainment.com
END:VEVENT
BEGIN:VEVENT
DTSTART;TZID=America/Toronto:20241214T220000
DTEND;TZID=America/Toronto:20241215T023000
DTSTAMP:20260425T221246
CREATED:20241114T211528Z
LAST-MODIFIED:20241201T015149Z
UID:5793-1734213600-1734229800@www.revivaleventvenue.ca
SUMMARY:The Chosen Few DJs & Teefa Live
DESCRIPTION:United Soul proudly presents The Chosen Few DJs (Toronto Edition) \nFeaturing\nwww.chosenfewdjs.com \n  • Wayne Williams\n  • Terry Hunter\n  • Alan King \nSpecial Live Performance by: TEEFA (Mirrorball Recordings) singing her hit single International (produced by Terry Hunter) \nOpening set\nDJ YOGI\nSpecial Live Performance by TEEFA (Mirrorball Recordings)\nsinging her hit single International (produced by Terry Hunter) \nHosted by Arcadia – Gsine\, Brigette\, Jay Cleary & Raoul \nTickets: $20 / $25 / $30. Group bookings / info: unitedsoul@gmail.com \nChosen Few bio\nFounded by Wayne Williams in 1977\, the Chosen Few Disco Corp.\, a group of popular DJs from Chicago’s South Side – Williams\, Jesse Saunders\, Tony Hatchett\, Alan King and Andre Hatchett – were part of the first wave of DJs and producers in Chicago who created the sound that became known as House Music. Later naming themselves the Chosen Few DJs\, the collective first played their unique brand of soulful dance music to huge crowds throughout Chicago\, then spread their sound across the world. To the original group of five\, the Chosen Few DJs added two new members – Terry Hunter and Mike Dunn\, in 2006 and 2012\, respectively. \nSince 1990\, the group has organized the Chosen Few Picnic & Festival\, which draws an estimated 50\,000 House Music fans to Chicago’s Jackson Park each July. In addition to their signature event\, the Chosen Few DJs regularly host events in Atlanta\, Chicago\, Houston\, Las Vegas\, Los Angeles and New York\, perform at festivals around the globe\, including the Amsterdam Dance Event\, Winter Music Conference\, and Suncébeat\, and continue to produce award-winning music.
URL:https://www.revivaleventvenue.ca/event/the-chosen-few-djs-teefa-live/
LOCATION:Revival Event Venue\, 783 College Street\, Toronto\, Ontario\, M6G 1C5\, Canada
ATTACH;FMTTYPE=image/jpeg:https://www.revivaleventvenue.ca/wp-content/uploads/2024/11/Unknown-2-scaled.jpg
END:VEVENT
END:VCALENDAR