BEGIN:VCALENDAR
VERSION:2.0
PRODID:-//Revival Event Venue - Toronto's Premiere Boutique Event Space - ECPv6.15.20//NONSGML v1.0//EN
CALSCALE:GREGORIAN
METHOD:PUBLISH
X-ORIGINAL-URL:https://www.revivaleventvenue.ca
X-WR-CALDESC:Events for Revival Event Venue - Toronto's Premiere Boutique Event Space
REFRESH-INTERVAL;VALUE=DURATION:PT1H
X-Robots-Tag:noindex
X-PUBLISHED-TTL:PT1H
BEGIN:VTIMEZONE
TZID:America/Toronto
BEGIN:DAYLIGHT
TZOFFSETFROM:-0500
TZOFFSETTO:-0400
TZNAME:EDT
DTSTART:20240310T070000
END:DAYLIGHT
BEGIN:STANDARD
TZOFFSETFROM:-0400
TZOFFSETTO:-0500
TZNAME:EST
DTSTART:20241103T060000
END:STANDARD
BEGIN:DAYLIGHT
TZOFFSETFROM:-0500
TZOFFSETTO:-0400
TZNAME:EDT
DTSTART:20250309T070000
END:DAYLIGHT
BEGIN:STANDARD
TZOFFSETFROM:-0400
TZOFFSETTO:-0500
TZNAME:EST
DTSTART:20251102T060000
END:STANDARD
BEGIN:DAYLIGHT
TZOFFSETFROM:-0500
TZOFFSETTO:-0400
TZNAME:EDT
DTSTART:20260308T070000
END:DAYLIGHT
BEGIN:STANDARD
TZOFFSETFROM:-0400
TZOFFSETTO:-0500
TZNAME:EST
DTSTART:20261101T060000
END:STANDARD
END:VTIMEZONE
BEGIN:VEVENT
DTSTART;TZID=America/Toronto:20250426T200000
DTEND;TZID=America/Toronto:20250427T030000
DTSTAMP:20260424T114544
CREATED:20250310T033638Z
LAST-MODIFIED:20250310T033638Z
UID:5919-1745697600-1745722800@www.revivaleventvenue.ca
SUMMARY:The Baby Fight Club Fundraiser
DESCRIPTION:Two Stages\, 12 DJs\, one-of-a-kind show and live performance! Dance and come out to support The Baby Fight Club Fundraiser! \nWelcome to The Baby Fight Club Fundraiser! \nCome join us at Revival Event Venue for a night of music\, laughter and entertainment\, all while supporting friends in our community who hit a rough patch. \nOn July 21st\, 2024\, after putting on an amazing show and theme camp at Lakes of Fire Festival in Rothbury\, Michigan\, USA\, Team Leads Allie and Wild Man Cam were traveling home when their truck and trailer were involved in a serious motor vehicle accident that left quite a hefty and unexpected debt on their shoulders. \nFor more information about the accident and to donate\, visit their GoFundMe page at: \nHelp Baby Fight Club Recover From The Trailer Accident \nAs friends we band together to give back to the Baby Fight Club [BFC] crew that has brought us so much confusion and joy with their act. All ticket proceeds go directly to BFC to help with their debt. \nWe have an amazing night planned\, so buy your tickets early and don’t miss out!! \nWe’re pleased to announce this very unique line-up covering an array of talent and DJ’s from London to Kitchener-Waterloo mixed in with many of Toronto’s very own local greats!! \n\nTWO STAGES\n12+ talented DJ’s\nDecorated venue and plounge space by well known Community Theme Camps “Mom I’m Fine” and “Cirque du Soul”\n\n……and of course\, a baby fight match \nSee you on the Dancefloor!
URL:https://www.revivaleventvenue.ca/event/the-baby-fight-club-fundraiser/
LOCATION:Revival Event Venue\, 783 College Street\, Toronto\, Ontario\, M6G 1C5\, Canada
ATTACH;FMTTYPE=image/jpeg:https://www.revivaleventvenue.ca/wp-content/uploads/2025/03/BabyFightClub-April28.jpg
END:VEVENT
END:VCALENDAR