BEGIN:VCALENDAR
VERSION:2.0
PRODID:-//Revival Event Venue - Toronto's Premiere Boutique Event Space - ECPv6.15.20//NONSGML v1.0//EN
CALSCALE:GREGORIAN
METHOD:PUBLISH
X-ORIGINAL-URL:https://www.revivaleventvenue.ca
X-WR-CALDESC:Events for Revival Event Venue - Toronto's Premiere Boutique Event Space
REFRESH-INTERVAL;VALUE=DURATION:PT1H
X-Robots-Tag:noindex
X-PUBLISHED-TTL:PT1H
BEGIN:VTIMEZONE
TZID:America/Toronto
BEGIN:DAYLIGHT
TZOFFSETFROM:-0500
TZOFFSETTO:-0400
TZNAME:EDT
DTSTART:20230312T070000
END:DAYLIGHT
BEGIN:STANDARD
TZOFFSETFROM:-0400
TZOFFSETTO:-0500
TZNAME:EST
DTSTART:20231105T060000
END:STANDARD
BEGIN:DAYLIGHT
TZOFFSETFROM:-0500
TZOFFSETTO:-0400
TZNAME:EDT
DTSTART:20240310T070000
END:DAYLIGHT
BEGIN:STANDARD
TZOFFSETFROM:-0400
TZOFFSETTO:-0500
TZNAME:EST
DTSTART:20241103T060000
END:STANDARD
BEGIN:DAYLIGHT
TZOFFSETFROM:-0500
TZOFFSETTO:-0400
TZNAME:EDT
DTSTART:20250309T070000
END:DAYLIGHT
BEGIN:STANDARD
TZOFFSETFROM:-0400
TZOFFSETTO:-0500
TZNAME:EST
DTSTART:20251102T060000
END:STANDARD
END:VTIMEZONE
BEGIN:VEVENT
DTSTART;TZID=America/Toronto:20240403T190000
DTEND;TZID=America/Toronto:20240403T220000
DTSTAMP:20260425T221831
CREATED:20240321T172745Z
LAST-MODIFIED:20240321T172946Z
UID:5421-1712170800-1712181600@www.revivaleventvenue.ca
SUMMARY:Sound 6ix: A Live Music Experience
DESCRIPTION:Introducing Sound 6ix\, where the heart of Toronto’s vibrant music scene beats loudest! Join us for an electrifying night of pure musical magic. \nDedicated to making a difference by raising funds for the Sick Kids Foundation\, we invite you as well to take the initiative and show your support by donating directly through this link. \nPrepare to witness artists battling it out for the chance to impress renowned producers\, directors\, and industry professionals as you will have the power to vote for the night’s champion\, who will earn the opportunity to perform at a private dinner gala. \nBut Sound 6ix isn’t just about the showdown – it’s a celebration of Toronto’s vibrant music culture\, where every beat resonates with unity and passion. Plus\, you also get to indulge in the culinary delights and refreshing drinks available for purchase\, ensuring your night is as satisfying to the taste buds as it is to the ears.
URL:https://www.revivaleventvenue.ca/event/sound-6ix-a-live-music-experience/
LOCATION:Revival Event Venue\, 783 College Street\, Toronto\, Ontario\, M6G 1C5\, Canada
ATTACH;FMTTYPE=image/jpeg:https://www.revivaleventvenue.ca/wp-content/uploads/2024/03/Sound6ix-April3sqr.jpg
END:VEVENT
END:VCALENDAR