BEGIN:VCALENDAR
VERSION:2.0
PRODID:-//Revival Event Venue - Toronto's Premiere Boutique Event Space - ECPv6.15.20//NONSGML v1.0//EN
CALSCALE:GREGORIAN
METHOD:PUBLISH
X-WR-CALNAME:Revival Event Venue - Toronto's Premiere Boutique Event Space
X-ORIGINAL-URL:https://www.revivaleventvenue.ca
X-WR-CALDESC:Events for Revival Event Venue - Toronto's Premiere Boutique Event Space
REFRESH-INTERVAL;VALUE=DURATION:PT1H
X-Robots-Tag:noindex
X-PUBLISHED-TTL:PT1H
BEGIN:VTIMEZONE
TZID:America/Toronto
BEGIN:DAYLIGHT
TZOFFSETFROM:-0500
TZOFFSETTO:-0400
TZNAME:EDT
DTSTART:20240310T070000
END:DAYLIGHT
BEGIN:STANDARD
TZOFFSETFROM:-0400
TZOFFSETTO:-0500
TZNAME:EST
DTSTART:20241103T060000
END:STANDARD
BEGIN:DAYLIGHT
TZOFFSETFROM:-0500
TZOFFSETTO:-0400
TZNAME:EDT
DTSTART:20250309T070000
END:DAYLIGHT
BEGIN:STANDARD
TZOFFSETFROM:-0400
TZOFFSETTO:-0500
TZNAME:EST
DTSTART:20251102T060000
END:STANDARD
BEGIN:DAYLIGHT
TZOFFSETFROM:-0500
TZOFFSETTO:-0400
TZNAME:EDT
DTSTART:20260308T070000
END:DAYLIGHT
BEGIN:STANDARD
TZOFFSETFROM:-0400
TZOFFSETTO:-0500
TZNAME:EST
DTSTART:20261101T060000
END:STANDARD
END:VTIMEZONE
BEGIN:VEVENT
DTSTART;TZID=America/Toronto:20250222T210000
DTEND;TZID=America/Toronto:20250223T010000
DTSTAMP:20260425T085604
CREATED:20250128T225230Z
LAST-MODIFIED:20250128T225230Z
UID:5882-1740258000-1740272400@www.revivaleventvenue.ca
SUMMARY:Serata Sanremo
DESCRIPTION:Join us at Revival for Toronto’s first-ever Festival di Sanremo dance party experience! \n🎟️ Tickets on sale NOW 🎟️ \nWhat’s Included with Your Ticket: \n🍹 Aperitivo Hour: Step into the colourful Città dei Fiori (City of Flowers) and get into the Sanremo spirt while you chat\, sip\, and enjoy mouth-watering Italian appetizers. \n🍩 Sanremo Sweets: Indulge in the ultimate Italian sweet table with pastries and donuts courtesy of SanRemo Bakery—a Toronto staple named after the Italian song contest. \n💐 Interactive Experiences: Connect and create with fellow Italian music lovers in our Sanremo Song Lab. Plus\, tap into your artistic side and design a Sanremo bouquet at our Pop-Up Bloom Bar by Plantita & Co. \n🪩 Sounds by DJ Pulsar: Dance the night away to a curated mix of Italian chart-topping hits from the Sanremo Music Festival. Let the music transport you to the Ariston Theatre where some of Italy’s greatest performers got their start.
URL:https://www.revivaleventvenue.ca/event/serata-sanremo/
LOCATION:Revival Event Venue\, 783 College Street\, Toronto\, Ontario\, M6G 1C5\, Canada
ATTACH;FMTTYPE=image/jpeg:https://www.revivaleventvenue.ca/wp-content/uploads/2025/01/SerataSanremo-Feb22.jpg
END:VEVENT
END:VCALENDAR