BEGIN:VCALENDAR
VERSION:2.0
PRODID:-//Revival Event Venue - Toronto's Premiere Boutique Event Space - ECPv6.15.20//NONSGML v1.0//EN
CALSCALE:GREGORIAN
METHOD:PUBLISH
X-ORIGINAL-URL:https://www.revivaleventvenue.ca
X-WR-CALDESC:Events for Revival Event Venue - Toronto's Premiere Boutique Event Space
REFRESH-INTERVAL;VALUE=DURATION:PT1H
X-Robots-Tag:noindex
X-PUBLISHED-TTL:PT1H
BEGIN:VTIMEZONE
TZID:America/Toronto
BEGIN:DAYLIGHT
TZOFFSETFROM:-0500
TZOFFSETTO:-0400
TZNAME:EDT
DTSTART:20250309T070000
END:DAYLIGHT
BEGIN:STANDARD
TZOFFSETFROM:-0400
TZOFFSETTO:-0500
TZNAME:EST
DTSTART:20251102T060000
END:STANDARD
BEGIN:DAYLIGHT
TZOFFSETFROM:-0500
TZOFFSETTO:-0400
TZNAME:EDT
DTSTART:20260308T070000
END:DAYLIGHT
BEGIN:STANDARD
TZOFFSETFROM:-0400
TZOFFSETTO:-0500
TZNAME:EST
DTSTART:20261101T060000
END:STANDARD
BEGIN:DAYLIGHT
TZOFFSETFROM:-0500
TZOFFSETTO:-0400
TZNAME:EDT
DTSTART:20270314T070000
END:DAYLIGHT
BEGIN:STANDARD
TZOFFSETFROM:-0400
TZOFFSETTO:-0500
TZNAME:EST
DTSTART:20271107T060000
END:STANDARD
END:VTIMEZONE
BEGIN:VEVENT
DTSTART;TZID=America/Toronto:20260116T220000
DTEND;TZID=America/Toronto:20260117T020000
DTSTAMP:20260423T200230
CREATED:20251124T203921Z
LAST-MODIFIED:20251124T203921Z
UID:6322-1768600800-1768615200@www.revivaleventvenue.ca
SUMMARY:DAAAM! Back in Business
DESCRIPTION:Sweet Touch Foundation is gonna give the people what they want…hip hop music all night long \nGet down to the sounds of DJ’s Starting From Scratch and the 2BadBros of Sweet Touch Foundation\, as they take you on a trip through the different eras of hip hop from past to present. \nDAAAM! The Hip Hop Party\nfeaturing\nStarting From Scratch (@startingfromscratch)\nSweet Touch Foundation (@stfdjs)
URL:https://www.revivaleventvenue.ca/event/daaam-back-in-business/
LOCATION:Ontario
ATTACH;FMTTYPE=image/jpeg:https://www.revivaleventvenue.ca/wp-content/uploads/2025/11/DAAAM-Jan16.jpg
END:VEVENT
END:VCALENDAR