BEGIN:VCALENDAR
VERSION:2.0
PRODID:-//Revival Event Venue - Toronto's Premiere Boutique Event Space - ECPv6.15.20//NONSGML v1.0//EN
CALSCALE:GREGORIAN
METHOD:PUBLISH
X-ORIGINAL-URL:https://www.revivaleventvenue.ca
X-WR-CALDESC:Events for Revival Event Venue - Toronto's Premiere Boutique Event Space
REFRESH-INTERVAL;VALUE=DURATION:PT1H
X-Robots-Tag:noindex
X-PUBLISHED-TTL:PT1H
BEGIN:VTIMEZONE
TZID:America/Toronto
BEGIN:DAYLIGHT
TZOFFSETFROM:-0500
TZOFFSETTO:-0400
TZNAME:EDT
DTSTART:20250309T070000
END:DAYLIGHT
BEGIN:STANDARD
TZOFFSETFROM:-0400
TZOFFSETTO:-0500
TZNAME:EST
DTSTART:20251102T060000
END:STANDARD
BEGIN:DAYLIGHT
TZOFFSETFROM:-0500
TZOFFSETTO:-0400
TZNAME:EDT
DTSTART:20260308T070000
END:DAYLIGHT
BEGIN:STANDARD
TZOFFSETFROM:-0400
TZOFFSETTO:-0500
TZNAME:EST
DTSTART:20261101T060000
END:STANDARD
BEGIN:DAYLIGHT
TZOFFSETFROM:-0500
TZOFFSETTO:-0400
TZNAME:EDT
DTSTART:20270314T070000
END:DAYLIGHT
BEGIN:STANDARD
TZOFFSETFROM:-0400
TZOFFSETTO:-0500
TZNAME:EST
DTSTART:20271107T060000
END:STANDARD
END:VTIMEZONE
BEGIN:VEVENT
DTSTART;TZID=America/Toronto:20260328T213000
DTEND;TZID=America/Toronto:20260329T023000
DTSTAMP:20260423T163743
CREATED:20260125T202600Z
LAST-MODIFIED:20260306T182017Z
UID:6398-1774733400-1774751400@www.revivaleventvenue.ca
SUMMARY:Renaissance - ALL 90s . ALL Night
DESCRIPTION:For the third consecutive Spring\, this ALL-STAR line-up of global DJs are teaming up to bring you more 90s musical fire in 2026! \nBrown Eyes Entertainment in association with DJAgile.com present: \nRENAISSANCE – ALL 90s . ALL Night\nToronto’s Longest Running ALL 90’s Party\nSaturday\, March 28\, 2026 \nMusical soundtrack by \nDANNY D (Z1035\, Drive @ 5 & Wayback Lunch) \n4KORNERS (Toronto Raptors Official DJ) \nAGILE (Kardinal Offishall’s Official DJ) \nMISTA JIGGZ (Renaissance Resident) \nVICIOUS (808 Entertainment) \nDoors open at 9:30pm \nLimited Early Bird tickets now on sale. \nFor booth reservations/bottle service\, email joe@revivaleventvenue.ca. For group bookings/info.\, email info@browneyesentertainment.com. \nwww.browneyesentertainment.com
URL:https://www.revivaleventvenue.ca/event/renaissance-all-90s-2/
LOCATION:Revival Event Venue\, 783 College Street\, Toronto\, Ontario\, M6G 1C5\, Canada
ATTACH;FMTTYPE=image/jpeg:https://www.revivaleventvenue.ca/wp-content/uploads/2026/01/RenaissanceALL90s-March28.jpg
ORGANIZER;CN="Brown Eyes Entertainment":MAILTO:info@browneyesentertainment.com
END:VEVENT
END:VCALENDAR