BEGIN:VCALENDAR
VERSION:2.0
PRODID:-//Revival Event Venue - Toronto's Premiere Boutique Event Space - ECPv6.15.20//NONSGML v1.0//EN
CALSCALE:GREGORIAN
METHOD:PUBLISH
X-ORIGINAL-URL:https://www.revivaleventvenue.ca
X-WR-CALDESC:Events for Revival Event Venue - Toronto's Premiere Boutique Event Space
REFRESH-INTERVAL;VALUE=DURATION:PT1H
X-Robots-Tag:noindex
X-PUBLISHED-TTL:PT1H
BEGIN:VTIMEZONE
TZID:America/Toronto
BEGIN:DAYLIGHT
TZOFFSETFROM:-0500
TZOFFSETTO:-0400
TZNAME:EDT
DTSTART:20240310T070000
END:DAYLIGHT
BEGIN:STANDARD
TZOFFSETFROM:-0400
TZOFFSETTO:-0500
TZNAME:EST
DTSTART:20241103T060000
END:STANDARD
BEGIN:DAYLIGHT
TZOFFSETFROM:-0500
TZOFFSETTO:-0400
TZNAME:EDT
DTSTART:20250309T070000
END:DAYLIGHT
BEGIN:STANDARD
TZOFFSETFROM:-0400
TZOFFSETTO:-0500
TZNAME:EST
DTSTART:20251102T060000
END:STANDARD
BEGIN:DAYLIGHT
TZOFFSETFROM:-0500
TZOFFSETTO:-0400
TZNAME:EDT
DTSTART:20260308T070000
END:DAYLIGHT
BEGIN:STANDARD
TZOFFSETFROM:-0400
TZOFFSETTO:-0500
TZNAME:EST
DTSTART:20261101T060000
END:STANDARD
END:VTIMEZONE
BEGIN:VEVENT
DTSTART;TZID=America/Toronto:20251025T210000
DTEND;TZID=America/Toronto:20251026T030000
DTSTAMP:20260424T004019
CREATED:20250912T152417Z
LAST-MODIFIED:20251002T174134Z
UID:6258-1761426000-1761447600@www.revivaleventvenue.ca
SUMMARY:Divine Darkness
DESCRIPTION:A forbidden fairytale adventure in a welcome witches’ lair. IN THE STONE LOUNGE. \nWelcome to Divine Darkness – An enchanted otherworld that few are fated to know. For one magical evening\, Dianna opens the underlair of her home to mortal and fae alike. The former can find their portal in Toronto. A revelation awaits. Witches\, wisefolk\, and wonders guarantee a weirding night of delightful things. \nDivine Darkness is an immersive party brought to you by a team of actors\, musicians\, writers\, and event professionals. \nWe’ll have an apothecary open with herbs and teas available for your potion cabinet. Tarot readers will be available to point you in the cosmic direction. Characters will surprise you with their outrageous displays. DJs will provide waves that take you to other places. \nA Forbidden Fantasy Awaits\nwho will you be in this other world?
URL:https://www.revivaleventvenue.ca/event/divine-darkness/
LOCATION:The Stone Lounge\, downstairs at Revival\, 783 College Street\, basement\, Toronto\, Canada
ATTACH;FMTTYPE=image/jpeg:https://www.revivaleventvenue.ca/wp-content/uploads/2025/09/DivineDarkness-Oct25.jpg
END:VEVENT
END:VCALENDAR