BEGIN:VCALENDAR
VERSION:2.0
PRODID:-//Revival Event Venue - Toronto's Premiere Boutique Event Space - ECPv6.15.20//NONSGML v1.0//EN
CALSCALE:GREGORIAN
METHOD:PUBLISH
X-WR-CALNAME:Revival Event Venue - Toronto's Premiere Boutique Event Space
X-ORIGINAL-URL:https://www.revivaleventvenue.ca
X-WR-CALDESC:Events for Revival Event Venue - Toronto's Premiere Boutique Event Space
REFRESH-INTERVAL;VALUE=DURATION:PT1H
X-Robots-Tag:noindex
X-PUBLISHED-TTL:PT1H
BEGIN:VTIMEZONE
TZID:America/Toronto
BEGIN:DAYLIGHT
TZOFFSETFROM:-0500
TZOFFSETTO:-0400
TZNAME:EDT
DTSTART:20230312T070000
END:DAYLIGHT
BEGIN:STANDARD
TZOFFSETFROM:-0400
TZOFFSETTO:-0500
TZNAME:EST
DTSTART:20231105T060000
END:STANDARD
BEGIN:DAYLIGHT
TZOFFSETFROM:-0500
TZOFFSETTO:-0400
TZNAME:EDT
DTSTART:20240310T070000
END:DAYLIGHT
BEGIN:STANDARD
TZOFFSETFROM:-0400
TZOFFSETTO:-0500
TZNAME:EST
DTSTART:20241103T060000
END:STANDARD
BEGIN:DAYLIGHT
TZOFFSETFROM:-0500
TZOFFSETTO:-0400
TZNAME:EDT
DTSTART:20250309T070000
END:DAYLIGHT
BEGIN:STANDARD
TZOFFSETFROM:-0400
TZOFFSETTO:-0500
TZNAME:EST
DTSTART:20251102T060000
END:STANDARD
END:VTIMEZONE
BEGIN:VEVENT
DTSTART;TZID=America/Toronto:20240914T220000
DTEND;TZID=America/Toronto:20240915T030000
DTSTAMP:20260425T072848
CREATED:20240822T220020Z
LAST-MODIFIED:20240822T220020Z
UID:5683-1726351200-1726369200@www.revivaleventvenue.ca
SUMMARY:Roots of House with Kenny Glasgow & DJ Yogi
DESCRIPTION:United Soul proudly presents \nROOTS OF HOUSE Party\nWe will be exploring the many sounds of HOUSE MUSIC past\, present & future. Paying tribute to some of the pioneers of HOUSE MUSIC like Marshall Jefferson\, Larry Heard\, Frankie Knuckles\, Lil Louis\, Mike Dunn\, Armando\, DJ Pierre\, Boyd Jarvis\, Blaze\, Timmy Regisford\, Kerri Chandler\, Todd Terry\, Masters At Work\, Roger S\, Basement Boys\, Ron Trent\, Burrell Brothers and the list goes on. You do not want to miss this one! \nmusic programmers: \nKENNY GLASGOW (Toronto Legend) \nDJ YOGI (Solid Garage Toronto) \nHosted by Enza & Jay Cleary \nCover: $15 Early Bird\, $20 / $25 Adv\, More at Door\nhttps://rootsofhousesept2024.eventbrite.ca \nRevival Bar – 783 College Street\, Toronto \ninfo: unitedsoul@gmail.com
URL:https://www.revivaleventvenue.ca/event/roots-of-house-with-kenny-glasgow-dj-yogi/
LOCATION:Revival Event Venue\, 783 College Street\, Toronto\, Ontario\, M6G 1C5\, Canada
ATTACH;FMTTYPE=image/jpeg:https://www.revivaleventvenue.ca/wp-content/uploads/2024/08/ROOTSofHOUSE-Sept14-sqrV2.jpg
END:VEVENT
BEGIN:VEVENT
DTSTART;TZID=America/Toronto:20240928T220000
DTEND;TZID=America/Toronto:20240929T030000
DTSTAMP:20260425T072848
CREATED:20240728T145114Z
LAST-MODIFIED:20240728T145212Z
UID:5665-1727560800-1727578800@www.revivaleventvenue.ca
SUMMARY:I LOVE THE 90s : The Party | The Ultimate 90s Experience
DESCRIPTION:Back by popular demand.\nGet ready Toronto! Back by popular demand we’re bringing back the ultimate 90s dance party. Join us on Saturday September 28th\, 2024 for an electric night full of memories and a ride through the best decade of all time. Alongside the best DJs spinning classic dance and club anthems from the 90s! Wear your best 90s outfit to win amazing prizes and get ready for a night of positive vibes and the most unforgettable experience. All of the past 90s events have sold out so make sure you grab your tickets and come on down for a night to experience. \nA night you will never forget with TWO FLOORS of amazing 90’s euro\, dance\, house\, trance\, pop & more. \nWe do weekly mixshows heard all over the world and our thousands of followers know what it’s all about. We can’t wait to share that experience with you inside Revival on September 28th\, 2024 \nSee you on the Dancefloor! \nFeaturing\nDJ ALEX K \nMAURICIO CASTANO \nDJ MAK-E \n& surprises all night long\nGo Go Dancers\, Giveaways\, Music Videos\, & more.\nAny questions please contact info@euronation.ca \nWant info on who is throwing the party? We do popular radio shows every week all around the world where people party to this music. Visit us on youtube or check out www.euronation.ca for all their episodes.
URL:https://www.revivaleventvenue.ca/event/i-love-the-90s-the-party-the-ultimate-90s-experience/
LOCATION:Revival Event Venue\, 783 College Street\, Toronto\, Ontario\, M6G 1C5\, Canada
ATTACH;FMTTYPE=image/jpeg:https://www.revivaleventvenue.ca/wp-content/uploads/2024/07/Ilove90sEuronation-Sept28.jpg
ORGANIZER;CN="Euro Nation":MAILTO:info@euronation.ca
END:VEVENT
BEGIN:VEVENT
DTSTART;TZID=America/Toronto:20240929T160000
DTEND;TZID=America/Toronto:20240929T223000
DTSTAMP:20260425T072848
CREATED:20240814T162752Z
LAST-MODIFIED:20240814T163812Z
UID:5669-1727625600-1727649000@www.revivaleventvenue.ca
SUMMARY:The Moon Runners presents: In Ya Area 2024
DESCRIPTION:Olympic level dance battle featuring international professional street dancers & performers. \nThe Moon Runners presents\, an event where you can witness world renowned dancers come together at ” InYourArea” \, Toronto’s most electrifying dance event of the year! This high-energy competitive dance show will light up the cities weekend with fierce battles and unforgettable performances featuring: \n5 Elite Dj’s spinning your favourites in 90s/2000s Hip Hop\, R&B\, Dancehall\, and Afro Beats.\nPerformances from the countries best dance companies.\nA dance Tournament featuring two different categories. \nLimited Tickets more at the door. \niMoonRunn
URL:https://www.revivaleventvenue.ca/event/in-ya-area-2024/
LOCATION:Revival Event Venue\, 783 College Street\, Toronto\, Ontario\, M6G 1C5\, Canada
ATTACH;FMTTYPE=image/jpeg:https://www.revivaleventvenue.ca/wp-content/uploads/2024/08/MoonRunners-Sept29.jpg
END:VEVENT
END:VCALENDAR