BEGIN:VCALENDAR
VERSION:2.0
PRODID:-//Revival Event Venue - Toronto's Premiere Boutique Event Space - ECPv6.15.20//NONSGML v1.0//EN
CALSCALE:GREGORIAN
METHOD:PUBLISH
X-WR-CALNAME:Revival Event Venue - Toronto's Premiere Boutique Event Space
X-ORIGINAL-URL:https://www.revivaleventvenue.ca
X-WR-CALDESC:Events for Revival Event Venue - Toronto's Premiere Boutique Event Space
REFRESH-INTERVAL;VALUE=DURATION:PT1H
X-Robots-Tag:noindex
X-PUBLISHED-TTL:PT1H
BEGIN:VTIMEZONE
TZID:America/Toronto
BEGIN:DAYLIGHT
TZOFFSETFROM:-0500
TZOFFSETTO:-0400
TZNAME:EDT
DTSTART:20240310T070000
END:DAYLIGHT
BEGIN:STANDARD
TZOFFSETFROM:-0400
TZOFFSETTO:-0500
TZNAME:EST
DTSTART:20241103T060000
END:STANDARD
BEGIN:DAYLIGHT
TZOFFSETFROM:-0500
TZOFFSETTO:-0400
TZNAME:EDT
DTSTART:20250309T070000
END:DAYLIGHT
BEGIN:STANDARD
TZOFFSETFROM:-0400
TZOFFSETTO:-0500
TZNAME:EST
DTSTART:20251102T060000
END:STANDARD
BEGIN:DAYLIGHT
TZOFFSETFROM:-0500
TZOFFSETTO:-0400
TZNAME:EDT
DTSTART:20260308T070000
END:DAYLIGHT
BEGIN:STANDARD
TZOFFSETFROM:-0400
TZOFFSETTO:-0500
TZNAME:EST
DTSTART:20261101T060000
END:STANDARD
END:VTIMEZONE
BEGIN:VEVENT
DTSTART;TZID=America/Toronto:20250214T220000
DTEND;TZID=America/Toronto:20250215T040000
DTSTAMP:20260425T075319
CREATED:20241227T224617Z
LAST-MODIFIED:20241227T224911Z
UID:5836-1739570400-1739592000@www.revivaleventvenue.ca
SUMMARY:Heartbreaker’s Ball 2025
DESCRIPTION:A masquerade where romance takes a backseat and self-love reigns supreme! \nYou’re Invited to the 5th Annual Heartbreaker’s Ball: An all red masquerade 🥀 \nOn Valentine’s Day\, step into a world of magic\, shadows & mirrors at the Heartbreaker’s Ball. This year celebrate yourself: self-empowerment\, self-love\, and self-reflection. Embrace your most radiant version of you as you wander through an evening filled with immersive art\, circus performances\, and the elegance of a surreal masquerade. \nWhat to Wear:\nDress to express in your most extravagant red attire. Add a touch of mystery with a masquerade mask and let your reflection reveal your inner brilliance. Masks will also be available at our arts market when you arrive. \nAbout the Heartbreaker’s Ball:\nThis is more than just a party; it’s a celebration of community\, creativity\, and connection. All proceeds will go to support the adventures of Tarna the Art Car. \nJoin us for:\n✨ Enchanting circus performances\n✨ Immersive art installations that reflect the beauty within\n✨ Dancing with music that moves the soul \nLet your reflection be your guide as we celebrate the journey to self-love and empowerment. Together\, we’ll make Valentine’s Day unforgettable. Put yourself first and see you on the dance floor! 💔
URL:https://www.revivaleventvenue.ca/event/heartbreakers-ball-2025/
LOCATION:Revival Event Venue\, 783 College Street\, Toronto\, Ontario\, M6G 1C5\, Canada
ATTACH;FMTTYPE=image/jpeg:https://www.revivaleventvenue.ca/wp-content/uploads/2024/12/HeartbreakersBall-Feb14.jpg
ORGANIZER;CN="Tarna the Jackalope":MAILTO:contact@tarna.ca
END:VEVENT
END:VCALENDAR