BEGIN:VCALENDAR
VERSION:2.0
PRODID:-//Revival Event Venue - Toronto's Premiere Boutique Event Space - ECPv6.15.20//NONSGML v1.0//EN
CALSCALE:GREGORIAN
METHOD:PUBLISH
X-WR-CALNAME:Revival Event Venue - Toronto's Premiere Boutique Event Space
X-ORIGINAL-URL:https://www.revivaleventvenue.ca
X-WR-CALDESC:Events for Revival Event Venue - Toronto's Premiere Boutique Event Space
REFRESH-INTERVAL;VALUE=DURATION:PT1H
X-Robots-Tag:noindex
X-PUBLISHED-TTL:PT1H
BEGIN:VTIMEZONE
TZID:America/Toronto
BEGIN:DAYLIGHT
TZOFFSETFROM:-0500
TZOFFSETTO:-0400
TZNAME:EDT
DTSTART:20240310T070000
END:DAYLIGHT
BEGIN:STANDARD
TZOFFSETFROM:-0400
TZOFFSETTO:-0500
TZNAME:EST
DTSTART:20241103T060000
END:STANDARD
BEGIN:DAYLIGHT
TZOFFSETFROM:-0500
TZOFFSETTO:-0400
TZNAME:EDT
DTSTART:20250309T070000
END:DAYLIGHT
BEGIN:STANDARD
TZOFFSETFROM:-0400
TZOFFSETTO:-0500
TZNAME:EST
DTSTART:20251102T060000
END:STANDARD
BEGIN:DAYLIGHT
TZOFFSETFROM:-0500
TZOFFSETTO:-0400
TZNAME:EDT
DTSTART:20260308T070000
END:DAYLIGHT
BEGIN:STANDARD
TZOFFSETFROM:-0400
TZOFFSETTO:-0500
TZNAME:EST
DTSTART:20261101T060000
END:STANDARD
END:VTIMEZONE
BEGIN:VEVENT
DTSTART;TZID=America/Toronto:20250412T190000
DTEND;TZID=America/Toronto:20250412T210000
DTSTAMP:20260425T074356
CREATED:20241227T231110Z
LAST-MODIFIED:20241227T231110Z
UID:5842-1744484400-1744491600@www.revivaleventvenue.ca
SUMMARY:The FellowStrip Part II: The Two Titties
DESCRIPTION:A burlesque and drag tribute show featuring characters and moments from Lord of the Rings! An encore performance to the sold out original! \n  \nPerformed by some of Toronto’s best talent\, this Slain Productions show will take you into the world of Lord of the Rings (just way\, way sexier!). Featuring the talents of renowned dancer and choreographer A’Slayna von Hunt\, multi-award-winning performer Ava Lure\, draglesque daddy Whipple Ash and many more to be announced! \nCosplay is encouraged and we will be hosting a Best Cosplay Contest at intermission! \nThis is a seated show and general seat selection is first come\, first served. Grab a VIP ticket if you want to be up close and personal with all the best action! \nNote: VIP ticket holders will be seated at tables closest to the stage. \nDoors: 6PM\, Show: 7PM \nFor the health and safety of our immunocompromised dancers and patrons\, we encourage masking at this event.
URL:https://www.revivaleventvenue.ca/event/the-fellowstrip-part-ii-the-two-titties/
LOCATION:Revival Event Venue\, 783 College Street\, Toronto\, Ontario\, M6G 1C5\, Canada
ATTACH;FMTTYPE=image/jpeg:https://www.revivaleventvenue.ca/wp-content/uploads/2024/12/FellowshipTwoTitites-April12.jpg
END:VEVENT
END:VCALENDAR