BEGIN:VCALENDAR
VERSION:2.0
PRODID:-//Revival Event Venue - Toronto's Premiere Boutique Event Space - ECPv6.15.20//NONSGML v1.0//EN
CALSCALE:GREGORIAN
METHOD:PUBLISH
X-WR-CALNAME:Revival Event Venue - Toronto's Premiere Boutique Event Space
X-ORIGINAL-URL:https://www.revivaleventvenue.ca
X-WR-CALDESC:Events for Revival Event Venue - Toronto's Premiere Boutique Event Space
REFRESH-INTERVAL;VALUE=DURATION:PT1H
X-Robots-Tag:noindex
X-PUBLISHED-TTL:PT1H
BEGIN:VTIMEZONE
TZID:America/Toronto
BEGIN:DAYLIGHT
TZOFFSETFROM:-0500
TZOFFSETTO:-0400
TZNAME:EDT
DTSTART:20250309T070000
END:DAYLIGHT
BEGIN:STANDARD
TZOFFSETFROM:-0400
TZOFFSETTO:-0500
TZNAME:EST
DTSTART:20251102T060000
END:STANDARD
BEGIN:DAYLIGHT
TZOFFSETFROM:-0500
TZOFFSETTO:-0400
TZNAME:EDT
DTSTART:20260308T070000
END:DAYLIGHT
BEGIN:STANDARD
TZOFFSETFROM:-0400
TZOFFSETTO:-0500
TZNAME:EST
DTSTART:20261101T060000
END:STANDARD
BEGIN:DAYLIGHT
TZOFFSETFROM:-0500
TZOFFSETTO:-0400
TZNAME:EDT
DTSTART:20270314T070000
END:DAYLIGHT
BEGIN:STANDARD
TZOFFSETFROM:-0400
TZOFFSETTO:-0500
TZNAME:EST
DTSTART:20271107T060000
END:STANDARD
END:VTIMEZONE
BEGIN:VEVENT
DTSTART;TZID=America/Toronto:20260227T180000
DTEND;TZID=America/Toronto:20260228T000000
DTSTAMP:20260423T182951
CREATED:20260206T194329Z
LAST-MODIFIED:20260208T184040Z
UID:6412-1772215200-1772236800@www.revivaleventvenue.ca
SUMMARY:Laughs for Learning
DESCRIPTION:Join this live\, fun-filled evening in support of empowering education for Indigenous communities in Canada. \nThe evening will be hosted by media personality Steven Bull and will include: \n\nLaugh-inducing stand-up comics\, headlined by comedian Cathy Boyd;\nDelicious hors d’oeuvres by acclaimed chef Joseph Shawana;\nSilent Auction and 50:50 Draw – You could go home with another incredible experience or prize;\nLively dance beats by DJ Gerald .\n\nBUY TICKETS NOW! – We hope to see you there. \nLimited tickets available. All attendees must be 19 years of age or older due to local laws. Proceeds support SchoolBOX initiatives\, including an active project in Grassy Narrows First Nation. \n\nUnable to attend in-person? Support SchoolBOX’s work to empower Indigenous education these other ways. \n\nParticipate in the Silent Auction and/or 50:50 Draw virtually\, online – starting on Feb 20\, 2026\nMake a donation directly to SchoolBOX.\n\n\nInterested in becoming a sponsor?\nContact Jim Sale (jim@schoolbox.ca) to discuss sponsorship opportunities.
URL:https://www.revivaleventvenue.ca/event/laughs-for-learning/
LOCATION:Revival Event Venue\, 783 College Street\, Toronto\, Ontario\, M6G 1C5\, Canada
ATTACH;FMTTYPE=image/jpeg:https://www.revivaleventvenue.ca/wp-content/uploads/2026/02/LaughsForLearning-Feb27.jpg
ORGANIZER;CN="SchoolBOX":MAILTO:jim@schoolbox.ca
END:VEVENT
END:VCALENDAR