BEGIN:VCALENDAR
VERSION:2.0
PRODID:-//Revival Event Venue - Toronto's Premiere Boutique Event Space - ECPv6.15.20//NONSGML v1.0//EN
CALSCALE:GREGORIAN
METHOD:PUBLISH
X-ORIGINAL-URL:https://www.revivaleventvenue.ca
X-WR-CALDESC:Events for Revival Event Venue - Toronto's Premiere Boutique Event Space
REFRESH-INTERVAL;VALUE=DURATION:PT1H
X-Robots-Tag:noindex
X-PUBLISHED-TTL:PT1H
BEGIN:VTIMEZONE
TZID:America/Toronto
BEGIN:DAYLIGHT
TZOFFSETFROM:-0500
TZOFFSETTO:-0400
TZNAME:EDT
DTSTART:20240310T070000
END:DAYLIGHT
BEGIN:STANDARD
TZOFFSETFROM:-0400
TZOFFSETTO:-0500
TZNAME:EST
DTSTART:20241103T060000
END:STANDARD
BEGIN:DAYLIGHT
TZOFFSETFROM:-0500
TZOFFSETTO:-0400
TZNAME:EDT
DTSTART:20250309T070000
END:DAYLIGHT
BEGIN:STANDARD
TZOFFSETFROM:-0400
TZOFFSETTO:-0500
TZNAME:EST
DTSTART:20251102T060000
END:STANDARD
BEGIN:DAYLIGHT
TZOFFSETFROM:-0500
TZOFFSETTO:-0400
TZNAME:EDT
DTSTART:20260308T070000
END:DAYLIGHT
BEGIN:STANDARD
TZOFFSETFROM:-0400
TZOFFSETTO:-0500
TZNAME:EST
DTSTART:20261101T060000
END:STANDARD
END:VTIMEZONE
BEGIN:VEVENT
DTSTART;TZID=America/Toronto:20250606T220000
DTEND;TZID=America/Toronto:20250607T020000
DTSTAMP:20260425T073528
CREATED:20250520T191537Z
LAST-MODIFIED:20250520T191537Z
UID:6125-1749247200-1749261600@www.revivaleventvenue.ca
SUMMARY:Ya Tab Tab - 12th Edition
DESCRIPTION:YA TAB TAB NIGHT TURNS 3!\nJoin us as we celebrate three years of Toronto’s favourite Arabic pop-night. The legendary Ya Tab Tab Night series returns to Toronto for its 12th edition. We celebrate the rich tapestry of Arabic music and pop culture. \nWe’ve loved partying with you and bringing you nostalgic Arab pop culture moments. Since launching in 2022\, Ya Tab Tab has evolved from a club night into a pop culture interactive experience—together we crowned the first Miss YaTabTab\, texted your shoutouts to the big screen\, and danced with your FYP on screen all night. This night offers a vital\, safe\, and inclusive space where our people and community can express themselves freely\, gather\, connect and uplift one another. \nThere’s a zero tolerance policy for racism\, sexism\, homophobia\, queerphobia\, transphobia\, and any other conduct that may perpetuate oppression. Please note that this is a closed private event accessible only to ticket holders. All attendees must be 19+ with a valid\, physical government ID for admission. Tickets are non-refundable.
URL:https://www.revivaleventvenue.ca/event/ya-tab-tab-12th-edition/
LOCATION:Revival Event Venue\, 783 College Street\, Toronto\, Ontario\, M6G 1C5\, Canada
ATTACH;FMTTYPE=image/jpeg:https://www.revivaleventvenue.ca/wp-content/uploads/2025/05/YaYaTab-June6.jpg
ORGANIZER;CN="MARSM Canada":MAILTO:hello@marsm.ca
END:VEVENT
END:VCALENDAR