BEGIN:VCALENDAR
VERSION:2.0
PRODID:-//Revival Event Venue - Toronto's Premiere Boutique Event Space - ECPv6.15.20//NONSGML v1.0//EN
CALSCALE:GREGORIAN
METHOD:PUBLISH
X-ORIGINAL-URL:https://www.revivaleventvenue.ca
X-WR-CALDESC:Events for Revival Event Venue - Toronto's Premiere Boutique Event Space
REFRESH-INTERVAL;VALUE=DURATION:PT1H
X-Robots-Tag:noindex
X-PUBLISHED-TTL:PT1H
BEGIN:VTIMEZONE
TZID:America/Toronto
BEGIN:DAYLIGHT
TZOFFSETFROM:-0500
TZOFFSETTO:-0400
TZNAME:EDT
DTSTART:20240310T070000
END:DAYLIGHT
BEGIN:STANDARD
TZOFFSETFROM:-0400
TZOFFSETTO:-0500
TZNAME:EST
DTSTART:20241103T060000
END:STANDARD
BEGIN:DAYLIGHT
TZOFFSETFROM:-0500
TZOFFSETTO:-0400
TZNAME:EDT
DTSTART:20250309T070000
END:DAYLIGHT
BEGIN:STANDARD
TZOFFSETFROM:-0400
TZOFFSETTO:-0500
TZNAME:EST
DTSTART:20251102T060000
END:STANDARD
BEGIN:DAYLIGHT
TZOFFSETFROM:-0500
TZOFFSETTO:-0400
TZNAME:EDT
DTSTART:20260308T070000
END:DAYLIGHT
BEGIN:STANDARD
TZOFFSETFROM:-0400
TZOFFSETTO:-0500
TZNAME:EST
DTSTART:20261101T060000
END:STANDARD
END:VTIMEZONE
BEGIN:VEVENT
DTSTART;TZID=America/Toronto:20250215T220000
DTEND;TZID=America/Toronto:20250216T030000
DTSTAMP:20260425T074039
CREATED:20250115T173441Z
LAST-MODIFIED:20250117T202228Z
UID:5855-1739656800-1739674800@www.revivaleventvenue.ca
SUMMARY:Afro RnB - vol III - Family Day Weekend
DESCRIPTION:If you missed last year\, Your have a BIG CHANCE. Afrobeats\, Amapiano\,and most definitely R&B hits all night long… Lets Rave Together! \nYour favourite uncles are back with “Another Banger”… \nJoin us for an electrifying night at Afro RnB! Get ready to groove to the hottest Afrobeat\, Amapiano and R&B tunes. \nDJ: Uncles of To (@nifeoluyemi; @uncledebo_thedj)\nGuest DJ: Jelz (@je.lz)\nMC: Mista Dre (@mistadre_) \nThis night is the ultimate celebration of the Afro and R&B music genres infused with LOVE. . Our talented DJs will spin the latest hits and timeless classics\, ensuring a memorable experience for all music lovers. Don’t miss out on this incredible event! Grab your friends and get ready to experience the magic of music. See you there!
URL:https://www.revivaleventvenue.ca/event/afro-rnb-vol-iii-family-day-weekend/
LOCATION:Revival Event Venue\, 783 College Street\, Toronto\, Ontario\, M6G 1C5\, Canada
ATTACH;FMTTYPE=image/jpeg:https://www.revivaleventvenue.ca/wp-content/uploads/2025/01/AfroRnB-Feb15.jpg
END:VEVENT
END:VCALENDAR