BEGIN:VCALENDAR
VERSION:2.0
PRODID:-//Revival Event Venue - Toronto's Premiere Boutique Event Space - ECPv6.15.20//NONSGML v1.0//EN
CALSCALE:GREGORIAN
METHOD:PUBLISH
X-WR-CALNAME:Revival Event Venue - Toronto's Premiere Boutique Event Space
X-ORIGINAL-URL:https://www.revivaleventvenue.ca
X-WR-CALDESC:Events for Revival Event Venue - Toronto's Premiere Boutique Event Space
REFRESH-INTERVAL;VALUE=DURATION:PT1H
X-Robots-Tag:noindex
X-PUBLISHED-TTL:PT1H
BEGIN:VTIMEZONE
TZID:America/Toronto
BEGIN:DAYLIGHT
TZOFFSETFROM:-0500
TZOFFSETTO:-0400
TZNAME:EDT
DTSTART:20230312T070000
END:DAYLIGHT
BEGIN:STANDARD
TZOFFSETFROM:-0400
TZOFFSETTO:-0500
TZNAME:EST
DTSTART:20231105T060000
END:STANDARD
BEGIN:DAYLIGHT
TZOFFSETFROM:-0500
TZOFFSETTO:-0400
TZNAME:EDT
DTSTART:20240310T070000
END:DAYLIGHT
BEGIN:STANDARD
TZOFFSETFROM:-0400
TZOFFSETTO:-0500
TZNAME:EST
DTSTART:20241103T060000
END:STANDARD
BEGIN:DAYLIGHT
TZOFFSETFROM:-0500
TZOFFSETTO:-0400
TZNAME:EDT
DTSTART:20250309T070000
END:DAYLIGHT
BEGIN:STANDARD
TZOFFSETFROM:-0400
TZOFFSETTO:-0500
TZNAME:EST
DTSTART:20251102T060000
END:STANDARD
END:VTIMEZONE
BEGIN:VEVENT
DTSTART;TZID=America/Toronto:20240804T220000
DTEND;TZID=America/Toronto:20240805T030000
DTSTAMP:20260425T074435
CREATED:20240704T201829Z
LAST-MODIFIED:20240704T201829Z
UID:5628-1722808800-1722826800@www.revivaleventvenue.ca
SUMMARY:MADHAUS ' Psychodelic ~ Toronto Carnival Sunday
DESCRIPTION:“𝑬𝒎𝒃𝒓𝒂𝒄𝒆 𝒕𝒉𝒆 𝑪𝒉𝒂𝒐𝒔 𝒐𝒇 𝑺𝒐𝒄𝒂 𝒂𝒏𝒅 𝑪𝒐𝒍𝒐𝒖𝒓𝒔”\nFeaturing The Incredible DJ Shy and top International DJs\, spinning a Carnival vibe with acrobats\, soca\, dancehall\, reggae\, and caribbean music.
URL:https://www.revivaleventvenue.ca/event/madhaus-psychodelic-toronto-carnival-sunday/
LOCATION:Revival Event Venue\, 783 College Street\, Toronto\, Ontario\, M6G 1C5\, Canada
ATTACH;FMTTYPE=image/jpeg:https://www.revivaleventvenue.ca/wp-content/uploads/2024/07/Madhaus-Aug4.jpeg
ORGANIZER;CN="The Incredible DJ Shy":MAILTO:nutopiaevent@gmail.com
END:VEVENT
END:VCALENDAR