BEGIN:VCALENDAR
VERSION:2.0
PRODID:-//Revival Event Venue - Toronto's Premiere Boutique Event Space - ECPv6.15.20//NONSGML v1.0//EN
CALSCALE:GREGORIAN
METHOD:PUBLISH
X-WR-CALNAME:Revival Event Venue - Toronto's Premiere Boutique Event Space
X-ORIGINAL-URL:https://www.revivaleventvenue.ca
X-WR-CALDESC:Events for Revival Event Venue - Toronto's Premiere Boutique Event Space
REFRESH-INTERVAL;VALUE=DURATION:PT1H
X-Robots-Tag:noindex
X-PUBLISHED-TTL:PT1H
BEGIN:VTIMEZONE
TZID:America/Toronto
BEGIN:DAYLIGHT
TZOFFSETFROM:-0500
TZOFFSETTO:-0400
TZNAME:EDT
DTSTART:20230312T070000
END:DAYLIGHT
BEGIN:STANDARD
TZOFFSETFROM:-0400
TZOFFSETTO:-0500
TZNAME:EST
DTSTART:20231105T060000
END:STANDARD
BEGIN:DAYLIGHT
TZOFFSETFROM:-0500
TZOFFSETTO:-0400
TZNAME:EDT
DTSTART:20240310T070000
END:DAYLIGHT
BEGIN:STANDARD
TZOFFSETFROM:-0400
TZOFFSETTO:-0500
TZNAME:EST
DTSTART:20241103T060000
END:STANDARD
BEGIN:DAYLIGHT
TZOFFSETFROM:-0500
TZOFFSETTO:-0400
TZNAME:EDT
DTSTART:20250309T070000
END:DAYLIGHT
BEGIN:STANDARD
TZOFFSETFROM:-0400
TZOFFSETTO:-0500
TZNAME:EST
DTSTART:20251102T060000
END:STANDARD
END:VTIMEZONE
BEGIN:VEVENT
DTSTART;TZID=America/Toronto:20240706T080000
DTEND;TZID=America/Toronto:20240707T023000
DTSTAMP:20260425T091041
CREATED:20240620T151925Z
LAST-MODIFIED:20240704T195518Z
UID:5590-1720252800-1720319400@www.revivaleventvenue.ca
SUMMARY:GUMBO - Afrofest Weekend Edition
DESCRIPTION:Gumbo massive! We’re back again for summer ’24! Part 1: Afrofest Weekend\n\n\nGumbo crew! It’s been way too long but we’re happy to be cooking again and serving up three courses of sonic Afro-goodness for summer ‘24. For the second in our series\, we’re cooking up something special for Afrofest weekend in Toronto featuring Paris/London rising star DJ N.A.S. mix specialist DJ Damiger and of course our resident DJ Revy Band friends. We’re bringing a bite size sample of the festival to the discotek! \n——————————————————————– \n\n\n\n\nAbout Gumbo\nFounded by Wan (@waninspades) and Chi (of @Supafrik)\, Gumbo is a reflection of their multicultural roots in West Africa and the West Indies. It is an art-infused dance party celebrating African and Caribbean culture through music\, dance\, video projections\, photography and space design. 2024 marks 9 years since Gumbo was founded in Toronto during Caribana. Gumbo has since gone on the road connecting the African diaspora from Montreal to New Orleans to Brooklyn where they collaborated with Afropunk. Musically centered in Afrobeats\, their musical palette also draws from everything from Soca to Dancehall/Reggae and from Amapiano to Afrohouse and New Orleans Bounce. Pulling from guest DJs like Boddhi Satva\, Anais B\, NaijaBoi(Mr.Eazi) and Nana Kwabena(Jidenna) they bring the raw energy and creativity of carnival culture into the Gumbo discotek connecting the Afro-diaspora through music. \n#WeAreGumbo \nBrought to you by Supafrik
URL:https://www.revivaleventvenue.ca/event/gumbo-afrofest-weekend-edition/
LOCATION:Revival Event Venue\, 783 College Street\, Toronto\, Ontario\, M6G 1C5\, Canada
ATTACH;FMTTYPE=image/jpeg:https://www.revivaleventvenue.ca/wp-content/uploads/2024/06/Gumbo-July6.jpg
END:VEVENT
END:VCALENDAR