BEGIN:VCALENDAR
VERSION:2.0
PRODID:-//Revival Event Venue - Toronto's Premiere Boutique Event Space - ECPv6.15.20//NONSGML v1.0//EN
CALSCALE:GREGORIAN
METHOD:PUBLISH
X-ORIGINAL-URL:https://www.revivaleventvenue.ca
X-WR-CALDESC:Events for Revival Event Venue - Toronto's Premiere Boutique Event Space
REFRESH-INTERVAL;VALUE=DURATION:PT1H
X-Robots-Tag:noindex
X-PUBLISHED-TTL:PT1H
BEGIN:VTIMEZONE
TZID:America/Toronto
BEGIN:DAYLIGHT
TZOFFSETFROM:-0500
TZOFFSETTO:-0400
TZNAME:EDT
DTSTART:20230312T070000
END:DAYLIGHT
BEGIN:STANDARD
TZOFFSETFROM:-0400
TZOFFSETTO:-0500
TZNAME:EST
DTSTART:20231105T060000
END:STANDARD
BEGIN:DAYLIGHT
TZOFFSETFROM:-0500
TZOFFSETTO:-0400
TZNAME:EDT
DTSTART:20240310T070000
END:DAYLIGHT
BEGIN:STANDARD
TZOFFSETFROM:-0400
TZOFFSETTO:-0500
TZNAME:EST
DTSTART:20241103T060000
END:STANDARD
BEGIN:DAYLIGHT
TZOFFSETFROM:-0500
TZOFFSETTO:-0400
TZNAME:EDT
DTSTART:20250309T070000
END:DAYLIGHT
BEGIN:STANDARD
TZOFFSETFROM:-0400
TZOFFSETTO:-0500
TZNAME:EST
DTSTART:20251102T060000
END:STANDARD
END:VTIMEZONE
BEGIN:VEVENT
DTSTART;TZID=America/Toronto:20240503T220000
DTEND;TZID=America/Toronto:20240504T030000
DTSTAMP:20260425T110856
CREATED:20240429T172616Z
LAST-MODIFIED:20240429T172616Z
UID:5496-1714773600-1714791600@www.revivaleventvenue.ca
SUMMARY:Cinco de Mayo
DESCRIPTION:Get ready to unleash the fiesta of the year!\nSe viene una de las rumbas más grandes y esperadas del año! ¡La Weca! Cinco de Mayo! ¡No la dejes pasar! \nDress Code: Si se visten de charros\, no nos quejamos \nTickets Prices Increase based on demand. \nReservations: Minimum Consumption Required — Make your reservations here \nA photography crew will be recording the event and taking pictures\, if you do not wish to appear\, please inform the photographer. Important Additional Information: Online tickets will guarantee admission until 12.00 am
URL:https://www.revivaleventvenue.ca/event/cinco-de-mayo/
LOCATION:Revival Event Venue\, 783 College Street\, Toronto\, Ontario\, M6G 1C5\, Canada
ATTACH;FMTTYPE=image/jpeg:https://www.revivaleventvenue.ca/wp-content/uploads/2024/04/CincoDeMayo-May3.jpg
END:VEVENT
END:VCALENDAR