BEGIN:VCALENDAR
VERSION:2.0
PRODID:-//Revival Event Venue - Toronto's Premiere Boutique Event Space - ECPv6.15.20//NONSGML v1.0//EN
CALSCALE:GREGORIAN
METHOD:PUBLISH
X-ORIGINAL-URL:https://www.revivaleventvenue.ca
X-WR-CALDESC:Events for Revival Event Venue - Toronto's Premiere Boutique Event Space
REFRESH-INTERVAL;VALUE=DURATION:PT1H
X-Robots-Tag:noindex
X-PUBLISHED-TTL:PT1H
BEGIN:VTIMEZONE
TZID:America/Toronto
BEGIN:DAYLIGHT
TZOFFSETFROM:-0500
TZOFFSETTO:-0400
TZNAME:EDT
DTSTART:20250309T070000
END:DAYLIGHT
BEGIN:STANDARD
TZOFFSETFROM:-0400
TZOFFSETTO:-0500
TZNAME:EST
DTSTART:20251102T060000
END:STANDARD
BEGIN:DAYLIGHT
TZOFFSETFROM:-0500
TZOFFSETTO:-0400
TZNAME:EDT
DTSTART:20260308T070000
END:DAYLIGHT
BEGIN:STANDARD
TZOFFSETFROM:-0400
TZOFFSETTO:-0500
TZNAME:EST
DTSTART:20261101T060000
END:STANDARD
BEGIN:DAYLIGHT
TZOFFSETFROM:-0500
TZOFFSETTO:-0400
TZNAME:EDT
DTSTART:20270314T070000
END:DAYLIGHT
BEGIN:STANDARD
TZOFFSETFROM:-0400
TZOFFSETTO:-0500
TZNAME:EST
DTSTART:20271107T060000
END:STANDARD
END:VTIMEZONE
BEGIN:VEVENT
DTSTART;TZID=America/Toronto:20260425T220000
DTEND;TZID=America/Toronto:20260425T220000
DTSTAMP:20260423T152554
CREATED:20260209T202830Z
LAST-MODIFIED:20260209T204842Z
UID:6421-1777154400-1777154400@www.revivaleventvenue.ca
SUMMARY:Euro Nation Destination
DESCRIPTION:Get ready to dance all night to your favorite 90s and 2000s hits at DESTINATION DANCEFLOOR in Toronto! \nEURO NATION PRESENTS: DESTINATION DANCEFLOOR: THE ULTIMATE 90s & 2000s PARTY EXPERIENCE!\nToronto… we’re back! \nGet ready for another unforgettable night as EURO NATION brings you the next chapter of DESTINATION DANCEFLOOR\, the city’s biggest celebration of 90s & 2000s euro\, dance\, house\, trance\, and club anthems. \nJoin us on Saturday April 25\, 2026 at REVIVAL for a high energy party packed with nostalgic vibes\, massive hits\, and the electric atmosphere we’re known for. If you’ve been to our past events\, you already know: they sell out fast and they don’t happen often. This one will be our BIGGEST one yet\, loaded with surprises all night long. \nExpect non-stop classic anthems\nGo-Go dancers\nGiveaways\nMusic videos & visuals\nA crowd full of pure positive energy \nEURO NATION has spent years bringing this music to the world through our weekly global radio shows and thousands of loyal followers\, now it’s time to experience it LIVE with us once again.\nWe can’t wait to party with you on the dancefloor! \nFEATURING YOUR DJs\nDJ MARKY D (Former Z103.5 Live-to-Air & MuchDance DJ)\nMAURICIO CASTANO \nTICKETS & INFO\nTickets: www.destinationdancefloor.com or euronation.ca\nQuestions and bottle service: info@euronation.ca\nThis is a 19+ event. \nIf you love 90s & 2000s dance music… this is your night.\nSee you on the Dancefloor!
URL:https://www.revivaleventvenue.ca/event/euro-nation-destination/
LOCATION:Revival Event Venue\, 783 College Street\, Toronto\, Ontario\, M6G 1C5\, Canada
ATTACH;FMTTYPE=image/jpeg:https://www.revivaleventvenue.ca/wp-content/uploads/2026/02/Euronation-April25.jpg
ORGANIZER;CN="Euro Nation":MAILTO:info@euronation.ca
END:VEVENT
END:VCALENDAR