BEGIN:VCALENDAR
VERSION:2.0
PRODID:-//Revival Event Venue - Toronto's Premiere Boutique Event Space - ECPv6.15.20//NONSGML v1.0//EN
CALSCALE:GREGORIAN
METHOD:PUBLISH
X-WR-CALNAME:Revival Event Venue - Toronto's Premiere Boutique Event Space
X-ORIGINAL-URL:https://www.revivaleventvenue.ca
X-WR-CALDESC:Events for Revival Event Venue - Toronto's Premiere Boutique Event Space
REFRESH-INTERVAL;VALUE=DURATION:PT1H
X-Robots-Tag:noindex
X-PUBLISHED-TTL:PT1H
BEGIN:VTIMEZONE
TZID:America/Toronto
BEGIN:DAYLIGHT
TZOFFSETFROM:-0500
TZOFFSETTO:-0400
TZNAME:EDT
DTSTART:20240310T070000
END:DAYLIGHT
BEGIN:STANDARD
TZOFFSETFROM:-0400
TZOFFSETTO:-0500
TZNAME:EST
DTSTART:20241103T060000
END:STANDARD
BEGIN:DAYLIGHT
TZOFFSETFROM:-0500
TZOFFSETTO:-0400
TZNAME:EDT
DTSTART:20250309T070000
END:DAYLIGHT
BEGIN:STANDARD
TZOFFSETFROM:-0400
TZOFFSETTO:-0500
TZNAME:EST
DTSTART:20251102T060000
END:STANDARD
BEGIN:DAYLIGHT
TZOFFSETFROM:-0500
TZOFFSETTO:-0400
TZNAME:EDT
DTSTART:20260308T070000
END:DAYLIGHT
BEGIN:STANDARD
TZOFFSETFROM:-0400
TZOFFSETTO:-0500
TZNAME:EST
DTSTART:20261101T060000
END:STANDARD
END:VTIMEZONE
BEGIN:VEVENT
DTSTART;TZID=America/Toronto:20251031T220000
DTEND;TZID=America/Toronto:20251101T023000
DTSTAMP:20260423T182950
CREATED:20251002T160015Z
LAST-MODIFIED:20251002T160015Z
UID:6278-1761948000-1761964200@www.revivaleventvenue.ca
SUMMARY:The Breakfast Club - Halloween Edition
DESCRIPTION:A night of all things 80’s  |  Ghouls just wanna have fun\nGet ready to moonwalk into a time machine and groove back to the raddest decade of all—the 80s! This Halloween\, we’re turning up the neon\, crimping the hair\, and blasting the boombox for a night of gnarly fun\, freaky costumes\, and totally tubular tunes! \nWhether you’re a rockin’ rebel\, a pop princess\, or a glam rock superstar\, dress in your most outrageous 80s attire—think leg warmers\, big hair\, and all things neon! The best-dressed dude or dudette will snag a killer prize. \nMusic: DJ Starting From Scratch  |  Host: Timbrrr  |  MC: Kid Artik \nExpect wicked cocktails\, rad snacks\, and a dance floor that’ll have you doing the Thriller all night long. Plus\, we’ll be spinning the best 80s hits\, so get ready to break out your best Running Man\, Electric Slide\, and Cabbage Patch! \nIt’s gonna be a totally awesome night\, and we can’t wait to see you there! Don’t be a square—grab your ticket and let’s get\, like\, totally spooky! \nINFO: TIM@STARTINGFROMSCRATCH.COM
URL:https://www.revivaleventvenue.ca/event/the-breakfast-club-halloween-edition/
LOCATION:Revival Event Venue\, 783 College Street\, Toronto\, Ontario\, M6G 1C5\, Canada
ATTACH;FMTTYPE=image/jpeg:https://www.revivaleventvenue.ca/wp-content/uploads/2025/10/BreakfastClubHalloween-Oct31.jpg
END:VEVENT
BEGIN:VEVENT
DTSTART;TZID=America/Toronto:20251104T173000
DTEND;TZID=America/Toronto:20251104T203000
DTSTAMP:20260423T182950
CREATED:20251019T023657Z
LAST-MODIFIED:20251019T233618Z
UID:6285-1762277400-1762288200@www.revivaleventvenue.ca
SUMMARY:Hire Her: Black Women in Foodservice Networking Mixer
DESCRIPTION:A networking event bridging the gap between Black women & foodservice employers to empower leaders\, forge connections\, and build community. \nPresented by The Re-Seasoning Coalition and sponsored by Sysco\, The Hire Her Networking Mixer is more than a hiring event — it’s a space for meaningful industry connections rooted in connection\, empowerment and community. \nAbout this Event\nWe’re bringing together: \n\nBlack women job seekers eager to bring their talent\, skills\, and vision to foodservice.\nFoodservice employers and leaders committed to building more inclusive\, diverse\, and equitable teams.\n\nTogether\, we’ll cultivate an atmosphere of value exchange — where both job seekers and employers walk away with insight\, opportunity\, and new relationships that can spark lasting impact. \nWhy Attend?\n\nFor Job Seekers: Meet potential employers\, gain industry insights\, and meet peers who share your journey.\nFor Employers: Access an exceptional network of Black women in culinary arts\, hospitality management\, marketing\, finance\, tech\, operations\, product development\, and entrepreneurship ready to bring their expertise and passion to your teams.\nFor Everyone: Be part of a community-driven experience that centres equity\, is designed for empowerment\, and creates opportunities for everyone to reach their full potential in foodservice & hospitality.\n\nGo to the eventbrite link for agenda details.\n@trscoalitio\nLinkedin
URL:https://www.revivaleventvenue.ca/event/hire-her-black-women-in-foodservice-networking-mixer/
LOCATION:Revival Event Venue\, 783 College Street\, Toronto\, Ontario\, M6G 1C5\, Canada
ATTACH;FMTTYPE=image/jpeg:https://www.revivaleventvenue.ca/wp-content/uploads/2025/10/HireHer-Nov4LR.jpg
END:VEVENT
BEGIN:VEVENT
DTSTART;TZID=America/Toronto:20251114T220000
DTEND;TZID=America/Toronto:20251114T220000
DTSTAMP:20260423T182950
CREATED:20251104T160903Z
LAST-MODIFIED:20251104T160903Z
UID:6300-1763157600-1763157600@www.revivaleventvenue.ca
SUMMARY:VAMO DE PAGODIN! - Especial Belo
DESCRIPTION:Noite com o melhor da música brasileira! Nossa segunda edição de “Vamo de Pagodin” será ainda mais especial! Bora! \nA night filled with the best of Brazilian music! Our second edition of “Vamo de Pagodin” will be even more special! Let’s go!
URL:https://www.revivaleventvenue.ca/event/vamo-de-pagodin-especial-belo/
LOCATION:Revival Event Venue\, 783 College Street\, Toronto\, Ontario\, M6G 1C5\, Canada
ATTACH;FMTTYPE=image/jpeg:https://www.revivaleventvenue.ca/wp-content/uploads/2025/11/VamoDePagodin-Nov14.jpg
END:VEVENT
BEGIN:VEVENT
DTSTART;TZID=America/Toronto:20251122T213000
DTEND;TZID=America/Toronto:20251123T023000
DTSTAMP:20260423T182950
CREATED:20251027T201035Z
LAST-MODIFIED:20251027T201059Z
UID:6291-1763847000-1763865000@www.revivaleventvenue.ca
SUMMARY:Renaissance meets Memoirs
DESCRIPTION:November 22 marks exactly ONE year since our last Renaissance meets Memoirs\, and we can’t wait to do it all over again; 90s vs 00s style! \nBrown Eyes Entertainment in association with 808 Entertainment present \nRENAISSANCE meets MEMOIRS Part 5 – ’90s vs ’00s Edition\nToronto’s Longest Running ALL 90s Party and Your Favourite Old School Party\nMusical soundtrack by \nDANNY D (Z1035\, Drive @ 5 & Wayback Lunch)\nBABA KAHN (Memoirs Resident)\nAGILE (Kardinal Offishall’s Official DJ)\nMISTA JIGGZ (Renaissance Resident)\nVICIOUS (808 Entertainment) \n19+ | Doors open at 9:30pm \nNO GUESTLIST \nFor booth reservations/bottle service\, email Joe@revivaleventvenue.ca. For group bookings/info.\, email info@browneyesentertainment.com. \nbrowneyesentertainment.com | 808entertainment.ca \nSupported by NuFunk & RayBunz Promotions
URL:https://www.revivaleventvenue.ca/event/renaissance-meets-memoirs/
LOCATION:Revival Event Venue\, 783 College Street\, Toronto\, Ontario\, M6G 1C5\, Canada
ATTACH;FMTTYPE=image/jpeg:https://www.revivaleventvenue.ca/wp-content/uploads/2025/10/RENAISSANCEmemoires-NOV2025-FULL-LR.jpg
ORGANIZER;CN="Brown Eyes Entertainment":MAILTO:info@browneyesentertainment.com
END:VEVENT
BEGIN:VEVENT
DTSTART;TZID=America/Toronto:20251123T160000
DTEND;TZID=America/Toronto:20251123T200000
DTSTAMP:20260423T182950
CREATED:20251104T154106Z
LAST-MODIFIED:20251104T154106Z
UID:6295-1763913600-1763928000@www.revivaleventvenue.ca
SUMMARY:Benefit for Jamaica
DESCRIPTION:Come and enjoy some great reggae music …. and you can help to raise money to assist in the massive job of re-building Jamaica… every little bit helps! \nSattalites with some very special guests Ron Edwards\, Lord Sassafras\, Tim Bovaconti\, Jason Wilson\, Neil Chapman\, Quisha Wint\, Wade Brown\, Papa Levy\, Tony Anthony\, and many more. Admission by donation. An amazing way to spend a Sunday afternoon. \nSuggested donation $25 \nAll proceeds going to disaster relief.
URL:https://www.revivaleventvenue.ca/event/benefit-for-jamaica/
LOCATION:Revival Event Venue\, 783 College Street\, Toronto\, Ontario\, M6G 1C5\, Canada
ATTACH;FMTTYPE=image/jpeg:https://www.revivaleventvenue.ca/wp-content/uploads/2025/11/JamaicaBenefit-Nov23LR.jpg
END:VEVENT
BEGIN:VEVENT
DTSTART;TZID=America/Toronto:20251127T180000
DTEND;TZID=America/Toronto:20251127T233000
DTSTAMP:20260423T182950
CREATED:20251124T203422Z
LAST-MODIFIED:20251124T203451Z
UID:6319-1764266400-1764286200@www.revivaleventvenue.ca
SUMMARY:Legacy in Bloom – Complimentary Industry Access
DESCRIPTION:Overview\n\n\n\n\n\nExclusive Tickets for Toronto’s Event\, Hospitality & Tourism Professionals\n\n\n\n✨ A Night of Purpose\, Creativity & Industry Connection\nToronto’s event professionals know better than anyone: the most powerful events are the ones that change lives. \nLegacy in Bloom is a celebration of 25 years of Aangen’s community impact — and an inside look at how a small-but-mighty nonprofit has quietly transformed the lives of thousands across the city. \nThis link offers complimentary access for event planners\, tourism professionals\, cultural producers\, and hospitality leaders who want to experience a night where impact\, creativity\, and connection collide. \n❤️ Why Aangen Matters — and Why We’re Celebrating 25 Years\nAangen isn’t a traditional nonprofit.\nIt’s a social enterprise built on a simple belief:\nWhen you nourish people with dignity\, you change everything. \nOver 25 years\, Aangen has: \n\nProvided over 3.1 million meals to families facing food insecurity\nCreated more than 1\,000 paying jobs for people overcoming barriers\nDiverted over 992 tons of food waste from landfills\nOffset over 1\,042 tons of CO2 emissions\nBuilt a circular economy where 100% of donated funds go directly to people\, because all admin costs are covered through their own revenue-generating social enterprises\n\nThis gala is a celebration of that legacy — and a spotlight on the next generation of community support\, sustainability\, and dignity-centered impact. \nEvent professionals know the power of community.\nLegacy in Bloom shows what happens when an entire city builds one together. \n🌟 Why Event & Tourism Professionals Should Attend\n1. Real Impact\, Real Stories\nGet inspired by frontline insights from leaders in: \n\nsocial enterprise\ncommunity food systems\njob creation\nsustainability\nnewcomer support\nyouth empowerment\nfinancial legacy + giving\n\nThese stories are powerful content for anyone who designs experiences\, tells stories\, or shapes community engagement. \n2. Network with Industry + Purpose-Driven Leaders\nMeet entrepreneurs\, donors\, cultural partners\, corporate leaders\, and hospitality professionals who care about more than business-as-usual. \nThese are high-quality relationships and potential collaborators for future projects. \n3. A New Event Format to Borrow From\nExperience a fresh approach to inclusive\, mission-driven events: \n\n“Kitchen Table Chat” conversations\nRotating experiential zones\nImmersive food + art activations\nEmotional storytelling moments\nA blend of gala + festival energy\nLive DJ + late-night punk set\n\nPerfect inspiration for planners\, producers\, and creators. \n4. Support Meaningful\, Local Impact\nBy attending\, you’re helping amplify Aangen’s work — feeding families\, employing people facing barriers\, and reducing waste — all through sustainable\, community-driven solutions. \n🎶 Evening Lineup\n\nOpening Remarks: Councillor Alejandra Bravo & MPP Alexa Gilmour\nHosted by: Kimberly Carroll — TV personality & leadership coach\nKitchen Table Chat: Real conversations on legacy\, generosity & community\nLive Entertainment:\nDJ Marl6ve\nSuper Not Okay – Punk Band (10:30 PM–Midnight)\nFood & Experiences:\nGourmet vegan food\, signature cocktails\, art activations\, networking spaces\n\n🎟️ Ticket Details\nThis complimentary ticket link is exclusively for: \n\nevent planners & producers\ntourism & hospitality professionals\nvenue partners & suppliers\narts & culture creators\ncommunity connectors\n\nRegular tickets are $125 — your ticket is free thanks to our industry sponsor. \nPlease register to confirm your spot.\nYour name will be added to the guest list for express check-in. \n✨ Join us for a night that honors 25 years of community impact — and inspires the next generation of Toronto events.
URL:https://www.revivaleventvenue.ca/event/legacy-in-bloom-complimentary-industry-access/
LOCATION:Revival Event Venue\, 783 College Street\, Toronto\, Ontario\, M6G 1C5\, Canada
ATTACH;FMTTYPE=image/jpeg:https://www.revivaleventvenue.ca/wp-content/uploads/2025/11/LegacyInBloom-Nov27.jpg
ORGANIZER;CN="Aangen":MAILTO:info@aangen.com
END:VEVENT
BEGIN:VEVENT
DTSTART;TZID=America/Toronto:20251128T190000
DTEND;TZID=America/Toronto:20251129T000000
DTSTAMP:20260423T182950
CREATED:20250815T221110Z
LAST-MODIFIED:20250815T232727Z
UID:6205-1764356400-1764374400@www.revivaleventvenue.ca
SUMMARY:Pancakes & Booze Art Show
DESCRIPTION:Toronto’s Underground Pop-Up Art Show is BACK on Nov. 28th\, 2025. \nCome experience one of the largest pop-up art movements to hit North America over the past decade. Celebrating over 15 years of serving FREE PANCAKES and introducing you to some of the nation’s leading emerging artists. \n• Over 75+ local artists exhibiting over 300+ pieces of artwork \n• FREE All-U-Can-Eat Pancakes \n• Live Audio Performances from local DJs and Music Producers \n• Live Body Painting & Art \n• 19+ EVENT \n• $25 General Admission (Day of Show – Door) \nAre you a local artist looking to exhibit your work? Please visit our website (www.pancakesandbooze.com/submit) to submit your artwork or email us at info@pancakesandbooze.com for further information. \nABOUT The Pancakes & Booze Art Show\nThe LA based event originated in 2009 and has since popped up more than 500 times in 35+ cities around Europe & North America. \nBatter sizzles\, beer foams\, and canvas lines the walls from ceiling to floor as hundreds\, sometimes thousands\, of revelers indulge in endless pancakes. \nThis is no stuffy wine-and-cheese\, pretentious\, someone-gag-me art event. It’s an innovative reimagining of the art show concept. A welcoming vibe for up-and-coming artists to sell and strut their stuff in a free verse\, anything goes environment. \nInstagram @pancakesandbooze\nSubmissions: www.pancakesandbooze.com/submit\nEmail: info@pancakesandbooze.com \n  \nNO REFUNDS. ALL SALES ARE FINAL. \nUnder NO circumstance will refunds or credits for future events be issued. \nThis ticket does NOT guarantee immediate entry. Entry is based on the capacity of the venue when you arrive. Entry is first come first serve\, regardless if you’ve bought a ticket online or at the door. It’s a popular event\, so arrive early to avoid waiting in line! \nThe art is on exhibit until Midnight\, but the bar typically stays open later. The event has the right to end earlier or extend later depending on the size of the crowd.
URL:https://www.revivaleventvenue.ca/event/pancakes-booze-art-show-2/
LOCATION:Revival Event Venue\, 783 College Street\, Toronto\, Ontario\, M6G 1C5\, Canada
ATTACH;FMTTYPE=image/jpeg:https://www.revivaleventvenue.ca/wp-content/uploads/2025/08/PancakesBooze-Nov28-1.jpg
ORGANIZER;CN="The Pancakes & Booze Art Show":MAILTO:info@pancakesandbooze.com
END:VEVENT
BEGIN:VEVENT
DTSTART;TZID=America/Toronto:20251129T223000
DTEND;TZID=America/Toronto:20251129T223000
DTSTAMP:20260423T182950
CREATED:20251109T001402Z
LAST-MODIFIED:20251109T004410Z
UID:6304-1764455400-1764455400@www.revivaleventvenue.ca
SUMMARY:AfroBeats & Friends
DESCRIPTION:Lets start the festive month of December with all the Afrobeats and Amapiano songs you love.\nMC: Mista Dre\nDancer: Yhemzy\nDJ: Prvphet Zay; Uncles of To (Uncle Nife & Uncle Debo) \nGet ready to experience an unforgettable night filled with music\, dancing and lots of good energy at Revival Event Venue. \n19+ EVENT / ID REQUIRED \n*IMPORTANT* Terms and Conditions \nBy Purchasing A Ticket To This Event\, You Agree To The Following: \n\nYou agree to drink responsibly.\nHave Fun!!!\nYou agree to treat everyone with respect and the event facilities with proper care.\nWe reserve the right to refuse admission or completion of the event to any person whose conduct is disorderly or unbecoming\, without refund or compensation.\n\n 
URL:https://www.revivaleventvenue.ca/event/afrobeats-friends-2/
LOCATION:Ontario
ATTACH;FMTTYPE=image/jpeg:https://www.revivaleventvenue.ca/wp-content/uploads/2025/11/UncleAfroBeats-Nov29LR.jpg
END:VEVENT
END:VCALENDAR