BEGIN:VCALENDAR
VERSION:2.0
PRODID:-//Revival Event Venue - Toronto's Premiere Boutique Event Space - ECPv6.15.20//NONSGML v1.0//EN
CALSCALE:GREGORIAN
METHOD:PUBLISH
X-ORIGINAL-URL:https://www.revivaleventvenue.ca
X-WR-CALDESC:Events for Revival Event Venue - Toronto's Premiere Boutique Event Space
REFRESH-INTERVAL;VALUE=DURATION:PT1H
X-Robots-Tag:noindex
X-PUBLISHED-TTL:PT1H
BEGIN:VTIMEZONE
TZID:America/Toronto
BEGIN:DAYLIGHT
TZOFFSETFROM:-0500
TZOFFSETTO:-0400
TZNAME:EDT
DTSTART:20240310T070000
END:DAYLIGHT
BEGIN:STANDARD
TZOFFSETFROM:-0400
TZOFFSETTO:-0500
TZNAME:EST
DTSTART:20241103T060000
END:STANDARD
BEGIN:DAYLIGHT
TZOFFSETFROM:-0500
TZOFFSETTO:-0400
TZNAME:EDT
DTSTART:20250309T070000
END:DAYLIGHT
BEGIN:STANDARD
TZOFFSETFROM:-0400
TZOFFSETTO:-0500
TZNAME:EST
DTSTART:20251102T060000
END:STANDARD
BEGIN:DAYLIGHT
TZOFFSETFROM:-0500
TZOFFSETTO:-0400
TZNAME:EDT
DTSTART:20260308T070000
END:DAYLIGHT
BEGIN:STANDARD
TZOFFSETFROM:-0400
TZOFFSETTO:-0500
TZNAME:EST
DTSTART:20261101T060000
END:STANDARD
END:VTIMEZONE
BEGIN:VEVENT
DTSTART;TZID=America/Toronto:20250731T220000
DTEND;TZID=America/Toronto:20250801T030000
DTSTAMP:20260424T085237
CREATED:20250724T185534Z
LAST-MODIFIED:20250724T185534Z
UID:6195-1753999200-1754017200@www.revivaleventvenue.ca
SUMMARY:Soca & Friends
DESCRIPTION:Carnival Thursday enjoy Soca & Friends. \nFeaturing talent:\n\nFlex Got Next\nSelectah Kerry\nMajor Penny\nInt’l Stephen\nJr. Cruiza\nSeleta JB\nCredable\nDJ Cze\nDJ Lewis\nPatrick Hypeman\nLurbz\nJoshua Lucas\nMr Stanfield\nSB Promo\n\n$40 advanced tickets or get a Friends Pack: 4 for $140. \nThis is a 19+ event.
URL:https://www.revivaleventvenue.ca/event/soca-friends-3/
LOCATION:Revival Event Venue\, 783 College Street\, Toronto\, Ontario\, M6G 1C5\, Canada
ATTACH;FMTTYPE=image/jpeg:https://www.revivaleventvenue.ca/wp-content/uploads/2025/07/SocaAndFriends-July31.jpg
ORGANIZER;CN="Flexx Music Live":MAILTO:flexxmusiclive@gmail.com
END:VEVENT
BEGIN:VEVENT
DTSTART;TZID=America/Toronto:20250801T220000
DTEND;TZID=America/Toronto:20250802T020000
DTSTAMP:20260424T085237
CREATED:20250628T014011Z
LAST-MODIFIED:20250801T161627Z
UID:6149-1754085600-1754100000@www.revivaleventvenue.ca
SUMMARY:2000s Party - Caribana Yonge St. Edition
DESCRIPTION:If you Remember Caribana Friday Night on Yonge. St\, This Party’s for You! We’re moving that Vibe and that Era inside REVIVAL Night Club! \n2NICE x KAMAKACCI JUICE x C4L x DJ DK Present… \nThe2000sParty Cariban Yonge St. Edition\, Bringing back the Yonge St. Friday Night Walk VIBE. \nPlaying the Best in 2000s HIP HOP\, R&B\, DANCEHALL\, SOCA & CLUB ANTHEMS \nEarly Bird Tickets available for a Limited Time. This is a 21+ event.
URL:https://www.revivaleventvenue.ca/event/2000s-party-caribana-yonge-st-edition/
LOCATION:Revival Event Venue\, 783 College Street\, Toronto\, Ontario\, M6G 1C5\, Canada
ATTACH;FMTTYPE=image/jpeg:https://www.revivaleventvenue.ca/wp-content/uploads/2025/06/Jadakiss-Aug1.jpg
END:VEVENT
BEGIN:VEVENT
DTSTART;TZID=America/Toronto:20250803T220000
DTEND;TZID=America/Toronto:20250803T220000
DTSTAMP:20260424T085237
CREATED:20250723T141113Z
LAST-MODIFIED:20250723T141113Z
UID:6184-1754258400-1754258400@www.revivaleventvenue.ca
SUMMARY:Mad Haus Wild
DESCRIPTION:Toronto’s Carnival Sunday just got better with the Mad Haus Wild Carnival Jungle Rave. \nPure\, untamed energy. Authentic Caribbean sound.\nUnfiltered vibes. Carnival madness. \n⭐ Sounds by:\n•⁠ ⁠MAJOR PENNY x SELECTAH KERRY (From Trinidad) 🇹🇹\n•⁠ ⁠INCREDIBLE DJ SHY x MENACE\n•⁠ ⁠BRANDAN DUKE x DJ FLING\n•⁠ ⁠DJ RENNIE x JOSHUA LUCAS \n🔊 Soca & Dancehall all night. \n👕 Come in your wildest fit — animal print\, tropical drip\, glow\, feathers\, mesh — or just show up bold.
URL:https://www.revivaleventvenue.ca/event/mad-haus-wild/
LOCATION:Revival Event Venue\, 783 College Street\, Toronto\, Ontario\, M6G 1C5\, Canada
ATTACH;FMTTYPE=image/jpeg:https://www.revivaleventvenue.ca/wp-content/uploads/2025/07/MadHausWild-Aug3.jpg
ORGANIZER;CN="The Incredible DJ Shy":MAILTO:nutopiaevent@gmail.com
END:VEVENT
BEGIN:VEVENT
DTSTART;TZID=America/Toronto:20250823T210000
DTEND;TZID=America/Toronto:20250824T023000
DTSTAMP:20260424T085237
CREATED:20250820T034944Z
LAST-MODIFIED:20250820T035743Z
UID:6219-1755982800-1756002600@www.revivaleventvenue.ca
SUMMARY:ROI 404_Riddim_Not_Found
DESCRIPTION:We’re bringing the madness\, and it all kicks off with ROIdubs leading the charge\, serving up high knees like you’ve never seen before! The lineup just got even spicier with Filthy\, Minima\, Athrala\, Disintegrate\, and MFFNZ\, all ready to crank the energy to 11 — this is one night you won’t want to miss!Pro tip: Stretch before and after\, because we’re going feral and high knees are about to be in full effect! \nObsidian Collective is an electrifying EDM event company dedicated to creating unforgettable experiences. We bring together the best talent\, immersive production\, and passionate fans for epic nights of music\, energy\, and connection. Join the collective!
URL:https://www.revivaleventvenue.ca/event/roi-404_riddim_not_found/
LOCATION:Revival Event Venue\, 783 College Street\, Toronto\, Ontario\, M6G 1C5\, Canada
ATTACH;FMTTYPE=image/jpeg:https://www.revivaleventvenue.ca/wp-content/uploads/2025/08/ROI-aug23.jpg
END:VEVENT
BEGIN:VEVENT
DTSTART;TZID=America/Toronto:20250830T220000
DTEND;TZID=America/Toronto:20250831T023000
DTSTAMP:20260424T085237
CREATED:20250816T030659Z
LAST-MODIFIED:20250816T030659Z
UID:6209-1756591200-1756607400@www.revivaleventvenue.ca
SUMMARY:Shine Sakura
DESCRIPTION:About time we turn up the heat ent? No time to waste — Introducing the official cast for #SHINESakura  — 𝗗𝗿. 𝗝𝗮𝘆 𝗱𝗲  — 𝗠𝗲𝗻𝗮𝗰𝗲 — 𝗜𝗻𝗰𝗿𝗲𝗱𝗶𝗯𝗹𝗲 𝗦𝗵𝘆 — 𝗗𝗝 𝗞𝗲𝘃𝗶𝗻 — 𝗝𝗼𝗿𝗱𝗶𝗼𝗿 — 𝗝𝗼𝘀𝗵𝘂𝗮 𝗟𝘂𝗰𝗮𝘀 — 𝗦𝘁𝗲𝗽𝗵 𝗛𝗼𝗻𝗲𝘆This exceptional ensemble brings world-class artistry\, infectious energy\, and a seamless flow of rhythm and pace Expect a night where “𝗘𝗹𝗲𝗴𝗮𝗻𝗰𝗲 𝗠𝗲𝗲𝘁𝘀 𝗘𝘅𝗵𝗶𝗹𝗮𝗿𝗮𝘁𝗶𝗼𝗻” — Every note draped in sophistication  Every beat infused with playful charm  and Every moment wrapped in a seductive\, breathtaking atmosphere  • 𝗩𝗜𝗣 𝗕𝗢𝗢𝗧𝗛𝗦 — 𝟱𝟬% 𝗦𝗢𝗟𝗗 𝗢𝗨𝗧  • sbpromoto@gmail.com for VIP booth packages • 𝗔𝗗𝗩𝗔𝗡𝗖𝗘𝗗 𝗘𝗡𝗧𝗥𝗬 — #MOVING!  • ticketgateway.com/shinesakura \n𝗦𝗛𝗜𝗡𝗘 : 丂卂Ҝㄩ尺卂 — 𝕋𝕙𝕖 ℂ𝕙𝕖𝕣𝕣𝕪 𝔹𝕝𝕠𝕤𝕤𝕠𝕞 𝔼𝕩𝕡𝕖𝕣𝕚𝕖𝕟𝕔𝕖 Prepare to be swept away on an unforgettable musical voyage\, visiting the World’s most captivating Caribbean Islands through sound
URL:https://www.revivaleventvenue.ca/event/shine-sakura/
LOCATION:Revival Event Venue\, 783 College Street\, Toronto\, Ontario\, M6G 1C5\, Canada
ATTACH;FMTTYPE=image/jpeg:https://www.revivaleventvenue.ca/wp-content/uploads/2025/08/ShineSakura-Aug30.jpg
ORGANIZER;CN="The Incredible DJ Shy":MAILTO:nutopiaevent@gmail.com
END:VEVENT
END:VCALENDAR