BEGIN:VCALENDAR
VERSION:2.0
PRODID:-//Revival Event Venue - Toronto's Premiere Boutique Event Space - ECPv6.15.20//NONSGML v1.0//EN
CALSCALE:GREGORIAN
METHOD:PUBLISH
X-ORIGINAL-URL:https://www.revivaleventvenue.ca
X-WR-CALDESC:Events for Revival Event Venue - Toronto's Premiere Boutique Event Space
REFRESH-INTERVAL;VALUE=DURATION:PT1H
X-Robots-Tag:noindex
X-PUBLISHED-TTL:PT1H
BEGIN:VTIMEZONE
TZID:America/Toronto
BEGIN:DAYLIGHT
TZOFFSETFROM:-0500
TZOFFSETTO:-0400
TZNAME:EDT
DTSTART:20240310T070000
END:DAYLIGHT
BEGIN:STANDARD
TZOFFSETFROM:-0400
TZOFFSETTO:-0500
TZNAME:EST
DTSTART:20241103T060000
END:STANDARD
BEGIN:DAYLIGHT
TZOFFSETFROM:-0500
TZOFFSETTO:-0400
TZNAME:EDT
DTSTART:20250309T070000
END:DAYLIGHT
BEGIN:STANDARD
TZOFFSETFROM:-0400
TZOFFSETTO:-0500
TZNAME:EST
DTSTART:20251102T060000
END:STANDARD
BEGIN:DAYLIGHT
TZOFFSETFROM:-0500
TZOFFSETTO:-0400
TZNAME:EDT
DTSTART:20260308T070000
END:DAYLIGHT
BEGIN:STANDARD
TZOFFSETFROM:-0400
TZOFFSETTO:-0500
TZNAME:EST
DTSTART:20261101T060000
END:STANDARD
END:VTIMEZONE
BEGIN:VEVENT
DTSTART;TZID=America/Toronto:20250302T193000
DTEND;TZID=America/Toronto:20250302T220000
DTSTAMP:20260424T235756
CREATED:20250115T175424Z
LAST-MODIFIED:20250115T175424Z
UID:5858-1740943800-1740952800@www.revivaleventvenue.ca
SUMMARY:The Man Who Sees Tomorrow - taping
DESCRIPTION:Join us for a taping of one of the most exciting acts in Canada. Mysterion\, The man who sees tomorrow is filming this 90 min show for a special project and wants YOU to be a part. \nYou will see feats of telepathy\, mind reading\, hypnosis and remote viewing live and in person. This show is one night only at REVIVAL with doors at 7:30 and show at 8 and being FILMED. By attending you agree to be possibly on film and part of the night. This program is not being sold but used for promotional and online content and on Mysterion’s Youtube channel and other social media and promotional tools. \nWe ask in consideration for donations to the Dai Vernon Foundation\, a organization helping magician members who are vicitms of the fires currently happening in Los Angeles. Donations can be made directly to daivernonfoundation.org or at the door which will be sent accordingly.
URL:https://www.revivaleventvenue.ca/event/the-man-who-sees-tomorrow-taping/
LOCATION:Revival Event Venue\, 783 College Street\, Toronto\, Ontario\, M6G 1C5\, Canada
ATTACH;FMTTYPE=image/jpeg:https://www.revivaleventvenue.ca/wp-content/uploads/2025/01/Mysterion_ManWhoSeesTomorrow-March2.jpg
END:VEVENT
BEGIN:VEVENT
DTSTART;TZID=America/Toronto:20250307T220000
DTEND;TZID=America/Toronto:20250308T030000
DTSTAMP:20260424T235756
CREATED:20250115T171941Z
LAST-MODIFIED:20250223T230430Z
UID:5850-1741384800-1741402800@www.revivaleventvenue.ca
SUMMARY:STR8 VYBZ
DESCRIPTION:STR8 VYBZ is back with heat! Due to the snowstorm\, we had to reschedule\, but that just means March 7th at Revival Nightclub is about to be even bigger and badder! \nThis is more than a party—it’s the vibe you’ve been craving. A night where the city’s most requested and talented DJs\, the heartbeat of the culture\, and the energy of the streets collide to create the ultimate party! \n🔊 Sounds by:\n🎧 Incredible DJ Shy × Menace\n🎧 Brandan Duke × DJ Fling\n🎧 Rennie\n🎧 Joshua Lucas \n🎤 Hosted by:\nGizelle | Selena Loves Soca | Jab Revellers | BGB | SB Promo | Rich Promo \n📸 @polaroid.kev \nIf you already have a ticket\, you’re good to go! If you need one\, Tier 2 tickets are on sale now—don’t wait!\n💎 VIP Booths: We’re down to our last booth\, DM @str8vybz.to to secure it!\nUniting each corner of the Caribbean scene—this is for the culture\, the streets\, and the people.
URL:https://www.revivaleventvenue.ca/event/str8-vybz/
LOCATION:Revival Event Venue\, 783 College Street\, Toronto\, Ontario\, M6G 1C5\, Canada
ATTACH;FMTTYPE=image/jpeg:https://www.revivaleventvenue.ca/wp-content/uploads/2025/01/Str8Vybz-March7.jpg
END:VEVENT
BEGIN:VEVENT
DTSTART;TZID=America/Toronto:20250308T220000
DTEND;TZID=America/Toronto:20250309T030000
DTSTAMP:20260424T235756
CREATED:20250219T010237Z
LAST-MODIFIED:20250228T193611Z
UID:5904-1741471200-1741489200@www.revivaleventvenue.ca
SUMMARY:NOTORIOUS - A Tribute to The Late\, Great Biggie Smalls
DESCRIPTION:Brown Eyes Entertainment & United Soul present \nNOTORIOUS – A Tribute to The Late\, Great Biggie Smalls\nFeaturing music by \nSWEET TOUCH FOUNDATION \nMELBOOGIE \nDJX \nMISTA JIGGZ \nHosted by MASTERMIND \nLive Art by ADRIAN HAYLES \nCelebrating the 3rd anniversary of Worth Gallery
URL:https://www.revivaleventvenue.ca/event/notorious-a-tribute-to-the-late-great-biggie-smalls/
LOCATION:Revival Event Venue\, 783 College Street\, Toronto\, Ontario\, M6G 1C5\, Canada
ATTACH;FMTTYPE=image/jpeg:https://www.revivaleventvenue.ca/wp-content/uploads/2025/02/NotoriousBIG-March8_v2.jpg
ORGANIZER;CN="Brown Eyes Entertainment":MAILTO:info@browneyesentertainment.com
END:VEVENT
BEGIN:VEVENT
DTSTART;TZID=America/Toronto:20250314T223000
DTEND;TZID=America/Toronto:20250315T030000
DTSTAMP:20260424T235756
CREATED:20250311T231420Z
LAST-MODIFIED:20250311T231420Z
UID:5935-1741991400-1742007600@www.revivaleventvenue.ca
SUMMARY:Sysmo X St. Paddy's
DESCRIPTION:The 10th Sysmo. Let’s get ready for Raggaeton St. Paddy’s pt 2. \nThis Friday is the perfect blend of Irish and Latin fusion. \nDress code for the night is GREEN!
URL:https://www.revivaleventvenue.ca/event/sysmo-x-st-paddys/
LOCATION:Revival Event Venue\, 783 College Street\, Toronto\, Ontario\, M6G 1C5\, Canada
ATTACH;FMTTYPE=image/jpeg:https://www.revivaleventvenue.ca/wp-content/uploads/2025/03/IMG_5397.jpeg
END:VEVENT
BEGIN:VEVENT
DTSTART;TZID=America/Toronto:20250315T200000
DTEND;TZID=America/Toronto:20250316T010000
DTSTAMP:20260424T235756
CREATED:20241219T043124Z
LAST-MODIFIED:20241219T043124Z
UID:5818-1742068800-1742086800@www.revivaleventvenue.ca
SUMMARY:Toronto Pancakes & Booze Art Show
DESCRIPTION:Toronto’s Underground Pop-Up Art Show is BACK on March 15th\, 2025. \nCome experience one of the largest pop-up art movements to hit North America over the past decade. Celebrating over 10 years of serving FREE PANCAKES and introducing you to some of the nation’s leading emerging artists. \n\nOver 75+ local artists exhibiting over 300+ pieces of artwork\nFREE All-U-Can-Eat Pancakes\nLive Audio Performances from local DJs and Music Producers\nLive Body Painting & Art\n19+ EVENT\n8pm – Midnight.\n$25 General Admission (Day of Show – Door)\n\nAre you a local artist looking to exhibit your work? Please visit our website (www.pancakesandbooze.com/submit) to submit your artwork or email us at info@pancakesandbooze.com for further information. \nABOUT The Pancakes & Booze Art Show: \nThe LA based event originated in 2009 and has since popped up more than 500 times in 35+ cities around Europe & North America. \nBatter sizzles\, beer foams\, and canvas lines the walls from ceiling to floor as hundreds\, sometimes thousands\, of revelers indulge in endless pancakes. \nThis is no stuffy wine-and-cheese\, pretentious\, someone-gag-me art event. It’s an innovative reimagining of the art show concept. A welcoming vibe for up-and-coming artists to sell and strut their stuff in a free verse\, anything goes environment. \nInstagram @pancakesandbooze \nSubmissions: www.pancakesandbooze.com/submit \nEmail: info@pancakesandbooze.com \nNO REFUNDS. ALL SALES ARE FINAL. \nUnder NO circumstance will refunds or credits for future events be issued. \nThis ticket does NOT guarantee immediate entry. Entry is based on the capacity of the venue when you arrive. Entry is first come first serve\, regardless if you’ve bought a ticket online or at the door. It’s a popular event\, so arrive early to avoid waiting in line! \nThe art is on exhibit until Midnight\, but the bar typically stays open later. The event has the right to end earlier or extend later depending on the size of the crowd.
URL:https://www.revivaleventvenue.ca/event/toronto-pancakes-booze-art-show-2/
LOCATION:Revival Event Venue\, 783 College Street\, Toronto\, Ontario\, M6G 1C5\, Canada
ATTACH;FMTTYPE=image/jpeg:https://www.revivaleventvenue.ca/wp-content/uploads/2024/12/PancakesBooze-March15sqr.jpg
ORGANIZER;CN="The Pancakes & Booze Art Show":MAILTO:info@pancakesandbooze.com
END:VEVENT
BEGIN:VEVENT
DTSTART;TZID=America/Toronto:20250320T190000
DTEND;TZID=America/Toronto:20250320T230000
DTSTAMP:20260424T235756
CREATED:20250220T223906Z
LAST-MODIFIED:20250220T223906Z
UID:5908-1742497200-1742511600@www.revivaleventvenue.ca
SUMMARY:Tammy's Tavern presents: Lip-Sync Battle
DESCRIPTION:Yeehaw & get ready to lip-sync for your life! Crystal Quartz Queen hosts: LIP-SYNC BATTLE! \n\n\n7:00 PM – 8:00 PM – DJ Kasey Riot \n\n\n\n\n8:00 PM – 9:00 PM – Lip-Sync Battle \n\n\nCrystal Quartz Queen – 9:00 PM – 9:30 PM \n\n\n\n\n\n\nIntermission \n\n\n\n\n9:30 PM – 10:00 PM – Lip-Sync Battle Finale & Winners Announced! \n\n\n\n\n10:00 PM – 11:00 PM – Dancing & Cocktails (DJ Kasey Riot) \nAbout this event\nCrystal Quartz Queen hosts a Lip-Sync Battle for the ages. This show will be an absolute HOOT! Amateurs and Pros hit the stage to compete for categories and YOU vote on the winners. There may even be some spots for Wild Card Performers to hop up and join the fun…! \nArrive early for cocktails & DJ Kasey Riot on the decks getting the vibe started at 7pm! \nShow starts promptly at 8pm! \nBring your cash for the Carnival x Hoedown themed games and raffles – details to be announced soon!! \nCategory is: Disco Cowgirl/Cowperson Carnival Hoedown. Dress to impress! \nAbout your host\nCrystal Quartz has been dazzling audiences with her charisma\, quick wit\, and show-stopping performances for 20 years. A seasoned drag entertainer\, host\, and comedian\, she sells out shows across Ontario every single week. Known as The Shining Jewel from the Royal City\, Crystal brings high-energy performances\, hilarious banter\, and unforgettable glamour to every stage she graces. Get ready for a night of laughter\, excitement\, and fabulousness like no other! \nPresented by Tammy’s Tavern\nTammy’s Tavern is a Burning Man Theme Camp. Our camp offers an enchanting environment with our Disco-cowperson themed saloon. We encourage participation from all levels of performers in our signature lip-sync events. The best way to describe it is\, “it’s like karaoke\, but you lip sync!” \nLip-Sync Battle will help us raise money to bring our fun and entertaining camp to the Regional Ontario Burning Man Event\, SideBurn\, for the first time ever!
URL:https://www.revivaleventvenue.ca/event/tammys-tavern-presents-lip-sync-battle/
LOCATION:Revival Event Venue\, 783 College Street\, Toronto\, Ontario\, M6G 1C5\, Canada
ATTACH;FMTTYPE=image/jpeg:https://www.revivaleventvenue.ca/wp-content/uploads/2025/02/TammyTavern-March20.jpg
END:VEVENT
BEGIN:VEVENT
DTSTART;TZID=America/Toronto:20250321T220000
DTEND;TZID=America/Toronto:20250322T030000
DTSTAMP:20260424T235756
CREATED:20250128T231327Z
LAST-MODIFIED:20250128T231416Z
UID:5886-1742594400-1742612400@www.revivaleventvenue.ca
SUMMARY:Destination Dancefloor
DESCRIPTION:A Night of 1990s & 2000s Dance Anthems\nEuro Nation presents Destination Dancefloor. \nGet ready Toronto! The Ultimate 90s & 2000s party experience is here\, the destination? Dancefloor. \nJoin us for an electric night full of memories and a ride through the best decades of all time. Alongside the best DJs spinning dance and club anthems all night long! This is a night dedicated to positive vibes and the most unforgettable experience. All of our past events have sold out & they don’t happen often so make sure you grab your tickets and come on down for a night full of amazing music\, giveways\,and memories. \nBased out of Toronto\, we are always ready to give you the best party and will make sure you have a night you will never forget with amazing euro\, dance\, house\, trance\, & more. \nWe’re set to make this the BIGGEST event we’ve ever done with many surprises. \nWe do weekly mixshows heard all over the world and our thousands of followers know what we are all about. We can’t wait to share that experience with you inside Revival on March 21st\, 2025. \nSee you on the Dancefloor! \nFeatured DJs\nDJ ALEX K \nMAURICIO CASTANO \nDJ MARKY D (Former Z103 Live to air & MuchDance DJ)\nAlongside Go Go Dancers\, Giveaways\, Music Videos\, & much more.\nFor info and tickets check here or euronation.ca. Any questions please contact info@euronation.ca \nWe do popular radio shows every week all around the world where people party to this music. Visit us on youtube or check out www.euronation.ca for info on us or to check out our 24/7 Dance Radio Station. \nAs always\, this will be sell out…grab tickets to the ultimate 90s & 2000s dance experience.\nIf you’ve been to our live events you should know by now it’s the best and most unique time you’ll ever have. \nThis is a 19+ event. Email info@euronation.ca for bottle service packages.
URL:https://www.revivaleventvenue.ca/event/destination-dancefloor/
LOCATION:Revival Event Venue\, 783 College Street\, Toronto\, Ontario\, M6G 1C5\, Canada
ATTACH;FMTTYPE=image/jpeg:https://www.revivaleventvenue.ca/wp-content/uploads/2025/01/DestinationDancefloor-March21.jpg
ORGANIZER;CN="Euro Nation":MAILTO:info@euronation.ca
END:VEVENT
BEGIN:VEVENT
DTSTART;TZID=America/Toronto:20250322T213000
DTEND;TZID=America/Toronto:20250323T030000
DTSTAMP:20260424T235756
CREATED:20250128T234026Z
LAST-MODIFIED:20250317T170101Z
UID:5895-1742679000-1742698800@www.revivaleventvenue.ca
SUMMARY:RENAISSANCE - ALL 90s . ALL Night
DESCRIPTION:w/DJ Danny D\, 4Korners\, Mista Jiggz\, Agile\, & Vicious\nBrown Eyes Entertainment in association with DJAgile.com present: \nRENAISSANCE – ALL 90s . ALL Night\nToronto’s Longest Running ALL 90s Party\nMusical soundtrack by \nDANNY D (Z1035\, Drive @ 5 & Wayback Lunch) \n4KORNERS (Toronto Raptors Official DJ) \nAGILE (Kardinal Offishall’s Official DJ) \nMISTA JIGGZ (Brown Eyes Entertainment) \nVICIOUS (808 Entertainment) \nDoors @ 9:30pm | Limited Early Bird and General Admission tickets are SOLD OUT. Limited Last Last tickets on-sale NOW \nFor booth reservations/bottle service\, email david@revivaleventvenue.ca. For group bookings/info.\, email info@browneyesentertainment.com.
URL:https://www.revivaleventvenue.ca/event/renaissance-all-90s/
LOCATION:Revival Event Venue\, 783 College Street\, Toronto\, Ontario\, M6G 1C5\, Canada
ATTACH;FMTTYPE=image/jpeg:https://www.revivaleventvenue.ca/wp-content/uploads/2025/01/Renaissance90sMarch.jpg
ORGANIZER;CN="Brown Eyes Entertainment":MAILTO:info@browneyesentertainment.com
END:VEVENT
BEGIN:VEVENT
DTSTART;TZID=America/Toronto:20250329T220000
DTEND;TZID=America/Toronto:20250330T030000
DTSTAMP:20260424T235756
CREATED:20250110T040405Z
LAST-MODIFIED:20250110T040903Z
UID:5845-1743285600-1743303600@www.revivaleventvenue.ca
SUMMARY:The 2000s Party
DESCRIPTION:We’re taking you back to the Richmond & Adelaide days of Partying! Playing EVERYTHING 2000s: hip hop\, RnB\, house\, funk. \nMusic brought to you by 2nice\, Kamakacci Juice\, C4L\, DJ DK. The 90s Party Group always brings it to Revival. \nmore info coming soon… \nFollow on instagram 
URL:https://www.revivaleventvenue.ca/event/the-2000s-party-2/
LOCATION:Revival Event Venue\, 783 College Street\, Toronto\, Ontario\, M6G 1C5\, Canada
ATTACH;FMTTYPE=image/jpeg:https://www.revivaleventvenue.ca/wp-content/uploads/2025/01/2000sParty-March29.jpg
END:VEVENT
BEGIN:VEVENT
DTSTART;TZID=America/Toronto:20250330T190000
DTEND;TZID=America/Toronto:20250330T220000
DTSTAMP:20260424T235756
CREATED:20250327T224436Z
LAST-MODIFIED:20250327T224436Z
UID:5968-1743361200-1743372000@www.revivaleventvenue.ca
SUMMARY:Babes Babes Babes! Burlesque and Drag Tour
DESCRIPTION:FOUR beautiful Babes tease\, titillate and bring you the babe-liest burlesque show around! \nThis empowering\, sexy\, and comedic show combines burlesque\, drag\, pole dancing\, extravagant costumes and\, of course\, the art of the tease in a raucous naughty show that will leave you wanting more! \nIn addition to all the sultry teases\, the naughty jokes\, and the sparkly thongs\, the Babes celebrate sexuality\, LGBTQ identities\, and body confidence with inspiring performances and heartfelt moments. \nSo grab a ticket\, grab a beverage and indulge in this special adults only evening of cabaret entertainment! Don’t forget to bring cash to tip the performers. \nThe Babes are touring to 20+ cities from Ontario to Newfoundland in 2025. For full details check out babesburlesque.com. \nFEATURING: \nWorld’s #1 Babe: BonBon Bombay \nRuthless Babe: Wrong Note Rusty \nWhat A Babe: Selena Vyle And \nThe Babe Himself: James & The Giant Pasty \nDoors open at 7pm. Show starts at 8pm. \n  \nScreenshot
URL:https://www.revivaleventvenue.ca/event/babes-babes-babes-burlesque-and-drag-tour/
LOCATION:Revival Event Venue\, 783 College Street\, Toronto\, Ontario\, M6G 1C5\, Canada
ATTACH;FMTTYPE=image/jpeg:https://www.revivaleventvenue.ca/wp-content/uploads/2025/03/BabesBurlesqueTour-March30.jpg
ORGANIZER;CN="Boylesque TO":MAILTO:boylesque@gmail.com
END:VEVENT
END:VCALENDAR