BEGIN:VCALENDAR
VERSION:2.0
PRODID:-//Revival Event Venue - Toronto's Premiere Boutique Event Space - ECPv6.15.20//NONSGML v1.0//EN
CALSCALE:GREGORIAN
METHOD:PUBLISH
X-WR-CALNAME:Revival Event Venue - Toronto's Premiere Boutique Event Space
X-ORIGINAL-URL:https://www.revivaleventvenue.ca
X-WR-CALDESC:Events for Revival Event Venue - Toronto's Premiere Boutique Event Space
REFRESH-INTERVAL;VALUE=DURATION:PT1H
X-Robots-Tag:noindex
X-PUBLISHED-TTL:PT1H
BEGIN:VTIMEZONE
TZID:America/Toronto
BEGIN:DAYLIGHT
TZOFFSETFROM:-0500
TZOFFSETTO:-0400
TZNAME:EDT
DTSTART:20230312T070000
END:DAYLIGHT
BEGIN:STANDARD
TZOFFSETFROM:-0400
TZOFFSETTO:-0500
TZNAME:EST
DTSTART:20231105T060000
END:STANDARD
BEGIN:DAYLIGHT
TZOFFSETFROM:-0500
TZOFFSETTO:-0400
TZNAME:EDT
DTSTART:20240310T070000
END:DAYLIGHT
BEGIN:STANDARD
TZOFFSETFROM:-0400
TZOFFSETTO:-0500
TZNAME:EST
DTSTART:20241103T060000
END:STANDARD
BEGIN:DAYLIGHT
TZOFFSETFROM:-0500
TZOFFSETTO:-0400
TZNAME:EDT
DTSTART:20250309T070000
END:DAYLIGHT
BEGIN:STANDARD
TZOFFSETFROM:-0400
TZOFFSETTO:-0500
TZNAME:EST
DTSTART:20251102T060000
END:STANDARD
BEGIN:DAYLIGHT
TZOFFSETFROM:-0500
TZOFFSETTO:-0400
TZNAME:EDT
DTSTART:20260308T070000
END:DAYLIGHT
BEGIN:STANDARD
TZOFFSETFROM:-0400
TZOFFSETTO:-0500
TZNAME:EST
DTSTART:20261101T060000
END:STANDARD
END:VTIMEZONE
BEGIN:VEVENT
DTSTART;TZID=America/Toronto:20241130T220000
DTEND;TZID=America/Toronto:20241201T030000
DTSTAMP:20260425T072822
CREATED:20240909T161628Z
LAST-MODIFIED:20240910T223538Z
UID:5718-1733004000-1733022000@www.revivaleventvenue.ca
SUMMARY:The 2000s Party
DESCRIPTION:2Nice\, Kamakacci Juice\, C4L\, DJ DK presents The 2000s Party. With music by DJ 2Nice\, DJ DK\, Blax dun da Place. This party will be rocked by MC Crazy Chris\, MC Deemz. \nHosted by Kamakacci Juice\, Cease Leon\, KeepingitKeezy\, Davy Tatted Up\, Drewskey the Entertainer\, They Call Her Glossy\, Stress. \nCelebrating the birthday of Stress and all other Sagittarius’s. Dresscode ‘think early 2000’s hiphop fashion. 19+ event.
URL:https://www.revivaleventvenue.ca/event/the-2000s-party/
LOCATION:Revival Event Venue\, 783 College Street\, Toronto\, Ontario\, M6G 1C5\, Canada
ATTACH;FMTTYPE=image/jpeg:https://www.revivaleventvenue.ca/wp-content/uploads/2024/09/2000sParty-Nov30v2.jpg
END:VEVENT
BEGIN:VEVENT
DTSTART;TZID=America/Toronto:20241201T183000
DTEND;TZID=America/Toronto:20241201T213000
DTSTAMP:20260425T072822
CREATED:20241107T163730Z
LAST-MODIFIED:20241107T164407Z
UID:5789-1733077800-1733088600@www.revivaleventvenue.ca
SUMMARY:Pontus & Persia
DESCRIPTION:Performing live onstage. \nMelodies\, songs and rhythms from two centuries-old musical cultures are going to take us to other times. A real musical journey from Pontus to Persia that will enchant us. \n  \n 
URL:https://www.revivaleventvenue.ca/event/pontus-persia/
LOCATION:Revival Event Venue\, 783 College Street\, Toronto\, Ontario\, M6G 1C5\, Canada
ATTACH;FMTTYPE=image/jpeg:https://www.revivaleventvenue.ca/wp-content/uploads/2024/11/PontusPersia-Dec1.jpg
ORGANIZER;CN="Lazo":MAILTO:info@lazo-i.com
END:VEVENT
BEGIN:VEVENT
DTSTART;TZID=America/Toronto:20241206T220000
DTEND;TZID=America/Toronto:20241207T023000
DTSTAMP:20260425T072822
CREATED:20241107T024244Z
LAST-MODIFIED:20241107T024244Z
UID:5780-1733522400-1733538600@www.revivaleventvenue.ca
SUMMARY:Afrobeats & Friends
DESCRIPTION:Kick off the festive period with unlimited Afrobeats Bangers!!!. Come listen to your favourite Afrobeat\, Amapiano\, Dancehall\, Hip-Hop Jams! \nLet’s start the festive month of December with all the Afrobeats and Amapiano songs you love. Get ready to experience an unforgettable night filled with music\, dancing and lots of good energy at Revival Event Venue. \n19+ event / ID required. \n 
URL:https://www.revivaleventvenue.ca/event/afrobeats-friends/
LOCATION:Revival Event Venue\, 783 College Street\, Toronto\, Ontario\, M6G 1C5\, Canada
ATTACH;FMTTYPE=image/jpeg:https://www.revivaleventvenue.ca/wp-content/uploads/2024/11/AfrobeatsFriends-Dec6.jpg
END:VEVENT
BEGIN:VEVENT
DTSTART;TZID=America/Toronto:20241207T213000
DTEND;TZID=America/Toronto:20241208T023000
DTSTAMP:20260425T072822
CREATED:20241025T185651Z
LAST-MODIFIED:20241115T185025Z
UID:5773-1733607000-1733625000@www.revivaleventvenue.ca
SUMMARY:Forever Young - 80s Dance Party with Maestro Fresh Wes
DESCRIPTION:For the first time ever\, Toronto’s hottest 80’s party features a special live performance from legendary Canadian Hip-Hop artist and Canadian Music Hall of Fame inductee\, MAESTRO FRESH WES! Get ready to Let Your Backbone Slide as we celebrate the birthday of the one and only\, Mista Jiggz. \nMusic provided by special guests DJ Riccachet (of Sweet Touch Foundation) and DJ Agile (Kardinal Offishall’s DJ) alongside Forever Young resident\, Mista Jiggz. Hosted by Husein Madhavji and Salima Rawji. \nStrap on your dancing shoes and get your voices ready as we take you on a journey through the 80s\, playing Pop\, New Wave\, RnB\, Rap\, House\, Funk\, Freestyle\, Reggae + more. \nDoors @ 9:30pm. Limited $20 Early Bird tickets on-sale Friday\, November 1st @ 12pm. \nwww.browneyesentertainment.com \nFor booth reservations/bottle service\, email david@revivaleventvenue.ca. For group bookings/info.\, email info@browneyesentertainment.com \nPresented by Brown Eyes Entertainment in association with Sweet Touch Foundation. Supported by NuFunk\, Play De Record\, and Canterbury Crescent Filmworks.
URL:https://www.revivaleventvenue.ca/event/forever-young-80s-dance-party/
LOCATION:Revival Event Venue\, 783 College Street\, Toronto\, Ontario\, M6G 1C5\, Canada
ATTACH;FMTTYPE=image/jpeg:https://www.revivaleventvenue.ca/wp-content/uploads/2024/10/ForeverYoung-Dec7LR-1.jpg
ORGANIZER;CN="Brown Eyes Entertainment":MAILTO:info@browneyesentertainment.com
END:VEVENT
BEGIN:VEVENT
DTSTART;TZID=America/Toronto:20241210T180000
DTEND;TZID=America/Toronto:20241210T213000
DTSTAMP:20260425T072822
CREATED:20241204T045902Z
LAST-MODIFIED:20241204T045902Z
UID:5805-1733853600-1733866200@www.revivaleventvenue.ca
SUMMARY:Agency Panel & Holiday Social - Small Agency\, Big Impact
DESCRIPTION:Come join us for a fun evening of networking and discussion with small agency experts making a big impact in the industry! \nSave the date! And plan to join us for “Small Agency\, Big Impact\,” AMA Toronto’s 9th annual Agency Panel and Holiday Social! \nThe Agency Panel explores the opinions and experiences of bellwether marketers from the Canadian agency sector in order to predict and discuss emerging or ongoing trends\, as well as challenges and opportunities facing our industry in the upcoming year. \nThis year’s event will spotlight small agencies making a big impact across the Canadian marketing landscape. \nA diverse panel of progressive leaders has been assembled from some of the country’s small but mighty independent agencies to lead a lively discussion about leadership\, innovation\, as well as AI and other industry trends.
URL:https://www.revivaleventvenue.ca/event/agency-panel-holiday-social-small-agency-big-impact/
LOCATION:Revival Event Venue\, 783 College Street\, Toronto\, Ontario\, M6G 1C5\, Canada
ATTACH;FMTTYPE=image/jpeg:https://www.revivaleventvenue.ca/wp-content/uploads/2024/12/SmallAgency-Dec10.jpg
END:VEVENT
BEGIN:VEVENT
DTSTART;TZID=America/Toronto:20241210T203000
DTEND;TZID=America/Toronto:20241210T233000
DTSTAMP:20260425T072822
CREATED:20241204T062013Z
LAST-MODIFIED:20241204T062013Z
UID:5808-1733862600-1733873400@www.revivaleventvenue.ca
SUMMARY:AMA Toronto 9th Annual Holiday Social
DESCRIPTION:Save the date and plan to join us for AMA Toronto’s annual Holiday Social! \nThis event is the perfect chance to connect\, mingle and relax before the holiday season. Prepare for an evening brimming with laughter\, exciting games\, and delicious hors d’oeuvres. We can’t wait to see you there! \nPlease note that the Agency Panel requires a separate ticket. If you’d like to attend both the panel and the social\, be sure to click here to secure your spot.
URL:https://www.revivaleventvenue.ca/event/ama-toronto-9th-annual-holiday-social/
LOCATION:Revival Event Venue\, 783 College Street\, Toronto\, Ontario\, M6G 1C5\, Canada
ATTACH;FMTTYPE=image/jpeg:https://www.revivaleventvenue.ca/wp-content/uploads/2024/12/AMAholidaySocial-Dec10.jpg
END:VEVENT
BEGIN:VEVENT
DTSTART;TZID=America/Toronto:20241214T220000
DTEND;TZID=America/Toronto:20241215T023000
DTSTAMP:20260425T072822
CREATED:20241114T211528Z
LAST-MODIFIED:20241201T015149Z
UID:5793-1734213600-1734229800@www.revivaleventvenue.ca
SUMMARY:The Chosen Few DJs & Teefa Live
DESCRIPTION:United Soul proudly presents The Chosen Few DJs (Toronto Edition) \nFeaturing\nwww.chosenfewdjs.com \n  • Wayne Williams\n  • Terry Hunter\n  • Alan King \nSpecial Live Performance by: TEEFA (Mirrorball Recordings) singing her hit single International (produced by Terry Hunter) \nOpening set\nDJ YOGI\nSpecial Live Performance by TEEFA (Mirrorball Recordings)\nsinging her hit single International (produced by Terry Hunter) \nHosted by Arcadia – Gsine\, Brigette\, Jay Cleary & Raoul \nTickets: $20 / $25 / $30. Group bookings / info: unitedsoul@gmail.com \nChosen Few bio\nFounded by Wayne Williams in 1977\, the Chosen Few Disco Corp.\, a group of popular DJs from Chicago’s South Side – Williams\, Jesse Saunders\, Tony Hatchett\, Alan King and Andre Hatchett – were part of the first wave of DJs and producers in Chicago who created the sound that became known as House Music. Later naming themselves the Chosen Few DJs\, the collective first played their unique brand of soulful dance music to huge crowds throughout Chicago\, then spread their sound across the world. To the original group of five\, the Chosen Few DJs added two new members – Terry Hunter and Mike Dunn\, in 2006 and 2012\, respectively. \nSince 1990\, the group has organized the Chosen Few Picnic & Festival\, which draws an estimated 50\,000 House Music fans to Chicago’s Jackson Park each July. In addition to their signature event\, the Chosen Few DJs regularly host events in Atlanta\, Chicago\, Houston\, Las Vegas\, Los Angeles and New York\, perform at festivals around the globe\, including the Amsterdam Dance Event\, Winter Music Conference\, and Suncébeat\, and continue to produce award-winning music.
URL:https://www.revivaleventvenue.ca/event/the-chosen-few-djs-teefa-live/
LOCATION:Revival Event Venue\, 783 College Street\, Toronto\, Ontario\, M6G 1C5\, Canada
ATTACH;FMTTYPE=image/jpeg:https://www.revivaleventvenue.ca/wp-content/uploads/2024/11/Unknown-2-scaled.jpg
END:VEVENT
BEGIN:VEVENT
DTSTART;TZID=America/Toronto:20241231T223000
DTEND;TZID=America/Toronto:20250101T040000
DTSTAMP:20260425T072822
CREATED:20241227T164439Z
LAST-MODIFIED:20241227T164439Z
UID:5832-1735684200-1735704000@www.revivaleventvenue.ca
SUMMARY:¡Suáh! New Year's Eve
DESCRIPTION:Los latinos sabemos que si no hay ritual\, no hay buena suerte\, ¿verdad? \nDesde la ropa interior amarilla para no quedarnos pobres\, las 12 uvas para los 12 deseos\, las maletas en la puerta por si por fin este año sí viajamos… ¡las tradiciones nunca FALTAN! \nPero hay otra tradición que no se menciona mucho y que también cumple TODO latino: \n¡EMPEZAR EL AÑO MÁS BORRACHO DE LO QUE LO TERMINASTE! 🍻 \nPor eso este año vamos con todo en el mejor spot para NYE: Revival. 🕛🎉 \n¿QUÉ TE ESPERA EN ESTA LOCURA?\n🚨 Dos formas de unirte a la fiesta: \n1️⃣ Ticket individual: ¿Vienes solo o con pocos amigos? Compra tu entrada\, entra a la pista y deja que el alcohol haga el resto. \n2️⃣ Plan VIP para mesas: Si tu crew es grande (8. o mas personas)\, esta es para ustedes: \n\nTickets para el grupo.\nBotellita de Prosecco pa’ brindar como millonarios.🥂\nCharcuterie Tray para fingir elegancia mientras te bajas otro trago.\n12 Uvas para hacer pedir tus deseos… aunque a las 3\, ya nadie se acuerde de ninguno.\nY servicio de alcohol\, porque sabemos que lo necesitas.\n\n¿Qué necesitas hacer? \n\n¿Solo un ticket? Compra aquí:\n¿Reservar mesa pa’l squad? Escríbenos a  hola@suah.ca  o mándanos un WhatsApp al +1 (289) 813-3958.\n\n📸 Nota seria (por si acaso):\nHabrá un equipo de fotografía. Si no quieres que tu cara termine en las redes\, díselo al fotógrafo (aunque después del tercer trago\, no prometemos nada). \n🎟️ Dato importante:\nLas entradas online solo garantizan la entrada hasta las 12:00 AM\, ¡así que llega temprano antes de que la fila parezca concierto de Bad Bunny! \n\nWe Latinos know that if there is no ritual\, there is no good luck\, right? From the yellow underwear so we don’t stay poor\, the 12 grapes for the 12 wishes\, the suitcases at the door in case we finally travel this year… traditions are never MISSING! \nBut there is another tradition that is not mentioned much and that is also observed by EVERY Latino: START THE YEAR DRUNKER THAN YOU ENDED IT! 🍻 That’s why this year we’re going all out on the best spot for NYE: Revival. 🕛🎉 \nWhat awaits you in this madness\n🚨 Two ways to join the party: \n1️⃣ Individual ticket: Are you coming alone or with a few friends? Buy your ticket\, hit the dance floor and let the alcohol do the rest. \nSerious note (just in case):\nThere will be a photography team. If you don’t want your face to end up on the internet\, tell the photographer (although after the third drink\, we make no promises). \n🎟️ Important information:\nOnline tickets only guarantee entry until 12:00 AM\, so get there early before the line looks like a Bad Bunny concert!”>
URL:https://www.revivaleventvenue.ca/event/suah-new-years-eve/
LOCATION:Revival Event Venue\, 783 College Street\, Toronto\, Ontario\, M6G 1C5\, Canada
ATTACH;FMTTYPE=image/jpeg:https://www.revivaleventvenue.ca/wp-content/uploads/2024/12/SuahNYE-dec31.jpg
END:VEVENT
END:VCALENDAR